BEGIN:VCALENDAR
VERSION:2.0
PRODID:-//Newton Cultural Alliance - ECPv6.13.2.1//NONSGML v1.0//EN
CALSCALE:GREGORIAN
METHOD:PUBLISH
X-ORIGINAL-URL:https://newtonculture.org
X-WR-CALDESC:Events for Newton Cultural Alliance
REFRESH-INTERVAL;VALUE=DURATION:PT1H
X-Robots-Tag:noindex
X-PUBLISHED-TTL:PT1H
BEGIN:VTIMEZONE
TZID:America/New_York
BEGIN:DAYLIGHT
TZOFFSETFROM:-0500
TZOFFSETTO:-0400
TZNAME:EDT
DTSTART:20230312T070000
END:DAYLIGHT
BEGIN:STANDARD
TZOFFSETFROM:-0400
TZOFFSETTO:-0500
TZNAME:EST
DTSTART:20231105T060000
END:STANDARD
END:VTIMEZONE
BEGIN:VEVENT
DTSTART;TZID=America/New_York:20230823T173000
DTEND;TZID=America/New_York:20230823T193000
DTSTAMP:20260421T093242
CREATED:20230803T162433Z
LAST-MODIFIED:20230803T162433Z
UID:10020897-1692811800-1692819000@newtonculture.org
SUMMARY:NewTV presents The 3rd Annual Cones 'n Cars
DESCRIPTION:NewTV’s 3rd Annual Cones ‘n Cars is the one ‘n only classic car show combined with an ice cream social. Join NewTV on Wednesday\, August 23rd from 5:30PM-7:30PM in our parking lot at 23 Needham Street\, Newton. \nEnjoy sweets ‘n treats from Cabot’s\, Bakers’ Best\, Pizzi Farm\, Volante Farmsthe Astound ice cream truck\, and more! Check out the sleek ‘n unique classic cars\, and don’t forget to vote for your favorite in our Fan Favorite contest! \nAdmission is free and all are welcome! Registration is not required\,  signing-up in advance is recommended so they have an idea of headcount and for easy check-in. \n*If you will be showcasing your classic car (1980’s and earlier)\, please register under “Classic Car Owners.” Parking spots will be distributed on a first come\, first served basis.* \nCones ‘n Cars 2023 is possible thanks to generous donations from our friends at KS Labs @ Newton Highlands and our Diamond Partner The Village Bank. \n 
URL:https://newtonculture.org/event/newtv-presents-the-3rd-annual-cones-n-cars/
LOCATION:NewTV\, 23 Needham St\, Newton\, MA\, 02461\, United States
CATEGORIES:Community Event,Family Friendly
ATTACH;FMTTYPE=image/png:https://newtonculture.org/wp-content/uploads/2023/08/EventbriteHeader.png
ORGANIZER;CN="NewTV":MAILTO:newtv@newtv.org
END:VEVENT
END:VCALENDAR