BEGIN:VCALENDAR
VERSION:2.0
PRODID:-//Newton Cultural Alliance - ECPv6.13.2.1//NONSGML v1.0//EN
CALSCALE:GREGORIAN
METHOD:PUBLISH
X-WR-CALNAME:Newton Cultural Alliance
X-ORIGINAL-URL:https://newtonculture.org
X-WR-CALDESC:Events for Newton Cultural Alliance
REFRESH-INTERVAL;VALUE=DURATION:PT1H
X-Robots-Tag:noindex
X-PUBLISHED-TTL:PT1H
BEGIN:VTIMEZONE
TZID:America/New_York
BEGIN:DAYLIGHT
TZOFFSETFROM:-0500
TZOFFSETTO:-0400
TZNAME:EDT
DTSTART:20230312T070000
END:DAYLIGHT
BEGIN:STANDARD
TZOFFSETFROM:-0400
TZOFFSETTO:-0500
TZNAME:EST
DTSTART:20231105T060000
END:STANDARD
END:VTIMEZONE
BEGIN:VEVENT
DTSTART;TZID=America/New_York:20230828T174500
DTEND;TZID=America/New_York:20230828T214500
DTSTAMP:20260421T093134
CREATED:20230727T235549Z
LAST-MODIFIED:20230727T235549Z
UID:10020871-1693244700-1693259100@newtonculture.org
SUMMARY:Commonwealth Chorale Auditions
DESCRIPTION:Commonwealth Chorale seeks singers of all voice types who have strong vocal and sight-reading skills. Auditions will be held by appointment on the evenings of Monday\, August 28 and Tuesday August 29 between 5:45 and 9:45 PM. Auditions can also be scheduled before rehearsal between 5:45 and 6:45 PM on Tuesday\, September 5 and Tuesday\, September 12. Auditions are at our new rehearsal location at First Baptist Church\, 848 Beacon Street in Newton Center\, a few minutes walk from the Newton Center stop on the “D” branch of the MBTA’s Green Line. Ample free parking is also available close-by. An overview of our 2023 – 2024 season can be found on our website: www.commonwealthchorale.com.\nTo apply for an audition\, click here: https://commonwealthchorale.com/join-us
URL:https://newtonculture.org/event/commonwealth-chorale-auditions/
LOCATION:First Baptist Church in Newton\, 848 Beacon St\, Newton\, MA\, 02459\, United States
CATEGORIES:Music,Performing Arts
ATTACH;FMTTYPE=image/png:https://newtonculture.org/wp-content/uploads/2023/07/CC-logo-MD_0.png
ORGANIZER;CN="Commonwealth Chorale":MAILTO:info@commonwealthchorale.com
END:VEVENT
BEGIN:VEVENT
DTSTART;TZID=America/New_York:20230828T174500
DTEND;TZID=America/New_York:20230828T214500
DTSTAMP:20260421T093134
CREATED:20230802T150654Z
LAST-MODIFIED:20230802T150654Z
UID:10020896-1693244700-1693259100@newtonculture.org
SUMMARY:Commonwealth Chorale Auditions
DESCRIPTION:Commonwealth Chorale seeks singers of all voice types who have strong vocal and sight-reading skills. Auditions will be held by appointment on the evenings of Monday\, August 28 and Tuesday August 29 between 5:45 and 9:45 PM. Auditions can also be scheduled before rehearsal between 5:45 and 6:45 PM on Tuesday\, September 5 and Tuesday\, September 12. Auditions are at our new rehearsal location at First Baptist Church\, 848 Beacon Street in Newton Center\, a few minutes walk from the Newton Center stop on the “D” branch of the MBTA’s Green Line. Ample free parking is also available close-by. An overview of our 2023 – 2024 season can be found on our website: www.commonwealthchorale.com.\nTo apply for an audition\, click here: https://commonwealthchorale.com/join-us
URL:https://newtonculture.org/event/commonwealth-chorale-auditions-3/
LOCATION:First Baptist Church in Newton\, 848 Beacon St\, Newton\, MA\, 02459\, United States
CATEGORIES:Art,Music,Performing Arts
ORGANIZER;CN="Commonwealth Chorale":MAILTO:info@commonwealthchorale.com
END:VEVENT
BEGIN:VEVENT
DTSTART;TZID=America/New_York:20230828T174500
DTEND;TZID=America/New_York:20230829T214500
DTSTAMP:20260421T093134
CREATED:20230728T154354Z
LAST-MODIFIED:20230728T154354Z
UID:10020883-1693244700-1693345500@newtonculture.org
SUMMARY:Commonwealth Chorale hosts 2023 Audition Dates​​
DESCRIPTION:Commonwealth Chorale seeks choral singers of all voice types who have strong vocal and sight-reading skills. \nAuditions will be held by appointment on the evenings of Monday\, August 28 and Tuesday August 29 between 5:45 and 9:45 PM. Auditions can also be scheduled before rehearsal between 5:45 and 6:45 PM on Tuesday\, September 5 and Tuesday\, September 12. Auditions are at our new rehearsal location at First Baptist Church\, 848 Beacon Street in Newton Center\, a few minutes walk from the Newton Center stop on the “D” branch of the MBTA’s Green Line. To request an audition\, tap or click on the “Read More” button below.
URL:https://newtonculture.org/event/commonwealth-chorale-hosts-2023-audition-dates/
LOCATION:MA
CATEGORIES:Music
ATTACH;FMTTYPE=image/png:https://newtonculture.org/wp-content/uploads/2023/07/CC-logo-Artistic-director_200-2a.png
ORGANIZER;CN="Commonwealth Chorale":MAILTO:info@commonwealthchorale.com
END:VEVENT
END:VCALENDAR