BEGIN:VCALENDAR
VERSION:2.0
PRODID:-//Newton Cultural Alliance - ECPv6.13.2.1//NONSGML v1.0//EN
CALSCALE:GREGORIAN
METHOD:PUBLISH
X-WR-CALNAME:Newton Cultural Alliance
X-ORIGINAL-URL:https://newtonculture.org
X-WR-CALDESC:Events for Newton Cultural Alliance
REFRESH-INTERVAL;VALUE=DURATION:PT1H
X-Robots-Tag:noindex
X-PUBLISHED-TTL:PT1H
BEGIN:VTIMEZONE
TZID:America/New_York
BEGIN:DAYLIGHT
TZOFFSETFROM:-0500
TZOFFSETTO:-0400
TZNAME:EDT
DTSTART:20230312T070000
END:DAYLIGHT
BEGIN:STANDARD
TZOFFSETFROM:-0400
TZOFFSETTO:-0500
TZNAME:EST
DTSTART:20231105T060000
END:STANDARD
END:VTIMEZONE
BEGIN:VEVENT
DTSTART;TZID=America/New_York:20230907T190000
DTEND;TZID=America/New_York:20230907T210000
DTSTAMP:20260421T093155
CREATED:20230728T150925Z
LAST-MODIFIED:20230728T150925Z
UID:10020876-1694113200-1694120400@newtonculture.org
SUMMARY:Scandinavian Cultural Center presents Vidar Skrede
DESCRIPTION:Join the Scandinavian Cultural Center for an evening of fiddle music from Norway and Scandinavia with Vidar Skrede. Vidar is a performer\, composer\, producer\, and teacher of Nordic folk music. He is originally from western Norway and has been a US resident since 2016\, currently living in Milwaukee\, WI. On September 7th he will present both traditional music from Norway and his own original tunes\, on fiddle\, Hardanger fiddle\, guitar\, and mandolin\, and through the stories behind it all. \nThursday\, September 7th\, 2023 | 7pm | $15; $7 for members | tickets
URL:https://newtonculture.org/event/scandinavian-cultural-center-presents-vidar-skrede/
LOCATION:Scandinavian Cultural Center\, 206 Waltham St\, Newton\, MA\, 02465\, United States
ATTACH;FMTTYPE=image/jpeg:https://newtonculture.org/wp-content/uploads/2023/07/2CF8D6FE-9D37-468B-8464-AEB73BFAD232_2YzZ.jpeg
END:VEVENT
END:VCALENDAR