BEGIN:VCALENDAR
VERSION:2.0
PRODID:-//Newton Cultural Alliance - ECPv6.13.2.1//NONSGML v1.0//EN
CALSCALE:GREGORIAN
METHOD:PUBLISH
X-WR-CALNAME:Newton Cultural Alliance
X-ORIGINAL-URL:https://newtonculture.org
X-WR-CALDESC:Events for Newton Cultural Alliance
REFRESH-INTERVAL;VALUE=DURATION:PT1H
X-Robots-Tag:noindex
X-PUBLISHED-TTL:PT1H
BEGIN:VTIMEZONE
TZID:America/New_York
BEGIN:DAYLIGHT
TZOFFSETFROM:-0500
TZOFFSETTO:-0400
TZNAME:EDT
DTSTART:20230312T070000
END:DAYLIGHT
BEGIN:STANDARD
TZOFFSETFROM:-0400
TZOFFSETTO:-0500
TZNAME:EST
DTSTART:20231105T060000
END:STANDARD
END:VTIMEZONE
BEGIN:VEVENT
DTSTART;TZID=America/New_York:20230908T080000
DTEND;TZID=America/New_York:20230908T170000
DTSTAMP:20260421T093156
CREATED:20230808T153307Z
LAST-MODIFIED:20230808T154835Z
UID:10020898-1694160000-1694192400@newtonculture.org
SUMMARY:Celebrate Newton Holiday Craft Fair 2023 Applications Due
DESCRIPTION:Drumroll Please…The NCA is happy to announce that the Celebrate Newton Holiday Craft Fair 2023 is returning on Sunday\, December 3rd\, 2023. The fair will be held for its 20th year and located at Newton South High School. With over 50 local artisan vendors and a lineup of amazing live musicians\, Celebrate Newton brings the whole community together for this much-loved shopping event. Vendor applications are now open until September 8th\, 2023\, and available by clicking the link below. Please share with anyone who would like to sell their one-of-a-kind crafts at Celebrate Newton. \n\n\n\n\nCraft Fair Application
URL:https://newtonculture.org/event/celebrate-newton-holiday-craft-fair-2023-applications-due/
LOCATION:Newton South High School\, 140 Brandeis Rd\, Newton\, MA\, 02459
ATTACH;FMTTYPE=image/png:https://newtonculture.org/wp-content/uploads/2023/08/CN-2023-800-×-400-px.png
ORGANIZER;CN="Newton Cultural Alliance":MAILTO:contact@newtonculture.org
END:VEVENT
BEGIN:VEVENT
DTSTART;TZID=America/New_York:20230908T180000
DTEND;TZID=America/New_York:20230908T220000
DTSTAMP:20260421T093156
CREATED:20230614T153630Z
LAST-MODIFIED:20230614T153630Z
UID:10019675-1694196000-1694210400@newtonculture.org
SUMMARY:The Hyde Community Center presents Summer in the Highlands
DESCRIPTION:The Hyde Community Center\n2023 Summer in the Highlands\nAll Movies and Concerts are free and take place on Hyde Bandstand at Hyde Playground.\nSponsor for all activities on Hyde Bandstand this summer: The Village Bank.\nIn partnership with the Newton Highlands Neighborhood Area Council.\nFor more information 617-201-7088 or director@hydecenter.org or www.hydecenter.org\nHyde on Twitter @hydehighlands. Hyde on Instagram hydehighlands.\nThe Hyde Community Center is a nonprofit corporation. \nFull Schedule available here.
URL:https://newtonculture.org/event/the-hyde-community-center-presents-summer-in-the-highlands/2023-09-08/
LOCATION:Hyde Community Center\, 90 Lincoln St\, Newton Highlands\, MA\, 02461\, United States
CATEGORIES:Community Event,Family Friendly,Film and Media,Free Event,Music
ATTACH;FMTTYPE=image/jpeg:https://newtonculture.org/wp-content/uploads/2023/06/4ab3022b-ee50-f75c-5de8-169828500020.jpg
ORGANIZER;CN="Hyde Community Center":MAILTO:director@hydecenter.org
END:VEVENT
END:VCALENDAR