BEGIN:VCALENDAR
VERSION:2.0
PRODID:-//Newton Cultural Alliance - ECPv6.13.2.1//NONSGML v1.0//EN
CALSCALE:GREGORIAN
METHOD:PUBLISH
X-ORIGINAL-URL:https://newtonculture.org
X-WR-CALDESC:Events for Newton Cultural Alliance
REFRESH-INTERVAL;VALUE=DURATION:PT1H
X-Robots-Tag:noindex
X-PUBLISHED-TTL:PT1H
BEGIN:VTIMEZONE
TZID:America/New_York
BEGIN:DAYLIGHT
TZOFFSETFROM:-0500
TZOFFSETTO:-0400
TZNAME:EDT
DTSTART:20230312T070000
END:DAYLIGHT
BEGIN:STANDARD
TZOFFSETFROM:-0400
TZOFFSETTO:-0500
TZNAME:EST
DTSTART:20231105T060000
END:STANDARD
BEGIN:DAYLIGHT
TZOFFSETFROM:-0500
TZOFFSETTO:-0400
TZNAME:EDT
DTSTART:20240310T070000
END:DAYLIGHT
BEGIN:STANDARD
TZOFFSETFROM:-0400
TZOFFSETTO:-0500
TZNAME:EST
DTSTART:20241103T060000
END:STANDARD
END:VTIMEZONE
BEGIN:VEVENT
DTSTART;TZID=America/New_York:20230910T080000
DTEND;TZID=America/New_York:20240107T170000
DTSTAMP:20260421T093313
CREATED:20230911T134429Z
LAST-MODIFIED:20230911T134429Z
UID:10019794-1694332800-1704646800@newtonculture.org
SUMMARY:Newton Art Association presents Harmony at Suzuki School of Newton
DESCRIPTION:Harmony at Suzuki School of Newton\nNow through January 7\, 2024 \nSuzuki School of Newton hosts the Newton Art Association exhibition\, Harmony at Suzuki School of Newton from September 10\, 2023 – January 7\, 2024. See works from member artists like Sana Mantell pictured here.
URL:https://newtonculture.org/event/newton-art-association-presents-harmony-at-suzuki-school-of-newton/
LOCATION:Suzuki School of Newton\, 1615 Beacon St\, Waban\, MA\, 02468\, United States
ATTACH;FMTTYPE=image/jpeg:https://newtonculture.org/wp-content/uploads/2023/09/suzuki-image-Sana-Mantell.jpg
ORGANIZER;CN="Newton Art Association":MAILTO:info@newtonartassociation.com
END:VEVENT
BEGIN:VEVENT
DTSTART;TZID=America/New_York:20230928T173000
DTEND;TZID=America/New_York:20230928T184500
DTSTAMP:20260421T093313
CREATED:20230905T141409Z
LAST-MODIFIED:20230905T141409Z
UID:10019755-1695922200-1695926700@newtonculture.org
SUMMARY:Amherst Early Music presents Online Classes
DESCRIPTION:Ensemble Play Along with Tish Berlin – You Can Do It!\n\n\n\nFour sessions focused on ensemble playing starting September 21\n\n5:30 – 7:00 pm\, 21 September 2023 \n\nLetitia \nBerlin\nrecorder\n\n\n\n\nThursdays September 21\, 28\, October 5\, 12\, 2023 from 5:30-6:45pm EST \n\n\nClass Description
URL:https://newtonculture.org/event/amherst-early-music-presents-online-classes-2/2023-09-28/
LOCATION:MA
CATEGORIES:Music
ATTACH;FMTTYPE=image/jpeg:https://newtonculture.org/wp-content/uploads/2023/09/bon_jour_bon_moi_anonymous_escorial_f.18v_0.jpg
ORGANIZER;CN="Amherst Early Music":MAILTO:info@amherstearlymusic.org
END:VEVENT
BEGIN:VEVENT
DTSTART;TZID=America/New_York:20230928T190000
DTEND;TZID=America/New_York:20230928T210000
DTSTAMP:20260421T093313
CREATED:20230908T172409Z
LAST-MODIFIED:20230908T172409Z
UID:10019789-1695927600-1695934800@newtonculture.org
SUMMARY:Memorial Concert for Leslie Parnas
DESCRIPTION:Dear Friends\, \nWe cordially invite you to celebrate and remember our dad\, the world-renowned cellist\, Leslie Parnas. \nPlease join us for an evening of music\, stories and a short video celebrating the life and career of Leslie on September 28 in Boston\, where he lived and taught for 50 years\, or on September 30\, in New York City\, where so many musical connections and life-long friendships were made. \nCicely Parnas\, Leslie’s granddaughter\, will honor the evening by playing Leslie’s cello in a recital deeply connected to his musical legacy. We are thrilled that Cicely will be joined by the celebrated pianist\, Arsentiy Kharitonov. Leslie played his cello every day since 1956\, and now it has been beautifully restored and still resonates with Leslie’s voice and unique sound. \nWe would be honored by your presence at either or both of these events: \n\n\n\nThursday\, September 28\, 2023\, at 7:00 pm\, The Allen Center\, 35 Webster St.\, Newton MA\nSaturday\, September 30\, 2023\, at 4:00 pm\, Rose Studio at CMS (Lincoln Center)\,165 W. 65th St.\, (10th floor)\, New York\, NY\n\n\n\nFamily\, significant others\, friends\, all are welcome! \nGratefully\, \nMarcel and JP Parnas
URL:https://newtonculture.org/event/memorial-concert-for-leslie-parnas/
LOCATION:The Allen Center\, 35 Webster St\, WEST NEWTON\, MA\, 02465\, United States
CATEGORIES:Music,NCA Event
ATTACH;FMTTYPE=image/png:https://newtonculture.org/wp-content/uploads/2023/09/Untitled-design-2023-09-08T132015.413.png
END:VEVENT
END:VCALENDAR