BEGIN:VCALENDAR
VERSION:2.0
PRODID:-//Newton Cultural Alliance - ECPv6.13.2.1//NONSGML v1.0//EN
CALSCALE:GREGORIAN
METHOD:PUBLISH
X-ORIGINAL-URL:https://newtonculture.org
X-WR-CALDESC:Events for Newton Cultural Alliance
REFRESH-INTERVAL;VALUE=DURATION:PT1H
X-Robots-Tag:noindex
X-PUBLISHED-TTL:PT1H
BEGIN:VTIMEZONE
TZID:America/New_York
BEGIN:DAYLIGHT
TZOFFSETFROM:-0500
TZOFFSETTO:-0400
TZNAME:EDT
DTSTART:20230312T070000
END:DAYLIGHT
BEGIN:STANDARD
TZOFFSETFROM:-0400
TZOFFSETTO:-0500
TZNAME:EST
DTSTART:20231105T060000
END:STANDARD
BEGIN:DAYLIGHT
TZOFFSETFROM:-0500
TZOFFSETTO:-0400
TZNAME:EDT
DTSTART:20240310T070000
END:DAYLIGHT
BEGIN:STANDARD
TZOFFSETFROM:-0400
TZOFFSETTO:-0500
TZNAME:EST
DTSTART:20241103T060000
END:STANDARD
END:VTIMEZONE
BEGIN:VEVENT
DTSTART;TZID=America/New_York:20230910T080000
DTEND;TZID=America/New_York:20240107T170000
DTSTAMP:20260421T122854
CREATED:20230911T134429Z
LAST-MODIFIED:20230911T134429Z
UID:10019794-1694332800-1704646800@newtonculture.org
SUMMARY:Newton Art Association presents Harmony at Suzuki School of Newton
DESCRIPTION:Harmony at Suzuki School of Newton\nNow through January 7\, 2024 \nSuzuki School of Newton hosts the Newton Art Association exhibition\, Harmony at Suzuki School of Newton from September 10\, 2023 – January 7\, 2024. See works from member artists like Sana Mantell pictured here.
URL:https://newtonculture.org/event/newton-art-association-presents-harmony-at-suzuki-school-of-newton/
LOCATION:Suzuki School of Newton\, 1615 Beacon St\, Waban\, MA\, 02468\, United States
ATTACH;FMTTYPE=image/jpeg:https://newtonculture.org/wp-content/uploads/2023/09/suzuki-image-Sana-Mantell.jpg
ORGANIZER;CN="Newton Art Association":MAILTO:info@newtonartassociation.com
END:VEVENT
BEGIN:VEVENT
DTSTART;TZID=America/New_York:20231004T173000
DTEND;TZID=America/New_York:20231004T184500
DTSTAMP:20260421T122854
CREATED:20230905T141202Z
LAST-MODIFIED:20230905T141318Z
UID:10020901-1696440600-1696445100@newtonculture.org
SUMMARY:Amherst Early Music presents Online Classes
DESCRIPTION:Music from Escorial MS V.III.24 (ca. 1430-1445)\n\n\n\nNext Early Notation Session with Annette Bauer starts September 20!\n\n\n5:30 – 6:45 pm\, 20 September 2023 \n\n\nAnnette \nBauer\nearly notation & recorder \n\n\n\n\n\nWednesdays September 20\, 27\, October 4\, 11\, 2023 from 5:30-6:45pm EST \n\n\nClass Description
URL:https://newtonculture.org/event/amherst-early-music-presents-online-classes/2023-10-04/
LOCATION:MA
CATEGORIES:Music
ATTACH;FMTTYPE=image/jpeg:https://newtonculture.org/wp-content/uploads/2023/09/bon_jour_bon_moi_anonymous_escorial_f.18v_0.jpg
ORGANIZER;CN="Amherst Early Music":MAILTO:info@amherstearlymusic.org
END:VEVENT
BEGIN:VEVENT
DTSTART;TZID=America/New_York:20231004T191500
DTEND;TZID=America/New_York:20231004T203000
DTSTAMP:20260421T122854
CREATED:20230905T141744Z
LAST-MODIFIED:20230905T141744Z
UID:10019778-1696446900-1696451400@newtonculture.org
SUMMARY:Amherst Early Music presents Online Classes
DESCRIPTION:A Complete Beginner’s Introduction to Early Notation\n\n\n\nEarly Notation for Complete Beginners with Annette Bauer starts October 4!\n\n7:15 – 8:00 pm\, 4 October 2023 \n\nAnnette \nBauer\nearly notation & recorder\n\n\n\n\nWednesdays October 4\, 11\, 18\, 25\, 2023 from 7:15-8:30 pm EST \n\n\nClass Description
URL:https://newtonculture.org/event/amherst-early-music-presents-online-classes-5/2023-10-04/
LOCATION:MA
CATEGORIES:Music
ATTACH;FMTTYPE=image/jpeg:https://newtonculture.org/wp-content/uploads/2023/09/bon_jour_bon_moi_anonymous_escorial_f.18v_0.jpg
ORGANIZER;CN="Amherst Early Music":MAILTO:info@amherstearlymusic.org
END:VEVENT
END:VCALENDAR