BEGIN:VCALENDAR
VERSION:2.0
PRODID:-//Newton Cultural Alliance - ECPv6.13.2.1//NONSGML v1.0//EN
CALSCALE:GREGORIAN
METHOD:PUBLISH
X-ORIGINAL-URL:https://newtonculture.org
X-WR-CALDESC:Events for Newton Cultural Alliance
REFRESH-INTERVAL;VALUE=DURATION:PT1H
X-Robots-Tag:noindex
X-PUBLISHED-TTL:PT1H
BEGIN:VTIMEZONE
TZID:America/New_York
BEGIN:DAYLIGHT
TZOFFSETFROM:-0500
TZOFFSETTO:-0400
TZNAME:EDT
DTSTART:20230312T070000
END:DAYLIGHT
BEGIN:STANDARD
TZOFFSETFROM:-0400
TZOFFSETTO:-0500
TZNAME:EST
DTSTART:20231105T060000
END:STANDARD
BEGIN:DAYLIGHT
TZOFFSETFROM:-0500
TZOFFSETTO:-0400
TZNAME:EDT
DTSTART:20240310T070000
END:DAYLIGHT
BEGIN:STANDARD
TZOFFSETFROM:-0400
TZOFFSETTO:-0500
TZNAME:EST
DTSTART:20241103T060000
END:STANDARD
END:VTIMEZONE
BEGIN:VEVENT
DTSTART;TZID=America/New_York:20230910T080000
DTEND;TZID=America/New_York:20240107T170000
DTSTAMP:20260421T122853
CREATED:20230911T134429Z
LAST-MODIFIED:20230911T134429Z
UID:10019794-1694332800-1704646800@newtonculture.org
SUMMARY:Newton Art Association presents Harmony at Suzuki School of Newton
DESCRIPTION:Harmony at Suzuki School of Newton\nNow through January 7\, 2024 \nSuzuki School of Newton hosts the Newton Art Association exhibition\, Harmony at Suzuki School of Newton from September 10\, 2023 – January 7\, 2024. See works from member artists like Sana Mantell pictured here.
URL:https://newtonculture.org/event/newton-art-association-presents-harmony-at-suzuki-school-of-newton/
LOCATION:Suzuki School of Newton\, 1615 Beacon St\, Waban\, MA\, 02468\, United States
ATTACH;FMTTYPE=image/jpeg:https://newtonculture.org/wp-content/uploads/2023/09/suzuki-image-Sana-Mantell.jpg
ORGANIZER;CN="Newton Art Association":MAILTO:info@newtonartassociation.com
END:VEVENT
BEGIN:VEVENT
DTSTART;TZID=America/New_York:20231021T183000
DTEND;TZID=America/New_York:20231021T183000
DTSTAMP:20260421T122853
CREATED:20230927T154038Z
LAST-MODIFIED:20230927T154038Z
UID:10020918-1697913000-1697913000@newtonculture.org
SUMMARY:Andromeda of Boston presents The Halloween Hafla
DESCRIPTION:The Halloween Hafla\nSaturday\, October 21\, 6:30 pm \nAndromeda of Boston presents The Halloween Hafla. Arabic for the word party\, this Hafla is a bi-annual multicultural showcase of dance ranging from MENAHT (Middle Eastern\, North African\, Hellenic\, Turkish) to Asian\, Balkan\, and Eastern European styles. It is a fun opportunity for the community to experience multicultural dance and music in person. Andromeda of Boston strives to promote peace and joy through dance. There will be refreshments and social dancing after the performance.
URL:https://newtonculture.org/event/andromeda-of-boston-presents-the-halloween-hafla/
LOCATION:MA
ATTACH;FMTTYPE=image/jpeg:https://newtonculture.org/wp-content/uploads/2023/09/Screenshot2023-08-15091140.jpg
ORGANIZER;CN="Andromeda of Boston":MAILTO:AndromedaOfBoston@gmail.com
END:VEVENT
BEGIN:VEVENT
DTSTART;TZID=America/New_York:20231021T190000
DTEND;TZID=America/New_York:20231021T210000
DTSTAMP:20260421T122853
CREATED:20231018T160418Z
LAST-MODIFIED:20231018T160418Z
UID:10020928-1697914800-1697922000@newtonculture.org
SUMMARY:An Uncommon Education: The Allen School Documentary
DESCRIPTION:An Uncommon Education: The Allen School Documentary\nSaturday\, October 21\, 7:00 pm \nPlease join Historic Newton for the premiere of “An Uncommon Education: The Allen School\,” a 40-minute documentary film that highlights the educators\, students\, and legacy of the West Newton English and Classical School\, better known as the Allen School (1854-1900). Enjoy a cocktail reception and hear from the film’s creators during a live panel discussion at The Allen Center\, the historic homestead of Nathaniel Topliff Allen lovingly renovated into a Center for Arts and Culture in Newton.
URL:https://newtonculture.org/event/an-uncommon-education-the-allen-school-documentary/
LOCATION:The Allen Center\, 35 Webster St\, WEST NEWTON\, MA\, 02465\, United States
ATTACH;FMTTYPE=image/jpeg:https://newtonculture.org/wp-content/uploads/2023/10/f0012081-bfe4-b0e4-9759-e7f4154f64d0.jpg
END:VEVENT
BEGIN:VEVENT
DTSTART;TZID=America/New_York:20231021T193000
DTEND;TZID=America/New_York:20231021T193000
DTSTAMP:20260421T122853
CREATED:20231018T165044Z
LAST-MODIFIED:20231018T165044Z
UID:10020931-1697916600-1697916600@newtonculture.org
SUMMARY:Newton Baroque presents From the Würzburg Residence
DESCRIPTION:Saturday\, October 21\nFrom the Würzburg Residence: Sonatas for Cello\, for Oboe\, and for Keyboard by Giovanni Platti\nAlison Gangler – Oboe\, Sarah Freiberg Ellison – Cello\, Andrus Madsen – Keyboard
URL:https://newtonculture.org/event/newton-baroque-presents-from-the-wurzburg-residence/
LOCATION:Second Church in Newton\, 60 Highland St.\, West Newton\, MA\, 02465\, United States
CATEGORIES:Music
ATTACH;FMTTYPE=image/jpeg:https://newtonculture.org/wp-content/uploads/2023/10/7066473_orig-2.jpg
END:VEVENT
END:VCALENDAR