BEGIN:VCALENDAR
VERSION:2.0
PRODID:-//Newton Cultural Alliance - ECPv6.13.2.1//NONSGML v1.0//EN
CALSCALE:GREGORIAN
METHOD:PUBLISH
X-WR-CALNAME:Newton Cultural Alliance
X-ORIGINAL-URL:https://newtonculture.org
X-WR-CALDESC:Events for Newton Cultural Alliance
REFRESH-INTERVAL;VALUE=DURATION:PT1H
X-Robots-Tag:noindex
X-PUBLISHED-TTL:PT1H
BEGIN:VTIMEZONE
TZID:America/New_York
BEGIN:DAYLIGHT
TZOFFSETFROM:-0500
TZOFFSETTO:-0400
TZNAME:EDT
DTSTART:20230312T070000
END:DAYLIGHT
BEGIN:STANDARD
TZOFFSETFROM:-0400
TZOFFSETTO:-0500
TZNAME:EST
DTSTART:20231105T060000
END:STANDARD
BEGIN:DAYLIGHT
TZOFFSETFROM:-0500
TZOFFSETTO:-0400
TZNAME:EDT
DTSTART:20240310T070000
END:DAYLIGHT
BEGIN:STANDARD
TZOFFSETFROM:-0400
TZOFFSETTO:-0500
TZNAME:EST
DTSTART:20241103T060000
END:STANDARD
END:VTIMEZONE
BEGIN:VEVENT
DTSTART;TZID=America/New_York:20230910T080000
DTEND;TZID=America/New_York:20240107T170000
DTSTAMP:20260421T122748
CREATED:20230911T134429Z
LAST-MODIFIED:20230911T134429Z
UID:10019794-1694332800-1704646800@newtonculture.org
SUMMARY:Newton Art Association presents Harmony at Suzuki School of Newton
DESCRIPTION:Harmony at Suzuki School of Newton\nNow through January 7\, 2024 \nSuzuki School of Newton hosts the Newton Art Association exhibition\, Harmony at Suzuki School of Newton from September 10\, 2023 – January 7\, 2024. See works from member artists like Sana Mantell pictured here.
URL:https://newtonculture.org/event/newton-art-association-presents-harmony-at-suzuki-school-of-newton/
LOCATION:Suzuki School of Newton\, 1615 Beacon St\, Waban\, MA\, 02468\, United States
ATTACH;FMTTYPE=image/jpeg:https://newtonculture.org/wp-content/uploads/2023/09/suzuki-image-Sana-Mantell.jpg
ORGANIZER;CN="Newton Art Association":MAILTO:info@newtonartassociation.com
END:VEVENT
BEGIN:VEVENT
DTSTART;TZID=America/New_York:20231028T140000
DTEND;TZID=America/New_York:20231028T160000
DTSTAMP:20260421T122748
CREATED:20230927T150610Z
LAST-MODIFIED:20240205T215948Z
UID:10020913-1698501600-1698508800@newtonculture.org
SUMMARY:PRIDE AND PREJUDICE - FALL 2023
DESCRIPTION:PRIDE AND PREJUDICE – FALL 2023\nExperience Pride and Prejudice reimagined!\n​\nUnder the direction of Melissa Bernstein\, an all-woman ensemble brings to life Jane Austen’s timeless characters in this loving and irreverent adaptation by Claire Wittman.Romance\, wit\, and societal antics await you in Jane Austen’s story of the Bennet family and their adventures! \nDue to unconventional seating\, tickets may sell out quickly. Buy yours today! \nClick here to buy tickets! \nFriday October 27th at 8pm\nSaturday October 28th at 2pm\nSaturday October 28th at 8pm \nFriday November 3rd at 8pm\nSaturday November 4th at 2pm\nSaturday November 4th at 8pm \nSt. John’s Episcopal Church\n96 Otis Street\, Newtonville MA
URL:https://newtonculture.org/event/15034/2023-10-28/
LOCATION:St John’s Episcopal Church\, Newton\, MA\, 297 Lowell Avenue\, Newtonville\, MA\, 02460
ORGANIZER;CN="Newton Theatre Company":MAILTO:info@newtontheatrecompany.com
END:VEVENT
BEGIN:VEVENT
DTSTART;TZID=America/New_York:20231028T140000
DTEND;TZID=America/New_York:20231028T160000
DTSTAMP:20260421T122748
CREATED:20231018T165701Z
LAST-MODIFIED:20231018T165701Z
UID:10020934-1698501600-1698508800@newtonculture.org
SUMMARY:Newton Theatre Company presents Pride and Prejudice
DESCRIPTION:Experience Pride and Prejudice\, as reimagined by Newton Theatre Company as they continue their tradition of refreshing takes on beloved classics. Under the direction of Melissa Bernstein\, an all-woman ensemble brings to life Jane Austen’s timeless characters in this loving and irreverent adaptation by Claire Wittman. Romance\, wit\, and societal antics await you in Jane Austen’s story of the Bennet family and their schemes and adventures! Don’t miss this delightful theatrical production. Buy your tickets now. \nOctober 27th at 8pm\nOctober 28th at 2pm\nOctober 28th at 8pm\nNovember 3th at 8pm\nNovember 4th at 2pm\nNovember 4th at 8pm \n96 Otis Street Newtonville
URL:https://newtonculture.org/event/newton-theatre-company-presents-pride-and-prejudice/2023-10-28/1/
LOCATION:St John’s Episcopal Church\, Newton\, MA\, 297 Lowell Avenue\, Newtonville\, MA\, 02460
ATTACH;FMTTYPE=image/png:https://newtonculture.org/wp-content/uploads/2023/10/PP-Graphic.png
ORGANIZER;CN="Newton Theatre Company":MAILTO:info@newtontheatrecompany.com
END:VEVENT
BEGIN:VEVENT
DTSTART;TZID=America/New_York:20231028T150000
DTEND;TZID=America/New_York:20231028T163000
DTSTAMP:20260421T122748
CREATED:20231009T184404Z
LAST-MODIFIED:20231018T165315Z
UID:10020924-1698505200-1698510600@newtonculture.org
SUMMARY:Highland Glee Club presents Gilbert & Sullivan Concert
DESCRIPTION:The Highland Glee Club will be presenting works of Leonard Bernstein and Gilbert & Sullivan.\nOur four part men’s chorus will be singing “Tonight”\, “Maria” and several other selections from Bernstein. There will also be “The Chorus of Peers’. “A Wandering Minstrel I” and many other\nGilbert & Sullivan favorites. We are honored to be joined by Gilbert & Sullivan all stars Tom Frates\, Ben Morse\, and Paul Barrett.
URL:https://newtonculture.org/event/gilbert-sullivan-concert/
LOCATION:War Memorial Auditorium\, 1000 Commonwealth Avenue\, Newton\, 02459\, United States
CATEGORIES:Music
ATTACH;FMTTYPE=image/png:https://newtonculture.org/wp-content/uploads/2023/09/HGC-Oct-28-Concert.png
END:VEVENT
BEGIN:VEVENT
DTSTART;TZID=America/New_York:20231028T200000
DTEND;TZID=America/New_York:20231028T220000
DTSTAMP:20260421T122748
CREATED:20231018T165701Z
LAST-MODIFIED:20231018T165701Z
UID:10020935-1698523200-1698530400@newtonculture.org
SUMMARY:Newton Theatre Company presents Pride and Prejudice
DESCRIPTION:Experience Pride and Prejudice\, as reimagined by Newton Theatre Company as they continue their tradition of refreshing takes on beloved classics. Under the direction of Melissa Bernstein\, an all-woman ensemble brings to life Jane Austen’s timeless characters in this loving and irreverent adaptation by Claire Wittman. Romance\, wit\, and societal antics await you in Jane Austen’s story of the Bennet family and their schemes and adventures! Don’t miss this delightful theatrical production. Buy your tickets now. \nOctober 27th at 8pm\nOctober 28th at 2pm\nOctober 28th at 8pm\nNovember 3th at 8pm\nNovember 4th at 2pm\nNovember 4th at 8pm \n96 Otis Street Newtonville
URL:https://newtonculture.org/event/newton-theatre-company-presents-pride-and-prejudice/2023-10-28/2/
LOCATION:St John’s Episcopal Church\, Newton\, MA\, 297 Lowell Avenue\, Newtonville\, MA\, 02460
ATTACH;FMTTYPE=image/png:https://newtonculture.org/wp-content/uploads/2023/10/PP-Graphic.png
ORGANIZER;CN="Newton Theatre Company":MAILTO:info@newtontheatrecompany.com
END:VEVENT
BEGIN:VEVENT
DTSTART;TZID=America/New_York:20231028T200000
DTEND;TZID=America/New_York:20231028T220000
DTSTAMP:20260421T122748
CREATED:20240205T222422Z
LAST-MODIFIED:20240205T222422Z
UID:10020916-1698523200-1698530400@newtonculture.org
SUMMARY:PRIDE AND PREJUDICE - FALL 2023
DESCRIPTION:PRIDE AND PREJUDICE – FALL 2023\nExperience Pride and Prejudice reimagined!\n​\nUnder the direction of Melissa Bernstein\, an all-woman ensemble brings to life Jane Austen’s timeless characters in this loving and irreverent adaptation by Claire Wittman.Romance\, wit\, and societal antics await you in Jane Austen’s story of the Bennet family and their adventures! \nDue to unconventional seating\, tickets may sell out quickly. Buy yours today! \nClick here to buy tickets! \nFriday October 27th at 8pm\nSaturday October 28th at 2pm\nSaturday October 28th at 8pm \nFriday November 3rd at 8pm\nSaturday November 4th at 2pm\nSaturday November 4th at 8pm \nSt. John’s Episcopal Church\n96 Otis Street\, Newtonville MA
URL:https://newtonculture.org/event/15034/2023-10-28/
LOCATION:St John’s Episcopal Church\, Newton\, MA\, 297 Lowell Avenue\, Newtonville\, MA\, 02460
ORGANIZER;CN="Newton Theatre Company":MAILTO:info@newtontheatrecompany.com
END:VEVENT
END:VCALENDAR