BEGIN:VCALENDAR
VERSION:2.0
PRODID:-//Newton Cultural Alliance - ECPv6.13.2.1//NONSGML v1.0//EN
CALSCALE:GREGORIAN
METHOD:PUBLISH
X-WR-CALNAME:Newton Cultural Alliance
X-ORIGINAL-URL:https://newtonculture.org
X-WR-CALDESC:Events for Newton Cultural Alliance
REFRESH-INTERVAL;VALUE=DURATION:PT1H
X-Robots-Tag:noindex
X-PUBLISHED-TTL:PT1H
BEGIN:VTIMEZONE
TZID:America/New_York
BEGIN:DAYLIGHT
TZOFFSETFROM:-0500
TZOFFSETTO:-0400
TZNAME:EDT
DTSTART:20230312T070000
END:DAYLIGHT
BEGIN:STANDARD
TZOFFSETFROM:-0400
TZOFFSETTO:-0500
TZNAME:EST
DTSTART:20231105T060000
END:STANDARD
BEGIN:DAYLIGHT
TZOFFSETFROM:-0500
TZOFFSETTO:-0400
TZNAME:EDT
DTSTART:20240310T070000
END:DAYLIGHT
BEGIN:STANDARD
TZOFFSETFROM:-0400
TZOFFSETTO:-0500
TZNAME:EST
DTSTART:20241103T060000
END:STANDARD
END:VTIMEZONE
BEGIN:VEVENT
DTSTART;TZID=America/New_York:20230910T080000
DTEND;TZID=America/New_York:20240107T170000
DTSTAMP:20260421T134955
CREATED:20230911T134429Z
LAST-MODIFIED:20230911T134429Z
UID:10019794-1694332800-1704646800@newtonculture.org
SUMMARY:Newton Art Association presents Harmony at Suzuki School of Newton
DESCRIPTION:Harmony at Suzuki School of Newton\nNow through January 7\, 2024 \nSuzuki School of Newton hosts the Newton Art Association exhibition\, Harmony at Suzuki School of Newton from September 10\, 2023 – January 7\, 2024. See works from member artists like Sana Mantell pictured here.
URL:https://newtonculture.org/event/newton-art-association-presents-harmony-at-suzuki-school-of-newton/
LOCATION:Suzuki School of Newton\, 1615 Beacon St\, Waban\, MA\, 02468\, United States
ATTACH;FMTTYPE=image/jpeg:https://newtonculture.org/wp-content/uploads/2023/09/suzuki-image-Sana-Mantell.jpg
ORGANIZER;CN="Newton Art Association":MAILTO:info@newtonartassociation.com
END:VEVENT
BEGIN:VEVENT
DTSTART;TZID=America/New_York:20231118T080000
DTEND;TZID=America/New_York:20231119T170000
DTSTAMP:20260421T134955
CREATED:20230728T000557Z
LAST-MODIFIED:20230728T002231Z
UID:10020873-1700294400-1700413200@newtonculture.org
SUMMARY:Cappella Clausura presents Das Jahr
DESCRIPTION:In November\, Cappella Clausura offers Das Jahr (The Year)\, a stunning\, extended work for solo piano by Fanny Mendelssohn Hensel\, based on the cyclical nature of time. It will break up the months with seasonings of vocal quartets by Hensel and Clara Schumann– adding a bit of spice to the commemoration of a year gone by. \nPerformed with guest pianist Lois Shapiro.
URL:https://newtonculture.org/event/cappella-clausura-presents-das-jahr/
LOCATION:MA
CATEGORIES:Music
ATTACH;FMTTYPE=image/png:https://newtonculture.org/wp-content/uploads/2023/07/Screenshot-2023-07-26-161423-1-e1690502740431.png
ORGANIZER;CN="Cappella Clausura":MAILTO:manager@clausura.org
END:VEVENT
BEGIN:VEVENT
DTSTART;TZID=America/New_York:20231118T163000
DTEND;TZID=America/New_York:20231118T180000
DTSTAMP:20260421T134955
CREATED:20231115T151910Z
LAST-MODIFIED:20231115T151950Z
UID:10020947-1700325000-1700330400@newtonculture.org
SUMMARY:All Newton Music School presents Strings Showcase
DESCRIPTION:Strings Showcase\nSaturday\, November 18\, 4:30 pm \nCheck out All Newton Music School for a special afternoon featuring ANMS string faculty as they present an all-Mozart program. Violinists Julie McKenzie\, Sally Martin\, Eric Mrugala\, and Barbara Englesberg\, alongside violists Scott Woolweaver and Gregory Wislocki and cellists Kelly Knox and Sara Wilkins\, will perform classics including “Eine Kleine Nacht Musik” and the “Adagio and Fugue in C Minor.” A great opportunity to enjoy some of Mozart’s beloved pieces performed by dedicated teaching and performing artists.
URL:https://newtonculture.org/event/all-newton-music-school-presents-strings-showcase/
LOCATION:All Newton Music School\, 321 Chestnut St\, West Newton\, MA\, 02465\, United States
ATTACH;FMTTYPE=image/jpeg:https://newtonculture.org/wp-content/uploads/2023/11/unnamed-15.jpg
END:VEVENT
BEGIN:VEVENT
DTSTART;TZID=America/New_York:20231118T183000
DTEND;TZID=America/New_York:20231118T200000
DTSTAMP:20260421T134955
CREATED:20231115T151417Z
LAST-MODIFIED:20231115T151417Z
UID:10020944-1700332200-1700337600@newtonculture.org
SUMMARY:Suzuki School of Newton presents Faculty Concert
DESCRIPTION:SSN Faculty Concert\nSuzuki School of Newton’s faculty performing works by Brahms\, Mozart\, and more!
URL:https://newtonculture.org/event/suzuki-school-of-newton-presents-faculty-concert/
LOCATION:Newton Presbyterian Church\, 75 Vernon St.\, Newton\, MA\, United States
ATTACH;FMTTYPE=image/png:https://newtonculture.org/wp-content/uploads/2023/11/facultyconcertposter20232.png
ORGANIZER;CN="Suzuki School of Newton":MAILTO:email@suzukinewton.org
END:VEVENT
BEGIN:VEVENT
DTSTART;TZID=America/New_York:20231118T200000
DTEND;TZID=America/New_York:20231118T213000
DTSTAMP:20260421T134955
CREATED:20231115T151550Z
LAST-MODIFIED:20231115T151550Z
UID:10020945-1700337600-1700343000@newtonculture.org
SUMMARY:Commonwealth Chorale presents Glory and Praise
DESCRIPTION:Glory and Praise\nSaturday\, November 18th\, 8:00 pm \nCommonwealth Chorale sings a new “composer concert” Glory and Praise at the Church of the Holy Name. With Leonard Bernstein: Chichester Psalms\, Francis Poulenc: Gloria\, Salomon Sulzer: Psalm 111\, and César Franck: Psalm 150. Check out their website for complete program notes by Margarita Restrepo\, Ph.D.
URL:https://newtonculture.org/event/commonwealth-chorale-presents-glory-and-praise/
LOCATION:Church of the Holy Name\, 1689 Centre Street\, West Roxbury\, MA\, 02132\, United States
ATTACH;FMTTYPE=image/jpeg:https://newtonculture.org/wp-content/uploads/2023/11/Salomon_Sulzer.jpg
ORGANIZER;CN="Commonwealth Chorale":MAILTO:info@commonwealthchorale.com
END:VEVENT
END:VCALENDAR