BEGIN:VCALENDAR
VERSION:2.0
PRODID:-//Newton Cultural Alliance - ECPv6.13.2.1//NONSGML v1.0//EN
CALSCALE:GREGORIAN
METHOD:PUBLISH
X-ORIGINAL-URL:https://newtonculture.org
X-WR-CALDESC:Events for Newton Cultural Alliance
REFRESH-INTERVAL;VALUE=DURATION:PT1H
X-Robots-Tag:noindex
X-PUBLISHED-TTL:PT1H
BEGIN:VTIMEZONE
TZID:America/New_York
BEGIN:DAYLIGHT
TZOFFSETFROM:-0500
TZOFFSETTO:-0400
TZNAME:EDT
DTSTART:20230312T070000
END:DAYLIGHT
BEGIN:STANDARD
TZOFFSETFROM:-0400
TZOFFSETTO:-0500
TZNAME:EST
DTSTART:20231105T060000
END:STANDARD
BEGIN:DAYLIGHT
TZOFFSETFROM:-0500
TZOFFSETTO:-0400
TZNAME:EDT
DTSTART:20240310T070000
END:DAYLIGHT
BEGIN:STANDARD
TZOFFSETFROM:-0400
TZOFFSETTO:-0500
TZNAME:EST
DTSTART:20241103T060000
END:STANDARD
END:VTIMEZONE
BEGIN:VEVENT
DTSTART;TZID=America/New_York:20230910T080000
DTEND;TZID=America/New_York:20240107T170000
DTSTAMP:20260421T064532
CREATED:20230911T134429Z
LAST-MODIFIED:20230911T134429Z
UID:10019794-1694332800-1704646800@newtonculture.org
SUMMARY:Newton Art Association presents Harmony at Suzuki School of Newton
DESCRIPTION:Harmony at Suzuki School of Newton\nNow through January 7\, 2024 \nSuzuki School of Newton hosts the Newton Art Association exhibition\, Harmony at Suzuki School of Newton from September 10\, 2023 – January 7\, 2024. See works from member artists like Sana Mantell pictured here.
URL:https://newtonculture.org/event/newton-art-association-presents-harmony-at-suzuki-school-of-newton/
LOCATION:Suzuki School of Newton\, 1615 Beacon St\, Waban\, MA\, 02468\, United States
ATTACH;FMTTYPE=image/jpeg:https://newtonculture.org/wp-content/uploads/2023/09/suzuki-image-Sana-Mantell.jpg
ORGANIZER;CN="Newton Art Association":MAILTO:info@newtonartassociation.com
END:VEVENT
BEGIN:VEVENT
DTSTART;TZID=America/New_York:20231203T100000
DTEND;TZID=America/New_York:20231203T160000
DTSTAMP:20260421T064532
CREATED:20231102T194639Z
LAST-MODIFIED:20231102T194639Z
UID:10019812-1701597600-1701619200@newtonculture.org
SUMMARY:Celebrate Newton Holiday Craft Fair
DESCRIPTION:Celebrate Newton is a one-day holiday shopping extravaganza with live music and local artisans. With over 50 vendors to choose from you can buy a unique gift for everyone this season. For 2023 we have tons of textiles\, loads of Fine Art\, Jewelry galore\, and new vendors you’ve never seen before. Admission is $7 and all proceeds go to the Newton Cultural Alliance\, a non-profit advocacy organization operating The Allen Center for Arts and Culture. \nSunday\, December 3rd from 10:00 am – 4:00 pm at Newton South High School\, 140 Brandeis Road.
URL:https://newtonculture.org/event/celebrate-newton-holiday-craft-fair/
LOCATION:Newton South High School\, 140 Brandeis Rd\, Newton\, MA\, 02459
ATTACH;FMTTYPE=image/png:https://newtonculture.org/wp-content/uploads/2023/11/2023CN-Facebook.png
ORGANIZER;CN="Newton Cultural Alliance":MAILTO:contact@newtonculture.org
END:VEVENT
BEGIN:VEVENT
DTSTART;TZID=America/New_York:20231203T160000
DTEND;TZID=America/New_York:20231203T173000
DTSTAMP:20260421T064532
CREATED:20231127T154808Z
LAST-MODIFIED:20231127T154808Z
UID:10019817-1701619200-1701624600@newtonculture.org
SUMMARY:Newton Family Singers
DESCRIPTION:Please join us Sunday\, December 3\, 4:00 pm for the next Newton Family Singers concert! \nThis season we‘re so excited to be singing the songs of Brandi Carlile this session! Brandi is a young\, contemporary American singer-songwriter\, author\, and activist. She’s won six Grammy Awards for her music already\, is active in various humanitarian efforts and runs her own organization\, Looking Out Foundation\, which raises money and awareness for causes in the arts\, human rights\, women’s equality and more. And frankly\, she is very cool. \nThe show is at 4:00pm on December 3rd at Eleanor Welch Casey Theatre\, Regis College in Weston (235 Wellesley St\, Weston\, MA).  Tickets are on sale now.\n\n\nBUY TICKETS \n\n\nFor those who have purchased tickets to the show\, our venue is building 14a on the map below. Parking for the general public is in the grey lot “A” behind the building. Regis will have campus security on day of show to guide you where to park. Handicap parking is available right in front of the venue\, in that small circle area. 
URL:https://newtonculture.org/event/newton-family-singers/
LOCATION:Regis College\, 235 Wellesley St\, Weston\, MA
ATTACH;FMTTYPE=image/jpeg:https://newtonculture.org/wp-content/uploads/2023/11/newtonfamilysingers.jpg
ORGANIZER;CN="Newton Family Singers":MAILTO:admin@newtonfamilysingers.org
END:VEVENT
END:VCALENDAR