BEGIN:VCALENDAR
VERSION:2.0
PRODID:-//Newton Cultural Alliance - ECPv6.13.2.1//NONSGML v1.0//EN
CALSCALE:GREGORIAN
METHOD:PUBLISH
X-WR-CALNAME:Newton Cultural Alliance
X-ORIGINAL-URL:https://newtonculture.org
X-WR-CALDESC:Events for Newton Cultural Alliance
REFRESH-INTERVAL;VALUE=DURATION:PT1H
X-Robots-Tag:noindex
X-PUBLISHED-TTL:PT1H
BEGIN:VTIMEZONE
TZID:America/New_York
BEGIN:DAYLIGHT
TZOFFSETFROM:-0500
TZOFFSETTO:-0400
TZNAME:EDT
DTSTART:20230312T070000
END:DAYLIGHT
BEGIN:STANDARD
TZOFFSETFROM:-0400
TZOFFSETTO:-0500
TZNAME:EST
DTSTART:20231105T060000
END:STANDARD
BEGIN:DAYLIGHT
TZOFFSETFROM:-0500
TZOFFSETTO:-0400
TZNAME:EDT
DTSTART:20240310T070000
END:DAYLIGHT
BEGIN:STANDARD
TZOFFSETFROM:-0400
TZOFFSETTO:-0500
TZNAME:EST
DTSTART:20241103T060000
END:STANDARD
END:VTIMEZONE
BEGIN:VEVENT
DTSTART;TZID=America/New_York:20230910T080000
DTEND;TZID=America/New_York:20240107T170000
DTSTAMP:20260421T064515
CREATED:20230911T134429Z
LAST-MODIFIED:20230911T134429Z
UID:10019794-1694332800-1704646800@newtonculture.org
SUMMARY:Newton Art Association presents Harmony at Suzuki School of Newton
DESCRIPTION:Harmony at Suzuki School of Newton\nNow through January 7\, 2024 \nSuzuki School of Newton hosts the Newton Art Association exhibition\, Harmony at Suzuki School of Newton from September 10\, 2023 – January 7\, 2024. See works from member artists like Sana Mantell pictured here.
URL:https://newtonculture.org/event/newton-art-association-presents-harmony-at-suzuki-school-of-newton/
LOCATION:Suzuki School of Newton\, 1615 Beacon St\, Waban\, MA\, 02468\, United States
ATTACH;FMTTYPE=image/jpeg:https://newtonculture.org/wp-content/uploads/2023/09/suzuki-image-Sana-Mantell.jpg
ORGANIZER;CN="Newton Art Association":MAILTO:info@newtonartassociation.com
END:VEVENT
BEGIN:VEVENT
DTSTART;TZID=America/New_York:20231209T150000
DTEND;TZID=America/New_York:20231209T163000
DTSTAMP:20260421T064515
CREATED:20231127T154009Z
LAST-MODIFIED:20231127T154009Z
UID:10019815-1702134000-1702139400@newtonculture.org
SUMMARY:Holiday Song Feast
DESCRIPTION:The Highland Glee Club\, established in 1908\, is presenting a Holiday Song Feast.\nOur four part men’s chorus will be singing traditional Christmas and Hanukkah songs.\nThere will be a sing-a-long for everyone to participate.\nSaturday\, December 9\, 2023.\nChrist Episcopal Church. 1132 Highland Ave.\, Needham\, MA\nThis will be a fun time for all.
URL:https://newtonculture.org/event/holiday-song-feast/
LOCATION:Christ Episcopal Church\, 1132 Highland Ave.\, Needham Heights\, MA\, 02494\, United States
CATEGORIES:Community Event
ATTACH;FMTTYPE=image/png:https://newtonculture.org/wp-content/uploads/2023/11/HGC-Holiday-Song-Feast-2023.png
END:VEVENT
BEGIN:VEVENT
DTSTART;TZID=America/New_York:20231209T190000
DTEND;TZID=America/New_York:20231209T210000
DTSTAMP:20260421T064515
CREATED:20231205T142621Z
LAST-MODIFIED:20231218T132415Z
UID:10019819-1702148400-1702155600@newtonculture.org
SUMMARY:Bay Colony Brass presents Brass Tidings
DESCRIPTION:TWO PERFORMANCES OF CHRISTMAS CLASSICS OLD AND NEW\nSaturday\, December 9\, 7:00PM at St. Charles Borromeo Church\, 280 Main Street\, Woburn – Joint performance with the Merrimack Valley Ringers. \nSaturday\, December 16\, 7:30PM at Second Church in Newton United Church of Christ\, 60 Highland Street\, West Newton. \nSUPPORT BAY COLONY BRASS
URL:https://newtonculture.org/event/bay-colony-brass-presents-brass-tidings/2023-12-09/
LOCATION:MA
ATTACH;FMTTYPE=image/png:https://newtonculture.org/wp-content/uploads/2023/12/Brass-Tidings-Image.png
ORGANIZER;CN="Bay Colony Brass":MAILTO:info@baycolonybrass.org
END:VEVENT
END:VCALENDAR