BEGIN:VCALENDAR
VERSION:2.0
PRODID:-//Newton Cultural Alliance - ECPv6.13.2.1//NONSGML v1.0//EN
CALSCALE:GREGORIAN
METHOD:PUBLISH
X-ORIGINAL-URL:https://newtonculture.org
X-WR-CALDESC:Events for Newton Cultural Alliance
REFRESH-INTERVAL;VALUE=DURATION:PT1H
X-Robots-Tag:noindex
X-PUBLISHED-TTL:PT1H
BEGIN:VTIMEZONE
TZID:America/New_York
BEGIN:DAYLIGHT
TZOFFSETFROM:-0500
TZOFFSETTO:-0400
TZNAME:EDT
DTSTART:20240310T070000
END:DAYLIGHT
BEGIN:STANDARD
TZOFFSETFROM:-0400
TZOFFSETTO:-0500
TZNAME:EST
DTSTART:20241103T060000
END:STANDARD
END:VTIMEZONE
BEGIN:VEVENT
DTSTART;TZID=America/New_York:20240115T080000
DTEND;TZID=America/New_York:20240303T170000
DTSTAMP:20260422T155151
CREATED:20240126T140603Z
LAST-MODIFIED:20240126T140655Z
UID:10019860-1705305600-1709485200@newtonculture.org
SUMMARY:New Art Center presents Intercession
DESCRIPTION:New Art Center’s newest exhibition\, INTERCESSION curated by Reggie Woolery will feature Boston-area African American photographers at the New Art Corridor Gallery. The showcase highlights Black photographers who employ light to bridge\, call attention\, and disrupt. The works actively engage new ways of seeing\, believing\, and moving in the world. Join INTERCESSION artists Philip Keith\, Lauren Miller\, Alonso Nichols\, and Sam Williams at an opening reception on Thursday\, January 18 from 6:00 – 8:00 pm.
URL:https://newtonculture.org/event/new-art-center-presents-intercession-2/
LOCATION:New Art Center\, 61 Washington Park\, Newton\, MA\, 02460\, United States
ATTACH;FMTTYPE=image/png:https://newtonculture.org/wp-content/uploads/2024/01/6c91527b-45e8-a687-2946-9386fd2ee432.png
ORGANIZER;CN="New Art Center":MAILTO:info@newartcenter.org
END:VEVENT
BEGIN:VEVENT
DTSTART;TZID=America/New_York:20240116T190000
DTEND;TZID=America/New_York:20240116T213000
DTSTAMP:20260422T155151
CREATED:20231229T205823Z
LAST-MODIFIED:20231229T205854Z
UID:10019825-1705431600-1705440600@newtonculture.org
SUMMARY:Open Rehearsals
DESCRIPTION:The Highland Glee Club is inviting male singers to join our mens’ glee club.\nWe sing a wide range of musical selections including classical\, broadway\,\ntraditional\, and rock and roll.\nThere are four concerts per year in Newton and Needham.\nRehearsals are every Tuesday evening from 7:00 to 9:30 at the Grace Episcople Church on\nEldridge St\, Newton\, MA.
URL:https://newtonculture.org/event/open-rehearsals-2/2024-01-16/
LOCATION:Grace Episcopal Church\, 76 Eldredge Street\, Newton\, MA\, 02458\, United States
CATEGORIES:Music
ATTACH;FMTTYPE=image/png:https://newtonculture.org/wp-content/uploads/2023/12/HGC-2004-recruitment.png
END:VEVENT
END:VCALENDAR