BEGIN:VCALENDAR
VERSION:2.0
PRODID:-//Newton Cultural Alliance - ECPv6.13.2.1//NONSGML v1.0//EN
CALSCALE:GREGORIAN
METHOD:PUBLISH
X-WR-CALNAME:Newton Cultural Alliance
X-ORIGINAL-URL:https://newtonculture.org
X-WR-CALDESC:Events for Newton Cultural Alliance
REFRESH-INTERVAL;VALUE=DURATION:PT1H
X-Robots-Tag:noindex
X-PUBLISHED-TTL:PT1H
BEGIN:VTIMEZONE
TZID:America/New_York
BEGIN:DAYLIGHT
TZOFFSETFROM:-0500
TZOFFSETTO:-0400
TZNAME:EDT
DTSTART:20240310T070000
END:DAYLIGHT
BEGIN:STANDARD
TZOFFSETFROM:-0400
TZOFFSETTO:-0500
TZNAME:EST
DTSTART:20241103T060000
END:STANDARD
END:VTIMEZONE
BEGIN:VEVENT
DTSTART;TZID=America/New_York:20240115T080000
DTEND;TZID=America/New_York:20240303T170000
DTSTAMP:20260421T093136
CREATED:20240126T140603Z
LAST-MODIFIED:20240126T140655Z
UID:10019860-1705305600-1709485200@newtonculture.org
SUMMARY:New Art Center presents Intercession
DESCRIPTION:New Art Center’s newest exhibition\, INTERCESSION curated by Reggie Woolery will feature Boston-area African American photographers at the New Art Corridor Gallery. The showcase highlights Black photographers who employ light to bridge\, call attention\, and disrupt. The works actively engage new ways of seeing\, believing\, and moving in the world. Join INTERCESSION artists Philip Keith\, Lauren Miller\, Alonso Nichols\, and Sam Williams at an opening reception on Thursday\, January 18 from 6:00 – 8:00 pm.
URL:https://newtonculture.org/event/new-art-center-presents-intercession-2/
LOCATION:New Art Center\, 61 Washington Park\, Newton\, MA\, 02460\, United States
ATTACH;FMTTYPE=image/png:https://newtonculture.org/wp-content/uploads/2024/01/6c91527b-45e8-a687-2946-9386fd2ee432.png
ORGANIZER;CN="New Art Center":MAILTO:info@newartcenter.org
END:VEVENT
BEGIN:VEVENT
DTSTART;TZID=America/New_York:20240127T080000
DTEND;TZID=America/New_York:20240128T170000
DTSTAMP:20260421T093136
CREATED:20240126T145229Z
LAST-MODIFIED:20240126T145229Z
UID:10019863-1706342400-1706461200@newtonculture.org
SUMMARY:WinterFest
DESCRIPTION:WinterFest \nSaturday & Sunday\, January 27th & 28th \nJoin Newton Community Pride\, Hyde Community Center\, and New Art Center for WinterFest activities all weekend long. They bring the heat on Saturday to the Hyde Community Center with the WinterFest Soup Social. Enjoy live music from The Timba Messengers\, glow-in-the-dark hula hoops and an interactive light-up public art installation by Tova Speter called\, Brighter Ignited. WinterFest Dance Party continues the fun on Sunday at the New Art Center with a family-friendly dance party with Josh and the Jamtones! There will be complimentary hot chocolate and cookies as well as winter crafts. Check out the full schedule below.
URL:https://newtonculture.org/event/winterfest/
LOCATION:MA
ATTACH;FMTTYPE=image/jpeg:https://newtonculture.org/wp-content/uploads/2024/01/416685635_425807443105453_7969881383422583992_n.jpg
END:VEVENT
BEGIN:VEVENT
DTSTART;TZID=America/New_York:20240128T150000
DTEND;TZID=America/New_York:20240128T170000
DTSTAMP:20260421T093136
CREATED:20240102T171633Z
LAST-MODIFIED:20240102T171633Z
UID:10020953-1706454000-1706461200@newtonculture.org
SUMMARY:Pro Arte presents All In the Family
DESCRIPTION:ALL IN THE FAMILY\n\n\n\n\n\n\n\n\n\n\n\n\n\n\n\nMusical Program\n\n\n\n\n\n\n\nSpecial pre-concert event at 2 pm\n\n\n\n\nGiachino Rossini William Tell Overture \nCamille Saint-Saëns Carnival of the Animals \nTeresa Carreño Romanze for cello and orchestra arr. Steve Laven \nSergei Prokofiev Peter and the Wolf\, op. 67 \n\n\n\n\n\n\n\n\n\nTICKETS\n\n\nHave your family join ours for a charming concert of storytelling and puppetry led by Pro Arte’s Conductor Emerita Gisèle Ben-Dor.  Things kicks off with Gioachino Rossini’s iconic and irrepressible William Tell overture.  Camille Saint-Saëns humorous Carnival of the Animals suite is a musical menagerie in which roaring lions\, lumbering elephants\, and hopping kangaroos all make their appearance.  Pro Arte presents Teresa Carreño’s lovely Romance\, originally scored for violin and piano\, in an arrangement for cello and orchestra by principal cellist Steven Laven.  Sergei Prokofiev’s Peter and the Wolf tells of a boy who conspires with a bird and a cat to capture a wolf who has swallowed a duck.  With each character and event vividly depicted\, this musical fairy tale makes the perfect end to an unforgettable experience.
URL:https://newtonculture.org/event/pro-arte-presents-all-in-the-family/
LOCATION:War Memorial Auditorium\, 1000 Commonwealth Avenue\, Newton\, 02459\, United States
END:VEVENT
END:VCALENDAR