BEGIN:VCALENDAR
VERSION:2.0
PRODID:-//Newton Cultural Alliance - ECPv6.13.2.1//NONSGML v1.0//EN
CALSCALE:GREGORIAN
METHOD:PUBLISH
X-ORIGINAL-URL:https://newtonculture.org
X-WR-CALDESC:Events for Newton Cultural Alliance
REFRESH-INTERVAL;VALUE=DURATION:PT1H
X-Robots-Tag:noindex
X-PUBLISHED-TTL:PT1H
BEGIN:VTIMEZONE
TZID:America/New_York
BEGIN:DAYLIGHT
TZOFFSETFROM:-0500
TZOFFSETTO:-0400
TZNAME:EDT
DTSTART:20240310T070000
END:DAYLIGHT
BEGIN:STANDARD
TZOFFSETFROM:-0400
TZOFFSETTO:-0500
TZNAME:EST
DTSTART:20241103T060000
END:STANDARD
END:VTIMEZONE
BEGIN:VEVENT
DTSTART;TZID=America/New_York:20240310T150000
DTEND;TZID=America/New_York:20240310T170000
DTSTAMP:20260421T093320
CREATED:20240119T161535Z
LAST-MODIFIED:20240226T150853Z
UID:10019848-1710082800-1710090000@newtonculture.org
SUMMARY:Commonwealth Chorale Presents "Fate and Faith"
DESCRIPTION:In March\, we explore fate and faith through the richly expressive music of Fanny Mendelssohn Hensel’s Lobgesang\, Johannes Brahms’s Schicksalslied\, and Felix\nMendelssohn’s Psalm 42. \nThe concert will be with Professional Orchestra.\nDana Lynne Varga\, Soprano Soloist\nConducted by Artistic Director Dr. Michael Driscoll \nGeneral Admission $40; Students $10; EBT/WIC Cards- Free at Door\nOpen Seating – Purchase tickets online at: https://events.humanitix.com/test-event-n66hoxj7\nmarketing@CommonwealthChorale.com 617-527-7464 \nABOUT THE CONCERT\nChoral music of the 19th century is well known for its melodic\, romantic and expressive elements\, often exploring themes of faith and fate. Our March concert provides a delicious feast from two of this period’s best known composers\, Johannes Brahms and Felix Mendelssohn\, and a third\, Fanny Mendelsshohn Hensel\, who but for the social mores of her day\, would likely be as well known. \nTo celebrate her son’s birth\, Hensel wrote Lobgesang using biblical texts to create a choral symphony celebrating spirituality and praising life. Given the hazards of child-birth in her time\, perhaps Hensel’s music also celebrates trust in fate and a leap of faith! Brahms’ much loved Schicksalslied is an elegant choral setting of a poem with the same name (Song of Destiny); it\, too\, explores the joys of human existence and the cruel whims of fate. Mendelssohn’s Psalm 42 provides vivid visual and sensual imagery of a stag or deer\, likening its desire for fresh water to the soul’s need for God and encouraging the reader to have faith that God will provide. \nWhatever your religious or theological beliefs\, the rich harmonic textures\, expressive melodies\, and meticulous craftsmanship of these compositions\, with their balance of classical form and romantic sentiment\, will lift your spirits and feed your soul!
URL:https://newtonculture.org/event/commonwealth-chorale-presents-fate-and-faith/
LOCATION:Church of the Holy Name\, 1689 Centre Street\, West Roxbury\, MA\, 02132\, United States
CATEGORIES:Music
ATTACH;FMTTYPE=image/jpeg:https://newtonculture.org/wp-content/uploads/2024/01/Fate-and-Faith-600x400-1.jpg
ORGANIZER;CN="Commonwealth Chorale":MAILTO:info@commonwealthchorale.com
END:VEVENT
BEGIN:VEVENT
DTSTART;TZID=America/New_York:20240310T150000
DTEND;TZID=America/New_York:20240310T170000
DTSTAMP:20260421T093320
CREATED:20240205T163852Z
LAST-MODIFIED:20240205T163918Z
UID:10020984-1710082800-1710090000@newtonculture.org
SUMMARY:Pro Arte presents Winds
DESCRIPTION:PRO ARTE WINDS\nMarch 10\, 2024\n3:00PM \nAllen Center for Arts and Culture \n35 Webster Street\, West Newton\, MA\, USA \nMusical Program\nValerie Coleman Tzigane \nCarl Nielsen Kvintet\, op. 43 \nRick Sowash Three American Perennials \nTICKETS\nThe third installment of the Salon Series features the oustanding Pro Arte Wind Quintet. Comprised of the Principal members of Pro Arte’s wind section\, each player is a soloist in their own right\, bringing outstanding artistry to every performance. Don’t miss this brilliant concert celebrating the music of Coleman\, Nielsen\, and Sowash. \nThe Salon Series is the perfect way to get to know Pro Arte players better. If you haven’t been to one of these fun concerts\, they are our version of chamber music concerts\, presented in a less formal manner and featuring plenty of opportunity to interact with the musicians and to learn more about the music. \nMusicians: \nAnn Bobo\, flute \nNancy Dimock\, oboe \nIan Greitzer\, clarinet \nRon Haroutunian\, bassoon \nRobert Marlatt\, horn
URL:https://newtonculture.org/event/pro-arte-presents-winds/
LOCATION:The Allen Center\, 35 Webster St\, WEST NEWTON\, MA\, 02465\, United States
ATTACH;FMTTYPE=image/webp:https://newtonculture.org/wp-content/uploads/2024/02/2c5840_703a71eb561540afaf5c2bee4f5b4b08mv2.webp
END:VEVENT
END:VCALENDAR