BEGIN:VCALENDAR
VERSION:2.0
PRODID:-//Newton Cultural Alliance - ECPv6.13.2.1//NONSGML v1.0//EN
CALSCALE:GREGORIAN
METHOD:PUBLISH
X-WR-CALNAME:Newton Cultural Alliance
X-ORIGINAL-URL:https://newtonculture.org
X-WR-CALDESC:Events for Newton Cultural Alliance
REFRESH-INTERVAL;VALUE=DURATION:PT1H
X-Robots-Tag:noindex
X-PUBLISHED-TTL:PT1H
BEGIN:VTIMEZONE
TZID:America/New_York
BEGIN:DAYLIGHT
TZOFFSETFROM:-0500
TZOFFSETTO:-0400
TZNAME:EDT
DTSTART:20240310T070000
END:DAYLIGHT
BEGIN:STANDARD
TZOFFSETFROM:-0400
TZOFFSETTO:-0500
TZNAME:EST
DTSTART:20241103T060000
END:STANDARD
END:VTIMEZONE
BEGIN:VEVENT
DTSTART;TZID=America/New_York:20240316T150000
DTEND;TZID=America/New_York:20240316T170000
DTSTAMP:20260421T093200
CREATED:20240205T161144Z
LAST-MODIFIED:20240205T161144Z
UID:10020974-1710601200-1710608400@newtonculture.org
SUMMARY:The Highland Glee Club presents The Pipes Are Callin'
DESCRIPTION:The Pipes Are Callin’ – A Celtic Tribute\nThe Highland Glee Club Sings Songs of Ireland\, Scotland\, and Wales\nJoin us March 16th\, 3 PM at the War Memorial Auditorium of Newton’s City Hall at 1000 Commonwealth for an afternoon of Celtic melodies.  \nHighlights:  \ngorgeous Vaughan Williams men’s voice arrangements of “Loch Lomand” and “The Turtle Dove”;  \na reprise by incomparable Irish tenor Connor Vigeant of “Turn Ye to Me\,” (the ballad made famous by the quintessential Irish tenor of yesteryear\, John McCormack);  \na performance on the uilleann (Irish) pipes by virtuoso Dan Meyers;  \nfavorites like “Danny Boy” and “Suo Gan\,” along with equally beautiful songs you probably haven’t heard yet;  \nall performed by a group of good-lookin’ men IN KILTS.  \nAch\, lads and lasses\, what’s not to luv? Set aboot markin’ yer calendars straight away\, and we’ll see ye in March!
URL:https://newtonculture.org/event/the-highland-glee-club-presents-the-pipes-are-callin/
LOCATION:War Memorial Auditorium\, 1000 Commonwealth Avenue\, Newton\, 02459\, United States
ATTACH;FMTTYPE=image/jpeg:https://newtonculture.org/wp-content/uploads/2024/02/420112301_906906520923126_2296860137736090434_n.jpg
END:VEVENT
BEGIN:VEVENT
DTSTART;TZID=America/New_York:20240316T193000
DTEND;TZID=America/New_York:20240316T210000
DTSTAMP:20260421T093200
CREATED:20240205T160456Z
LAST-MODIFIED:20240308T143802Z
UID:10020973-1710617400-1710622800@newtonculture.org
SUMMARY:Bay Colony Brass present “RESPIGHI AND FRIENDS\, AN ITALIAN AFFAIR”
DESCRIPTION:“RESPIGHI AND FRIENDS\, AN ITALIAN AFFAIR” \nSaturday\, March 16 at 7:30PM at \nSecond Church in Newton United Church of Christ\, \n60 Highland Street\, West Newton
URL:https://newtonculture.org/event/bay-colony-brass-present-respighi-and-friends-an-italian-affair/
LOCATION:Second Church in Newton\, 60 Highland St.\, West Newton\, MA\, 02465\, United States
ATTACH;FMTTYPE=image/jpeg:https://newtonculture.org/wp-content/uploads/2024/02/3-16_email_graphic.jpeg
ORGANIZER;CN="Bay Colony Brass":MAILTO:info@baycolonybrass.org
END:VEVENT
END:VCALENDAR