BEGIN:VCALENDAR
VERSION:2.0
PRODID:-//Newton Cultural Alliance - ECPv6.13.2.1//NONSGML v1.0//EN
CALSCALE:GREGORIAN
METHOD:PUBLISH
X-ORIGINAL-URL:https://newtonculture.org
X-WR-CALDESC:Events for Newton Cultural Alliance
REFRESH-INTERVAL;VALUE=DURATION:PT1H
X-Robots-Tag:noindex
X-PUBLISHED-TTL:PT1H
BEGIN:VTIMEZONE
TZID:America/New_York
BEGIN:DAYLIGHT
TZOFFSETFROM:-0500
TZOFFSETTO:-0400
TZNAME:EDT
DTSTART:20240310T070000
END:DAYLIGHT
BEGIN:STANDARD
TZOFFSETFROM:-0400
TZOFFSETTO:-0500
TZNAME:EST
DTSTART:20241103T060000
END:STANDARD
END:VTIMEZONE
BEGIN:VEVENT
DTSTART;TZID=America/New_York:20240317T101500
DTEND;TZID=America/New_York:20240317T113000
DTSTAMP:20260421T080544
CREATED:20240304T145812Z
LAST-MODIFIED:20240304T145812Z
UID:10021633-1710670500-1710675000@newtonculture.org
SUMMARY:FUUSN presents Finally On My Way To Yes
DESCRIPTION:FUUSN presents a service with music about transformation and change\, both personal\, and healing transformation\, and being a force for change in the world. Songs include The Times They Are A-Changin’\, Hejira\, Swing Down\, Chariot\, and a gorgeous setting of James Weldon Johnson’s Sonnet My Heart Be Brave. The FUUSN Choir will be joined by the Band\, CreationDance\, Bob MacWilliams\, and Lois Shapiro with directed by Anne Watson Born.
URL:https://newtonculture.org/event/fuusn-presents-finally-on-my-way-to-yes/
LOCATION:First Unitarian Universalist Society in Newton\, 1326 Washington St\, Newton\, MA\, 02465\, United States
ATTACH;FMTTYPE=image/jpeg:https://newtonculture.org/wp-content/uploads/2024/03/Music-Sunday-March-17-2024_KRKP.jpg
ORGANIZER;CN="FUUSN":MAILTO:office@fusn.org
END:VEVENT
BEGIN:VEVENT
DTSTART;TZID=America/New_York:20240317T120000
DTEND;TZID=America/New_York:20240317T180000
DTSTAMP:20260421T080544
CREATED:20240228T154028Z
LAST-MODIFIED:20240228T154028Z
UID:10021624-1710676800-1710698400@newtonculture.org
SUMMARY:Suzuki School of Newton presents Playathon
DESCRIPTION:Playathon\nSaturday\, March 17\, 12:00 pm – 6:00 pm \nThe Suzuki School of Newton invites you to a marathon of musical performances by students and faculty at the Shops at Chestnut Hill. Stop by to listen to this epic musical event\, Suzuki School’s annual Playathon.
URL:https://newtonculture.org/event/suzuki-school-of-newton-presents-playathon/
LOCATION:The Shops at Chestnut Hill\, 199 Boylston Street\, Chestnut Hill\, MA\, 02467\, United States
CATEGORIES:Community Event,Music
ATTACH;FMTTYPE=image/png:https://newtonculture.org/wp-content/uploads/2024/02/Untitled-design-2024-02-26T123433.140.png
ORGANIZER;CN="Suzuki School of Newton":MAILTO:email@suzukinewton.org
END:VEVENT
BEGIN:VEVENT
DTSTART;TZID=America/New_York:20240317T140000
DTEND;TZID=America/New_York:20240317T160000
DTSTAMP:20260421T080544
CREATED:20240214T153452Z
LAST-MODIFIED:20240214T153452Z
UID:10021612-1710684000-1710691200@newtonculture.org
SUMMARY:Newton Art Association presents The 2024 James King Bonnar Exhibition March 3 - May 2
DESCRIPTION:Welcome to the 2024 James King Bonnar Exhibition\, our most popular event of the year. This is a non-juried show open to all members in good standing. This year’s Juror is Ruth Scotch from the Danforth Museum. Ruth has an M.F.A. and B.F.A. in painting from Boston University and has taught at BU and Montserrat College of Art and has exhibited widely throughout New England. \nReception and Awards Ceremony: Sunday\, March 17\, 2:00-4:00 pm
URL:https://newtonculture.org/event/newton-art-association-presents-the-2024-james-king-bonnar-exhibition-march-3-may-2/
LOCATION:Morse Institute Library\, 14 East Central St\, Natick\, MA\, 01760
ATTACH;FMTTYPE=image/jpeg:https://newtonculture.org/wp-content/uploads/2024/02/NEW-AA-WEB-GRAPHICS-2.jpg
END:VEVENT
END:VCALENDAR