BEGIN:VCALENDAR
VERSION:2.0
PRODID:-//Newton Cultural Alliance - ECPv6.13.2.1//NONSGML v1.0//EN
CALSCALE:GREGORIAN
METHOD:PUBLISH
X-WR-CALNAME:Newton Cultural Alliance
X-ORIGINAL-URL:https://newtonculture.org
X-WR-CALDESC:Events for Newton Cultural Alliance
REFRESH-INTERVAL;VALUE=DURATION:PT1H
X-Robots-Tag:noindex
X-PUBLISHED-TTL:PT1H
BEGIN:VTIMEZONE
TZID:America/New_York
BEGIN:DAYLIGHT
TZOFFSETFROM:-0500
TZOFFSETTO:-0400
TZNAME:EDT
DTSTART:20240310T070000
END:DAYLIGHT
BEGIN:STANDARD
TZOFFSETFROM:-0400
TZOFFSETTO:-0500
TZNAME:EST
DTSTART:20241103T060000
END:STANDARD
END:VTIMEZONE
BEGIN:VEVENT
DTSTART;TZID=America/New_York:20240319T054500
DTEND;TZID=America/New_York:20240319T183000
DTSTAMP:20260421T093200
CREATED:20240131T155750Z
LAST-MODIFIED:20240131T155804Z
UID:10020967-1710827100-1710873000@newtonculture.org
SUMMARY:Commonwealth Chorale Auditions
DESCRIPTION:Commonwealth Chorale seeks singers of all voice types who have strong vocal and sight-reading skills. We especially seek those singing tenor and bass. Auditions will be held by appointment on the evenings of March 12th and 19th between 5:45 and 6:30 PM. Auditions are at our new rehearsal location at First Baptist Church\, 848 Beacon Street in Newton Center\, a few minutes’ walk from the Newton Center stop on the “D” Green Line. Free parking is available in the church parking lot. An overview of our 2023-2024 season can be found on our website: www.commonwealthchorale.com.\nTo apply for an audition\, click here: https://commonwealthchorale.com/join-us
URL:https://newtonculture.org/event/commonwealth-chorale-auditions-6/2024-03-19/
LOCATION:First Baptist Church in Newton\, 848 Beacon St\, Newton\, MA\, 02459\, United States
CATEGORIES:Music
ATTACH;FMTTYPE=image/jpeg:https://newtonculture.org/wp-content/uploads/2024/01/Chorus-picture.jpg
ORGANIZER;CN="Commonwealth Chorale":MAILTO:info@commonwealthchorale.com
END:VEVENT
BEGIN:VEVENT
DTSTART;TZID=America/New_York:20240319T120000
DTEND;TZID=America/New_York:20240319T140000
DTSTAMP:20260421T093200
CREATED:20240305T191840Z
LAST-MODIFIED:20240305T191840Z
UID:10021925-1710849600-1710856800@newtonculture.org
SUMMARY:Weekly Winter Farmer's Market
DESCRIPTION:Winter Farmers Market \nThe Good Food Farm will be again hosting an organic food market at The Allen Center. The Winter Market’s new hours are Tuesdays\, 12:00- 2:00 pm\, weather permitting. Purchase fresh fruits and vegetables such as beets\, carrots\, kohlrabi\, potatoes\, red and green cabbage\, turnips\, microgreens\, apples\, and multiple types of squash. There will also be(e) honey\, pickled beets\, pickled carrots\, applesauce\, pasture-raised eggs\, and organic popcorn! Click here to learn more about The Good Food Farm’s organic practices and weekly offerings.
URL:https://newtonculture.org/event/weekly-winter-farmers-market-3/2024-03-19/
LOCATION:The Allen Center\, 35 Webster St\, WEST NEWTON\, MA\, 02465\, United States
CATEGORIES:At the Allen Center
ATTACH;FMTTYPE=image/png:https://newtonculture.org/wp-content/uploads/2024/01/55-Off-3.png
END:VEVENT
END:VCALENDAR