BEGIN:VCALENDAR
VERSION:2.0
PRODID:-//Newton Cultural Alliance - ECPv6.13.2.1//NONSGML v1.0//EN
CALSCALE:GREGORIAN
METHOD:PUBLISH
X-WR-CALNAME:Newton Cultural Alliance
X-ORIGINAL-URL:https://newtonculture.org
X-WR-CALDESC:Events for Newton Cultural Alliance
REFRESH-INTERVAL;VALUE=DURATION:PT1H
X-Robots-Tag:noindex
X-PUBLISHED-TTL:PT1H
BEGIN:VTIMEZONE
TZID:America/New_York
BEGIN:DAYLIGHT
TZOFFSETFROM:-0500
TZOFFSETTO:-0400
TZNAME:EDT
DTSTART:20250309T070000
END:DAYLIGHT
BEGIN:STANDARD
TZOFFSETFROM:-0400
TZOFFSETTO:-0500
TZNAME:EST
DTSTART:20251102T060000
END:STANDARD
END:VTIMEZONE
BEGIN:VEVENT
DTSTART;TZID=America/New_York:20250415T190000
DTEND;TZID=America/New_York:20250415T200000
DTSTAMP:20260421T115112
CREATED:20250410T180321Z
LAST-MODIFIED:20250410T180321Z
UID:10022928-1744743600-1744747200@newtonculture.org
SUMMARY:A Pop-Up Open Rehearsal
DESCRIPTION:A Pop-Up Open Rehearsal \nTuesday\, April 15th\, 7pm \nThe Allen Center \nCherry Street Music in collaboration with Lydian String Quartet presents a Pop-Up Open Rehearsal at The Allen Center on Tuesday\, April 15th at 7:00 pm. This event is an Open Rehearsal of “seeking all that’s still unsung\,” a Chamber Music America commission written for Lydian String Quartet by Kurt Rohde. This is a FREE event! Registration preferred.
URL:https://newtonculture.org/event/a-pop-up-open-rehearsal/
LOCATION:The Allen Center\, 35 Webster St\, WEST NEWTON\, MA\, 02465\, United States
ATTACH;FMTTYPE=image/png:https://newtonculture.org/wp-content/uploads/2025/04/Cherry-street-music-2160-x-1080-px.png
END:VEVENT
END:VCALENDAR