BEGIN:VCALENDAR
VERSION:2.0
PRODID:-//Newton Cultural Alliance - ECPv6.13.2.1//NONSGML v1.0//EN
CALSCALE:GREGORIAN
METHOD:PUBLISH
X-WR-CALNAME:Newton Cultural Alliance
X-ORIGINAL-URL:https://newtonculture.org
X-WR-CALDESC:Events for Newton Cultural Alliance
REFRESH-INTERVAL;VALUE=DURATION:PT1H
X-Robots-Tag:noindex
X-PUBLISHED-TTL:PT1H
BEGIN:VTIMEZONE
TZID:America/New_York
BEGIN:DAYLIGHT
TZOFFSETFROM:-0500
TZOFFSETTO:-0400
TZNAME:EDT
DTSTART:20250309T070000
END:DAYLIGHT
BEGIN:STANDARD
TZOFFSETFROM:-0400
TZOFFSETTO:-0500
TZNAME:EST
DTSTART:20251102T060000
END:STANDARD
END:VTIMEZONE
BEGIN:VEVENT
DTSTART;TZID=America/New_York:20250425T190000
DTEND;TZID=America/New_York:20250425T210000
DTSTAMP:20260421T115600
CREATED:20250414T190348Z
LAST-MODIFIED:20250414T190348Z
UID:10022932-1745607600-1745614800@newtonculture.org
SUMMARY:Scandi Center presents Lana Suran in Concert
DESCRIPTION:Lana Suran in Concert\nFriday\, April 25\, 7:00 pm\nLana Suran is an award-winning Swedish pianist coming to the Nordic Hall at the Scandinavian Cultural Center & Library for a solo recital. One of the leading Scandinavian pianists of her generation\, her expressive pianism rises directly from the heart to reveal the tremendous vitality and range of her inner emotional landscape. 
URL:https://newtonculture.org/event/scandi-center-presents-lana-suran-in-concert/
LOCATION:MA
ATTACH;FMTTYPE=image/jpeg:https://newtonculture.org/wp-content/uploads/2025/04/scandi.jpg
END:VEVENT
END:VCALENDAR