BEGIN:VCALENDAR
VERSION:2.0
PRODID:-//Newton Cultural Alliance - ECPv6.13.2.1//NONSGML v1.0//EN
CALSCALE:GREGORIAN
METHOD:PUBLISH
X-WR-CALNAME:Newton Cultural Alliance
X-ORIGINAL-URL:https://newtonculture.org
X-WR-CALDESC:Events for Newton Cultural Alliance
REFRESH-INTERVAL;VALUE=DURATION:PT1H
X-Robots-Tag:noindex
X-PUBLISHED-TTL:PT1H
BEGIN:VTIMEZONE
TZID:America/New_York
BEGIN:DAYLIGHT
TZOFFSETFROM:-0500
TZOFFSETTO:-0400
TZNAME:EDT
DTSTART:20250309T070000
END:DAYLIGHT
BEGIN:STANDARD
TZOFFSETFROM:-0400
TZOFFSETTO:-0500
TZNAME:EST
DTSTART:20251102T060000
END:STANDARD
END:VTIMEZONE
BEGIN:VEVENT
DTSTART;TZID=America/New_York:20250511T080000
DTEND;TZID=America/New_York:20250905T170000
DTSTAMP:20260422T111312
CREATED:20250604T171827Z
LAST-MODIFIED:20250604T171827Z
UID:10022957-1746950400-1757091600@newtonculture.org
SUMMARY:Hyde Community Center presents Summer at the Hyde
DESCRIPTION:The Hyde Community Center is proud to host its annual summer series featuring concerts\, movies\, theater productions and cultural celebrations. We hope you will join us in enjoying this wide range of family-friendly events at the Hyde Bandstand beginning this month. \nAll listed events are free and take place outside on the Hyde Bandstand and Playground. Unless otherwise noted\, events are Friday evening; concerts begin at 6 PM\, and movies start around dusk. Friday concerts and movies will move into the Hyde Gym in case of rain.
URL:https://newtonculture.org/event/hyde-community-center-presents-summer-at-the-hyde/
LOCATION:Hyde Bandshell\, 90 Lincoln Street\, Newton\, MA\, 02461\, United States
ATTACH;FMTTYPE=image/png:https://newtonculture.org/wp-content/uploads/2025/06/hydesummer.png
ORGANIZER;CN="Hyde Community Center":MAILTO:director@hydecenter.org
END:VEVENT
BEGIN:VEVENT
DTSTART;TZID=America/New_York:20250517T080000
DTEND;TZID=America/New_York:20250629T170000
DTSTAMP:20260422T111312
CREATED:20250604T171453Z
LAST-MODIFIED:20250604T171453Z
UID:10022956-1747468800-1751216400@newtonculture.org
SUMMARY:Linda Plaut Festival of the Arts
DESCRIPTION:🎶 10th Annual Linda Plaut Newton Festival of the Arts 🎶\nMay 17 – June 29\, 2025\nThe Linda Plaut Festival of the Arts celebrates our local musicians\, artists\, thespians and creatives for 6 weeks this year with events supported by Newton Community Pride grants. Join us as the City comes alive with music\, color\, and creativity at various venues throughout Newton. 
URL:https://newtonculture.org/event/linda-plaut-festival-of-the-arts-2/
LOCATION:MA
ATTACH;FMTTYPE=image/png:https://newtonculture.org/wp-content/uploads/2021/07/Linda-Plaut-Festival-of-the-Art-2019-01-e1623267658615.png
END:VEVENT
BEGIN:VEVENT
DTSTART;TZID=America/New_York:20250517T140000
DTEND;TZID=America/New_York:20250517T180000
DTSTAMP:20260422T111312
CREATED:20250502T151015Z
LAST-MODIFIED:20250502T151237Z
UID:10022944-1747490400-1747504800@newtonculture.org
SUMMARY:Suzuki School presents Multicultural Festival 2025!
DESCRIPTION:Suzuki Newton’s Multicultural Festival 2025 \nJoin us for an afternoon of music\, art\, food\, and community at the Suzuki School of Newton on Saturday\, May 17\, 2025! \n📍 Location: 1615 Beacon St.\, Waban\, MA 02468\n🕑 Time: Festivities kick off at 2:00 PM and continue throughout the afternoon. \n🎶 Music Performances:\nThe afternoon begins with Folk Baroque at 2:00 PM\, followed by the dance rhythms of Salsa y Control\, and performances by the talented Suzuki Violin Students. \n🖼️ Intergenerational Art Show:\nCelebrate creativity across ages with an exhibit featuring artwork from Suzuki Preschoolers alongside local Newton artists from the Newton Art Association and Newton Watercolor Society! \n🏫 Preschool Open House:\nFamilies with young children are invited to tour the classrooms\, meet our teachers and director\, and learn about our Suzuki Preschool community. \n🍽️ International Potluck:\nBring a favorite family dish to share and experience the world through food. Please include a card listing ingredients and possible allergens to ensure everyone can enjoy safely. \n🌟 Admission:\nThis event is free and open to the public! Kids and adults of all ages are welcome to come celebrate our Newton Community! Bring a blanket or lawn chair and spend the afternoon making memories with us. \n#SuzukiSchoolofNewton #MulticulturalFestival
URL:https://newtonculture.org/event/suzuki-newtons-multicultural-festival-2025/
LOCATION:Suzuki School of Newton\, 1615 Beacon St\, Waban\, MA\, 02468\, United States
CATEGORIES:Art,Music
ATTACH;FMTTYPE=image/jpeg:https://newtonculture.org/wp-content/uploads/2025/05/MCF-25-Instagram-Post-45-1-scaled.jpg
ORGANIZER;CN="Suzuki School of Newton":MAILTO:email@suzukinewton.org
END:VEVENT
BEGIN:VEVENT
DTSTART;TZID=America/New_York:20250517T190000
DTEND;TZID=America/New_York:20250517T210000
DTSTAMP:20260422T111312
CREATED:20250429T180508Z
LAST-MODIFIED:20250430T164524Z
UID:10022939-1747508400-1747515600@newtonculture.org
SUMMARY:10th Annual Linda Plaut Newton Festival of the Arts
DESCRIPTION:🎶 10th Annual Linda Plaut Newton Festival of the Arts 🎶\nMay 17 – June 29\, 2025\nWe are excited to announce that the Linda Plaut Festival of the Arts will celebrate our local musicians\, artists\, thespians and creatives for 6 weeks this year with events supported by Newton Community Pride grants. Join us as the City comes alive with music\, color\, and creativity at various venues throughout Newton.\nFestival of the Arts Kick-Off Event\nSaturday\, May 17th\, 7 pm – 9 pm at the City Hall War Memorial Auditorium\nBring your cowboy boots and hats and get ready to two-step the night away to the tunes of Surefire Band!\nFree & Open to All! Registration is suggested but not required.
URL:https://newtonculture.org/event/39192/
LOCATION:MA
ATTACH;FMTTYPE=image/webp:https://newtonculture.org/wp-content/uploads/2025/04/plaut.webp
END:VEVENT
BEGIN:VEVENT
DTSTART;TZID=America/New_York:20250517T190000
DTEND;TZID=America/New_York:20250517T220000
DTSTAMP:20260422T111312
CREATED:20250410T162247Z
LAST-MODIFIED:20250410T162247Z
UID:10022919-1747508400-1747519200@newtonculture.org
SUMMARY:New Art pARTy 2025
DESCRIPTION:Join us for a celebration of art\, culture\, and community. \nThe New Art Center’s Gala is more than a celebration—it’s an opportunity to directly support local artists and ensure that art continues to thrive in our community. \nAt the heart of this event is our exclusive art auction\, featuring an incredible selection of works from talented local and regional artists. Whether you’re an avid collector or simply passionate about the arts\, this is your chance to acquire unique pieces while making a meaningful impact. Every bid helps sustain our mission to provide accessible arts education and creative programming for all. \nYour support makes a difference! Purchase your ticket to join us for an unforgettable evening\, or take your commitment a step further by becoming a sponsor—a powerful way to champion the arts and gain meaningful visibility in our vibrant community.
URL:https://newtonculture.org/event/new-art-party-2025/
LOCATION:Garage B\, 1420 Soldiers Field Rd\, Brighton\, Massachusetts\, 02135\, United States
CATEGORIES:Art
ATTACH;FMTTYPE=image/png:https://newtonculture.org/wp-content/uploads/2025/04/Gala-Invite-black-black-gold-final-LESS-SATU.png
ORGANIZER;CN="New Art Center":MAILTO:info@newartcenter.org
END:VEVENT
END:VCALENDAR