BEGIN:VCALENDAR
VERSION:2.0
PRODID:-//Newton Cultural Alliance - ECPv6.13.2.1//NONSGML v1.0//EN
CALSCALE:GREGORIAN
METHOD:PUBLISH
X-WR-CALNAME:Newton Cultural Alliance
X-ORIGINAL-URL:https://newtonculture.org
X-WR-CALDESC:Events for Newton Cultural Alliance
REFRESH-INTERVAL;VALUE=DURATION:PT1H
X-Robots-Tag:noindex
X-PUBLISHED-TTL:PT1H
BEGIN:VTIMEZONE
TZID:America/New_York
BEGIN:DAYLIGHT
TZOFFSETFROM:-0500
TZOFFSETTO:-0400
TZNAME:EDT
DTSTART:20200308T070000
END:DAYLIGHT
BEGIN:STANDARD
TZOFFSETFROM:-0400
TZOFFSETTO:-0500
TZNAME:EST
DTSTART:20201101T060000
END:STANDARD
END:VTIMEZONE
BEGIN:VTIMEZONE
TZID:UTC
BEGIN:STANDARD
TZOFFSETFROM:+0000
TZOFFSETTO:+0000
TZNAME:UTC
DTSTART:20190101T000000
END:STANDARD
END:VTIMEZONE
BEGIN:VEVENT
DTSTART;TZID=America/New_York:20200428T093000
DTEND;TZID=America/New_York:20200428T120000
DTSTAMP:20260424T122830
CREATED:20200416T182924Z
LAST-MODIFIED:20200427T152402Z
UID:10018220-1588066200-1588075200@newtonculture.org
SUMMARY:New Art Center remote class: Intro to Pastel Techniques
DESCRIPTION:Soft pastels are fun to use\, colorful and expressive. Learn the foundations through a series of guided exercises\, demonstrations and instructional handouts. Explore mark making\, layering and blending with a focus on value\, color and composition in a creative and supportive environment. This class is especially designed for a beginner or those wanting to try a new medium. See website for materials and more info. \nClass runs from 4/21 to 5/5\, from 9:30 AM to 12:00 PM. Cost: $150. \nSelect New Art Center Spring 2020 classes are meeting during their scheduled class times through Zoom Meetings\, phone calls\, and emails. These classes will allow students to create at home\, interact with their classmates\, and receive instruction from their teacher. \n\nClass meets weekly via Zoom at class time\nInstructions will be sent to students via email from instructor\nREGISTER NOW!
URL:https://newtonculture.org/event/new-art-center-remote-class-intro-to-pastel-techniques-2020-04-28/
CATEGORIES:Art,Culture and Education
ATTACH;FMTTYPE=image/jpeg:https://newtonculture.org/wp-content/uploads/2020/04/AWP20101.jpg
ORGANIZER;CN="New Art Center":MAILTO:info@newartcenter.org
END:VEVENT
BEGIN:VEVENT
DTSTART;TZID=America/New_York:20200422T153000
DTEND;TZID=America/New_York:20200422T170000
DTSTAMP:20260424T122830
CREATED:20200417T153826Z
LAST-MODIFIED:20200427T145237Z
UID:10017722-1587569400-1587574800@newtonculture.org
SUMMARY:New Art Center remote class: Photoshop\, Gr 6-10
DESCRIPTION:We will use both our own photos as well as found images\, and learn to finely edit digital images. Students will learn to swap backgrounds\, make memes\, manipulate faces\, enhance digital images\, make a mini planet and maybe even make a photo with more than one of them in it. Requirements: any version of Adobe Photoshop CS2-CC (teacher will use CS6); a computer mouse; a computer with attached camera\, or the ability to put smart phone photos on the working computer. See website for more info. \nDates: 4/22/2020 – 5/27/2020 – 6 sessions.\nTime: 3:30PM – 5:00 PM\nCost: $200 \nSelect New Art Center Spring 2020 classes are meeting during their scheduled class times through Zoom Meetings\, phone calls\, and emails. These classes will allow students to create at home\, interact with their classmates\, and receive instruction from their teacher. \n\nClass meets weekly via Zoom at class time\nInstructions will be sent to students via email from instructor\nREGISTER NOW!
URL:https://newtonculture.org/event/new-art-center-remote-class-photoshop-gr-6-10/2020-04-22/
LOCATION:ONLINE\, United Kingdom\, E16 2DQ
CATEGORIES:Art,Culture and Education
ATTACH;FMTTYPE=image/jpeg:https://newtonculture.org/wp-content/uploads/2020/04/Untitled-1.jpg
ORGANIZER;CN="New Art Center":MAILTO:info@newartcenter.org
END:VEVENT
BEGIN:VEVENT
DTSTART;TZID=America/New_York:20200421T093000
DTEND;TZID=America/New_York:20200421T120000
DTSTAMP:20260424T122830
CREATED:20200416T182924Z
LAST-MODIFIED:20200416T182924Z
UID:10018218-1587461400-1587470400@newtonculture.org
SUMMARY:New Art Center remote class: Intro to Pastel Techniques
DESCRIPTION:Soft pastels are fun to use\, colorful and expressive. Learn the foundations through a series of guided exercises\, demonstrations and instructional handouts. Explore mark making\, layering and blending with a focus on value\, color and composition in a creative and supportive environment. This class is especially designed for a beginner or those wanting to try a new medium. See website for materials and more info. \nClass runs from 4/21 to 5/5\, from 9:30 AM to 12:00 PM. Cost: $150. \nSelect New Art Center Spring 2020 classes are meeting during their scheduled class times through Zoom Meetings\, phone calls\, and emails. These classes will allow students to create at home\, interact with their classmates\, and receive instruction from their teacher. \n\nClass meets weekly via Zoom at class time\nInstructions will be sent to students via email from instructor\nREGISTER NOW!
URL:https://newtonculture.org/event/new-art-center-remote-class-intro-to-pastel-techniques/2020-04-21/
CATEGORIES:Art,Culture and Education
ATTACH;FMTTYPE=image/jpeg:https://newtonculture.org/wp-content/uploads/2020/04/AWP20101.jpg
ORGANIZER;CN="New Art Center":MAILTO:info@newartcenter.org
END:VEVENT
BEGIN:VEVENT
DTSTART;TZID=America/New_York:20200405T110000
DTEND;TZID=America/New_York:20200405T170000
DTSTAMP:20260424T122830
CREATED:20200312T151658Z
LAST-MODIFIED:20200312T154711Z
UID:10015781-1586084400-1586106000@newtonculture.org
SUMMARY:Newton Open Studios CANCELED
DESCRIPTION:Newton Open Studios is one of the largest and longest-running open studio events in the region\, with scores of pop-up exhibit/sales locations all across Newton every spring. FREE and open to the public. More info at newtonopenstudios.org.
URL:https://newtonculture.org/event/newton-open-studios-cancelled/2020-04-05/
LOCATION:Newton City Hall Auditorium\, 1000 Commonwealth Ave\, Newton\, MA\, 02459\, United States
CATEGORIES:Art,Community Event,Free Event,Visual Arts
ORGANIZER;CN="Newton Open Studios":MAILTO:info@newtonopenstudios.org
END:VEVENT
BEGIN:VEVENT
DTSTART;TZID=America/New_York:20200404T110000
DTEND;TZID=America/New_York:20200404T170000
DTSTAMP:20260424T122830
CREATED:20200312T151658Z
LAST-MODIFIED:20200312T154711Z
UID:10015780-1585998000-1586019600@newtonculture.org
SUMMARY:Newton Open Studios CANCELED
DESCRIPTION:Newton Open Studios is one of the largest and longest-running open studio events in the region\, with scores of pop-up exhibit/sales locations all across Newton every spring. FREE and open to the public. More info at newtonopenstudios.org.
URL:https://newtonculture.org/event/newton-open-studios-cancelled/2020-04-04/
LOCATION:Newton City Hall Auditorium\, 1000 Commonwealth Ave\, Newton\, MA\, 02459\, United States
CATEGORIES:Art,Community Event,Free Event,Visual Arts
ORGANIZER;CN="Newton Open Studios":MAILTO:info@newtonopenstudios.org
END:VEVENT
BEGIN:VEVENT
DTSTART;TZID=America/New_York:20200403T070000
DTEND;TZID=America/New_York:20200403T210000
DTSTAMP:20260424T122830
CREATED:20200302T184031Z
LAST-MODIFIED:20200330T173201Z
UID:10017779-1585897200-1585947600@newtonculture.org
SUMMARY:WSYMCA: Poetry Night CANCELED
DESCRIPTION:Join the West Suburban YMCA for Poetry Night. This monthly event features readings by two local poets\, then guests are invited to participate in the open mic portion of the evening to share their own written work. FREE and open to the public. Poetry Night occurs on the first Friday of every month. More info at wsymca.org.
URL:https://newtonculture.org/event/wsymca-poetry-night-2/
LOCATION:WSYMCA\, 276 Church St\, Newton\, MA\, 02458\, United States
CATEGORIES:Art,Community Event
END:VEVENT
BEGIN:VEVENT
DTSTART;TZID=America/New_York:20200328T090000
DTEND;TZID=America/New_York:20200328T170000
DTSTAMP:20260424T122830
CREATED:20200128T152401Z
LAST-MODIFIED:20200312T154804Z
UID:10016345-1585386000-1585414800@newtonculture.org
SUMMARY:SCC Makers Series: Spoon Carving CANCELED
DESCRIPTION:Al Miller will teach first-time\, beginner students how to carve and decorate wooden spoons that can be used as an eating or cooking utensil. The class instruction will focus on the safe way to use hand and machine tools. The decorating and finishing of the spoons will be included. Teaching methods include: showing samples of different types of spoons and butter/jam spreaders (wood knives)\, group instruction\, individual help\, and how to sharpen tools. All tools and equipment are provided for student use by the teacher: 2 spoon blanks and 1 butter/jam spreader are also included\, as is a pack of 1/4 sheets of sandpaper. Extra wood blanks and power carving sand paper can be purchased from the teacher. Cost is $200 for the two-day class. Class size is limited to 6. This workshop will sell out. A $50.00 deposit is required to hold a place for you. Send the deposit to: Al Miller 59 Nick Road Middlebury\, Ct. 06762 The Kaffestugan (Scandinavian Cafe) will be open Saturday\, from 11:00 a.m.-3:00 p.m.\, for open-faced sandwiches and pastries\, but please bring a lunch and water for other days. More info at scandicenter.org.
URL:https://newtonculture.org/event/2417-2/2020-03-28/
LOCATION:Scandinavian Cultural Center\, 206 Waltham St\, Newton\, MA\, 02465\, United States
CATEGORIES:Art,Culture and Education,Visual Arts
END:VEVENT
BEGIN:VEVENT
DTSTART;TZID=America/New_York:20200328T090000
DTEND;TZID=America/New_York:20200328T170000
DTSTAMP:20260424T122830
CREATED:20200128T150824Z
LAST-MODIFIED:20200312T154832Z
UID:10016344-1585386000-1585414800@newtonculture.org
SUMMARY:SCC Makers Series: Live Edge Bowl Rosemaling CANCELED
DESCRIPTION:We welcome back master artist Linda Miller for a two-day spring 2020 workshop dedicated to rosemaling a live edge bowl (for the more advanced students) and will also have a beginner project available. Background paint will be supplied. Brushes and palette knives will be offered for sale. The bowl to be bought from teacher. A list of student’s supplies will be sent upon registration. Beginners are welcome. Cost is $240. To register\, a $50.00 deposit is required to hold a place for you. Send the deposit to: Linda Miller 59 Nick Road Middlebury\, CT 06762. The Kaffestugan (Scandinavian Cafe) will be open Saturday\, from 11:00 a.m.-3:00 p.m.\, for open-faced sandwiches and pastries\, but please bring a lunch and water for other days. More info at scandicenter.org.
URL:https://newtonculture.org/event/makers-series-live-edge-bowl-rosemaling-at-scc-2/2020-03-28/
LOCATION:Scandinavian Cultural Center\, 206 Waltham St\, Newton\, MA\, 02465\, United States
CATEGORIES:Art,Culture and Education,Visual Arts
END:VEVENT
BEGIN:VEVENT
DTSTART;TZID=America/New_York:20200319T190000
DTEND;TZID=America/New_York:20200319T203000
DTSTAMP:20260424T122830
CREATED:20200127T213502Z
LAST-MODIFIED:20200317T183736Z
UID:10016342-1584644400-1584649800@newtonculture.org
SUMMARY:NAA Workshop: Websites for Artists - NOW ONLINE and FREE
DESCRIPTION:Having an effective artist website is a major part of being a visual artist today. The artist’s website is the base where an artist can show the scope of their artwork. Creating a clean\, easy to navigate artist website is surprisingly difficult with a whole host of challenges. Get practical advice for simple actions you can take to clean up and reorganize your artist website\, so it can better serve your needs as an artist.   \nNOW ONLINE: Visual artist and adjunct RISD professor Clara Lieu will share strategies for successful websites for artists during an evening workshop held at Newton City Hall. FREE: go to https://www.youtube.com/c/ClaraLieu.
URL:https://newtonculture.org/event/naa-workshop-artists-websites/
LOCATION:ONLINE\, United Kingdom\, E16 2DQ
CATEGORIES:Art,Culture and Education,Free Event,Performing Arts
ORGANIZER;CN="Newton Art Association":MAILTO:info@newtonartassociation.com
END:VEVENT
BEGIN:VEVENT
DTSTART;TZID=America/New_York:20200313T190000
DTEND;TZID=America/New_York:20200313T210000
DTSTAMP:20260424T122830
CREATED:20200226T215246Z
LAST-MODIFIED:20200317T182808Z
UID:10015778-1584126000-1584133200@newtonculture.org
SUMMARY:Art with a Twist at NAC CANCELED
DESCRIPTION:Create art in a maker space with local artist who will guide you through a different experience each session. Learn about materials and techniques in a space that encourages you to develop your own creativity. Enjoy a relaxed evening\, with beer and wine available for purchase. Come with your best friend\, a date\, or with your own creative spirit! All materials provided; tuition includes one drink. Theme: Circling Around – Create an Abstract Painting in acrylics based on circles\, geometric shapes\, and color galore! \nRegistration required. Click here to register. Event is for 21+. ID required.
URL:https://newtonculture.org/event/art-with-a-twist/
LOCATION:New Art Center\, 61 Washington Park\, Newton\, MA\, 02460\, United States
CATEGORIES:Art,Culture and Education
ORGANIZER;CN="New Art Center":MAILTO:info@newartcenter.org
END:VEVENT
BEGIN:VEVENT
DTSTART;TZID=America/New_York:20200312T193000
DTEND;TZID=America/New_York:20200312T210000
DTSTAMP:20260424T122830
CREATED:20200226T201256Z
LAST-MODIFIED:20200317T182257Z
UID:10015769-1584041400-1584046800@newtonculture.org
SUMMARY:Art Demo at Newton Art Association: Opaque Watercolors CANCELED
DESCRIPTION:Vicki Paret will demonstrate her use of opaque watercolors. Free and open to the public.
URL:https://newtonculture.org/event/art-demo-at-newton-art-association-opaque-watercolors/
LOCATION:Newton Senior Center\, 345 Walnut St\, Newton\, MA\, 02460\, United States
CATEGORIES:Art,Culture and Education,Free Event
ATTACH;FMTTYPE=image/png:https://newtonculture.org/wp-content/uploads/2019/11/10.png
ORGANIZER;CN="Newton Art Association":MAILTO:info@newtonartassociation.com
END:VEVENT
BEGIN:VEVENT
DTSTART;TZID=America/New_York:20200311T183000
DTEND;TZID=America/New_York:20200311T203000
DTSTAMP:20260424T122830
CREATED:20200226T203302Z
LAST-MODIFIED:20200312T155044Z
UID:10017754-1583951400-1583958600@newtonculture.org
SUMMARY:Ocllo Mason: "Changing Seasons" Gallery Reception CANCELED
DESCRIPTION:Join us at NewTV for a gallery reception for artist Ocllo Mason’s exhibit “Changing Seasons.” This event is free and open to the public. There will be wine and cheese and the chance to speak with the artist about her painting.
URL:https://newtonculture.org/event/ocllo-mason-changing-seasons-gallery-reception/
LOCATION:NewTV\, 23 Needham St\, Newton\, MA\, 02461\, United States
CATEGORIES:Art,Community Event,Free Event
ORGANIZER;CN="NewTV":MAILTO:newtv@newtv.org
END:VEVENT
BEGIN:VEVENT
DTSTART;TZID=America/New_York:20200306T180000
DTEND;TZID=America/New_York:20200306T200000
DTSTAMP:20260424T122830
CREATED:20200226T202540Z
LAST-MODIFIED:20200226T202540Z
UID:10017752-1583517600-1583524800@newtonculture.org
SUMMARY:Newton Art Association Reception: Emergence
DESCRIPTION:Come see Newton Art Association works juried into a show by the Piano Craft Gallery Board of Directors\, and enjoy refreshments and conversations about art. The opening reception will be on March 6th\, and the show will continue until March 29th. \nLocated at the Piano Craft Gallery at 793 Tremont St. Boston\, MA\, 02118.
URL:https://newtonculture.org/event/newton-art-association-reception-emergence/
LOCATION:Piano Craft Gallery\, 793 Tremont Street\, Boston\, MA\, 02118\, United States
CATEGORIES:Art,Visual Arts
ATTACH;FMTTYPE=image/png:https://newtonculture.org/wp-content/uploads/2019/11/10.png
ORGANIZER;CN="Newton Art Association":MAILTO:info@newtonartassociation.com
END:VEVENT
BEGIN:VEVENT
DTSTART;TZID=America/New_York:20200301T130000
DTEND;TZID=America/New_York:20200301T160000
DTSTAMP:20260424T122830
CREATED:20200210T191907Z
LAST-MODIFIED:20200427T150304Z
UID:10017731-1583067600-1583078400@newtonculture.org
SUMMARY:New Art Center: Family Art Drop-In CANCELED
DESCRIPTION:Drop in – everyone makes art! Visit New Art Center for an exciting free program for children with their parents\, grandparents\, or guardians. Explore 2 art-maker spaces; different projects each time! (This is a work-together program; children must be accompanied by an adult.) FREE and open to the public.
URL:https://newtonculture.org/event/new-art-center-family-art-drop-in/2020-03-01/
LOCATION:New Art Center\, 61 Washington Park\, Newton\, MA\, 02460\, United States
CATEGORIES:Art,Family Friendly,Free Event,Visual Arts
ORGANIZER;CN="New Art Center":MAILTO:info@newartcenter.org
END:VEVENT
BEGIN:VEVENT
DTSTART;TZID=America/New_York:20200209T143000
DTEND;TZID=America/New_York:20200209T160000
DTSTAMP:20260424T122830
CREATED:20200129T184103Z
LAST-MODIFIED:20200210T164743Z
UID:10017719-1581258600-1581264000@newtonculture.org
SUMMARY:NAA Artist Demo: Painters Should Be Printmakers
DESCRIPTION:Carol Letvin’s demonstration\, hosted by the Newton Art Association\, will cover an innovative printmaking process for painters. Using oil or acrylic painting supplies and some simple tools\, you can create beautiful\, unique mono-type prints. Try it during the demo FREE and open to the public. More info at https://newtonartassociation.com/
URL:https://newtonculture.org/event/naa-artist-demo-painters-should-be-printmakers/
LOCATION:Newton Senior Center\, 345 Walnut St\, Newton\, MA\, 02460\, United States
CATEGORIES:Art,Free Event,Visual Arts
ORGANIZER;CN="Newton Art Association":MAILTO:info@newtonartassociation.com
END:VEVENT
BEGIN:VEVENT
DTSTART;TZID=America/New_York:20200205T190000
DTEND;TZID=America/New_York:20200205T203000
DTSTAMP:20260424T122830
CREATED:20200127T191434Z
LAST-MODIFIED:20200210T165712Z
UID:10015897-1580929200-1580934600@newtonculture.org
SUMMARY:Newton Free Library: Joint Opening Reception for "Veiled" by Mary McSweeney & "Wander & Wonder" by Dan Brenton
DESCRIPTION:These art shows will be on view February 4-27: The face is Mary McSweeney’s greatest inspiration whether invented\, from life\, idealized\, distorted\, sculptural or flat. From describing form and light with small strokes to creating ambiguous spaces with broad and untamed washes\, Dan Brenton explores a variety of mark-making techniques. FREE and open to the public. More info at newtonfreelibrary.net
URL:https://newtonculture.org/event/joint-opening-reception-for-veiled-by-mary-mcsweeney-and-wander-and-wonder-by-dan-brenton/
LOCATION:Newton Free Library\, 330 Homer St\, Newton\, MA\, 02459\, United States
CATEGORIES:Art,Free Event,Visual Arts
ORGANIZER;CN="Newton Free Library":MAILTO:admin@newtonfreelibrary.net
END:VEVENT
BEGIN:VEVENT
DTSTART;TZID=UTC:20191207T100000
DTEND;TZID=UTC:20191207T140000
DTSTAMP:20260424T122830
CREATED:20191121T232035Z
LAST-MODIFIED:20200210T170603Z
UID:10015892-1575712800-1575727200@newtonculture.org
SUMMARY:New Art Center: Shibori Dyed Scarves
DESCRIPTION:Shibori is a group of traditional Japanese techniques used to create pattern on cloth. In this workshop\, students will stitch\, bind\, clamp\, and pole wrap cotton and silk scarves to be dyed. Each student will make 4-5 scarves. Once the scarves are dyed and resists are removed\, beautiful patterns emerge. Much like tie-dye\, there is an element of surprise once you dye your scarves and see what patterns appear. This class will use reactive dyes in a variety of colors. No experience necessary. Bring a lunch. Most supplies included; see website for materials list. The cost is $185. More info at newartcenter.org.
URL:https://newtonculture.org/event/shibori-dyed-scarves-at-nca/
LOCATION:New Art Center\, 61 Washington Park\, Newton\, MA\, 02460\, United States
CATEGORIES:Art,Visual Arts
END:VEVENT
BEGIN:VEVENT
DTSTART;TZID=UTC:20191201T103000
DTEND;TZID=UTC:20191201T150000
DTSTAMP:20260424T122830
CREATED:20191121T222247Z
LAST-MODIFIED:20200210T170805Z
UID:10015887-1575196200-1575212400@newtonculture.org
SUMMARY:Historic Newton: Meet the Makers and Museum Store Sunday
DESCRIPTION:Get a head start on your holiday shopping and support arts and culture in Newton at both of Historic Newton’s museums! Meet Newton artists and authors\, purchase work directly from them\, and enjoy a 20% discount on merchandise at the museum shops. At the Durant-Kenrick House from 10:30 a.m. to noon\, join us for “Art\, Spirituality and The Power of Creativity\,” an inclusive discussion with Newton artists and authors about the spiritual tones that often guide their creativity\, presented with NewCity Church. Free museum admission included. More info at historicnewton.org At the Jackson Homestead and Museum: \n\nArtists Cathy Cahill\, Wendy Lewis\, Krysten Morganti\, Barkley Shafer\, and Anneloes Van Beek\, display and sell their work from 10:30 a.m. to 3:00 p.m.\nAuthors Ken Bresler\, Lorenz J. Finison\, Marianne Leone\, Robin Stein and Hanni Myers\, visit from 1:00 to 3:00 p.m.\n\nAt the Durant-Kenrick House and Grounds: \n\nJoin us for “Art\, Spirituality and The Power of Creativity\,” a free discussion with Newton artists and authors about the spiritual tones that often guide their creativity. How do they combine personal expression with making a larger cultural statement in their work? What themes and values do they hope to communicate? Historic Newton partners with NewCity Church to host and moderate this inclusive conversation with Marian Dioguardi\, Grey Held\, Sandy Renna\, and Clara Silverstein from 10:30 a.m. to noon.\n\n\nFrom 1:00 to 3:00 p.m. participants in the panel discussion (artist Marian Dioguardi\, artist and author Grey Held\, wood crafter Sandy Renna\, and author Clara Silverstein) display and sell their work. Authors Cheryl Pappas\, Helen Waters\, and Mia Wenjen also sign and sell their books. Goods from MADE NEW Cafe + Shoppe carrying merchandise from Eurasia Coffee and Tea and CAUSEGEAR\, MADE FREE\, and Trades of Hope brands are also for sale.\n\nClick This Link for Biographies of our Participants!\nArtists (see below photo for authors)\nCathy Cahill\, mixed media and assemblage Marian Dioguardi\, painting\, tiles Grey Held\, illuminated poetry Wendy Lewis\, sculptures made from recycled watercolor paintings Krysten Morganti\, textiles Sandy Renna\, woodturning Barkley Shafer\, fleece-lined mittens made from recycled wool Anneloes Van Beek\, jewelry  NewCity Church\, MadeNew merchandise from Causegear\, Made Free\, and Trades of Hope  Authors Ken Bresler Lorenz J. Finison Marianne Leone Cheryl Pappas Clara Silverstein Robin Stein [with Hanni Myers] Helen Waters Mia Wenjen
URL:https://newtonculture.org/event/meet-the-makers-and-museum-store-sunday-2/
CATEGORIES:Art,Community Event,Culture and Education,Family Friendly,Free Event
END:VEVENT
END:VCALENDAR