BEGIN:VCALENDAR
VERSION:2.0
PRODID:-//Newton Cultural Alliance - ECPv6.13.2.1//NONSGML v1.0//EN
CALSCALE:GREGORIAN
METHOD:PUBLISH
X-WR-CALNAME:Newton Cultural Alliance
X-ORIGINAL-URL:https://newtonculture.org
X-WR-CALDESC:Events for Newton Cultural Alliance
REFRESH-INTERVAL;VALUE=DURATION:PT1H
X-Robots-Tag:noindex
X-PUBLISHED-TTL:PT1H
BEGIN:VTIMEZONE
TZID:America/New_York
BEGIN:DAYLIGHT
TZOFFSETFROM:-0500
TZOFFSETTO:-0400
TZNAME:EDT
DTSTART:20220313T070000
END:DAYLIGHT
BEGIN:STANDARD
TZOFFSETFROM:-0400
TZOFFSETTO:-0500
TZNAME:EST
DTSTART:20221106T060000
END:STANDARD
END:VTIMEZONE
BEGIN:VEVENT
DTSTART;TZID=America/New_York:20220507T150000
DTEND;TZID=America/New_York:20220507T170000
DTSTAMP:20260421T023328
CREATED:20220405T125537Z
LAST-MODIFIED:20220405T125537Z
UID:10020041-1651935600-1651942800@newtonculture.org
SUMMARY:Concert by Duo Amie to benefit Shelter Music Boston
DESCRIPTION:Please join us Saturday May 7th\, 2022 at 3 pm\, at the beautiful Allen House in Newton\, MA for a benefit concert in support of Shelter Music Boston! The musical program\, Shall We Dance?\, is a celebration of dance music and will be performed by the popular Boston-based piano-cello ensemble\, Duo Amie (Julie Reimann\, cello\, Ellyses Kuan\, piano)\, with guest appearance by Shelter Music Boston Artistic Director and renowned violinist\, Adrian Anantawan. Incorporating folk dances\, waltzes\, and Latin American dances\, the program will include Piazzolla’s Le Grand Tango\, Elizondo’s Danzas Latinoamericanas\, Saint-Saen’s Danse Macabre\, Kapustin’s Nearly Waltz\, Bartok’s Romanian Folk Dances\, and more! An ice cream reception sponsored by Rancatore’s Ice Cream will follow the performance. 100% of concert proceeds will benefit Shelter Music Boston\, a nonprofit organization promoting community\, creative interaction\, respect\, and the therapeutic benefit of music by performing chamber music concerts of the highest quality in homeless shelters and other sheltering environments.
URL:https://newtonculture.org/event/concert-by-duo-amie-to-benefit-shelter-music-boston/
LOCATION:The Allen Center\, 35 Webster St\, WEST NEWTON\, MA\, 02465\, United States
CATEGORIES:At the Allen Center,Music,Performing Arts
ATTACH;FMTTYPE=image/jpeg:https://newtonculture.org/wp-content/uploads/2022/04/duoamielogo-final-white.jpg
END:VEVENT
END:VCALENDAR