BEGIN:VCALENDAR
VERSION:2.0
PRODID:-//Newton Cultural Alliance - ECPv6.13.2.1//NONSGML v1.0//EN
CALSCALE:GREGORIAN
METHOD:PUBLISH
X-WR-CALNAME:Newton Cultural Alliance
X-ORIGINAL-URL:https://newtonculture.org
X-WR-CALDESC:Events for Newton Cultural Alliance
REFRESH-INTERVAL;VALUE=DURATION:PT1H
X-Robots-Tag:noindex
X-PUBLISHED-TTL:PT1H
BEGIN:VTIMEZONE
TZID:America/New_York
BEGIN:DAYLIGHT
TZOFFSETFROM:-0500
TZOFFSETTO:-0400
TZNAME:EDT
DTSTART:20240310T070000
END:DAYLIGHT
BEGIN:STANDARD
TZOFFSETFROM:-0400
TZOFFSETTO:-0500
TZNAME:EST
DTSTART:20241103T060000
END:STANDARD
END:VTIMEZONE
BEGIN:VEVENT
DTSTART;TZID=America/New_York:20240204T150000
DTEND;TZID=America/New_York:20240204T170000
DTSTAMP:20260419T200046
CREATED:20240110T154726Z
LAST-MODIFIED:20240111T171439Z
UID:10020959-1707058800-1707066000@newtonculture.org
SUMMARY:Cherry Street Music presents Nuevo Tango
DESCRIPTION:Cherry Street Music: Nuuvo Tango\nSunday\, February 4\, 3:00 pm \nNext up in Cherry Street Music’s Classical with Twist concert series is a Latin-inspired program Nuevo Tango\, curated by Artistic Director Allison Eldredge. The Allen Center will host an intimate afternoon program featuring Carlos Gabel’s “Por una Cabeza” arr. John Williams\, and Piazzolla’s “L’Histoire du Tango” features the Philadelphia Orchestra principal bassoon\, Daniel Matsukawa. The “twist” for this program is back by popular demand students from Boston String Academy\, along with violinists Markus Placci\, Tony Morales\, and BSA co-founders Mariesther and Marielisa Alvarez in works by Vivaldi and tangos from south of the border.
URL:https://newtonculture.org/event/cherry-street-music-presents-nuevo-tango/
LOCATION:The Allen Center\, 35 Webster St\, WEST NEWTON\, MA\, 02465\, United States
CATEGORIES:At the Allen Center
ATTACH;FMTTYPE=image/jpeg:https://newtonculture.org/wp-content/uploads/2024/01/Cherry-Street-Nuevo-Tango-24.jpg
END:VEVENT
BEGIN:VEVENT
DTSTART;TZID=America/New_York:20240207T120000
DTEND;TZID=America/New_York:20240207T140000
DTSTAMP:20260419T200046
CREATED:20240110T154536Z
LAST-MODIFIED:20240305T191750Z
UID:10021659-1707307200-1707314400@newtonculture.org
SUMMARY:Weekly Winter Farmer's Market
DESCRIPTION:Winter Farmers Market \nThe Good Food Farm will be again hosting an organic food market at The Allen Center. The Winter Market’s new hours are Tuesdays\, 12:00- 2:00 pm\, weather permitting. Purchase fresh fruits and vegetables such as beets\, carrots\, kohlrabi\, potatoes\, red and green cabbage\, turnips\, microgreens\, apples\, and multiple types of squash. There will also be(e) honey\, pickled beets\, pickled carrots\, applesauce\, pasture-raised eggs\, and organic popcorn! Click here to learn more about The Good Food Farm’s organic practices and weekly offerings.
URL:https://newtonculture.org/event/weekly-winter-farmers-market/2024-02-07/
LOCATION:The Allen Center\, 35 Webster St\, WEST NEWTON\, MA\, 02465\, United States
CATEGORIES:At the Allen Center
ATTACH;FMTTYPE=image/png:https://newtonculture.org/wp-content/uploads/2024/01/55-Off-3.png
END:VEVENT
BEGIN:VEVENT
DTSTART;TZID=America/New_York:20240207T120000
DTEND;TZID=America/New_York:20240207T140000
DTSTAMP:20260419T200046
CREATED:20240305T191453Z
LAST-MODIFIED:20240305T191454Z
UID:10021650-1707307200-1707314400@newtonculture.org
SUMMARY:Weekly Winter Farmer's Market
DESCRIPTION:Winter Farmers Market \nThe Good Food Farm will be again hosting an organic food market at The Allen Center. The Winter Market’s new hours are Tuesdays\, 12:00- 2:00 pm\, weather permitting. Purchase fresh fruits and vegetables such as beets\, carrots\, kohlrabi\, potatoes\, red and green cabbage\, turnips\, microgreens\, apples\, and multiple types of squash. There will also be(e) honey\, pickled beets\, pickled carrots\, applesauce\, pasture-raised eggs\, and organic popcorn! Click here to learn more about The Good Food Farm’s organic practices and weekly offerings.
URL:https://newtonculture.org/event/weekly-winter-farmers-market-2/2024-02-07/
LOCATION:The Allen Center\, 35 Webster St\, WEST NEWTON\, MA\, 02465\, United States
CATEGORIES:At the Allen Center
ATTACH;FMTTYPE=image/png:https://newtonculture.org/wp-content/uploads/2024/01/55-Off-3.png
END:VEVENT
BEGIN:VEVENT
DTSTART;TZID=America/New_York:20240214T120000
DTEND;TZID=America/New_York:20240214T140000
DTSTAMP:20260419T200046
CREATED:20240110T154536Z
LAST-MODIFIED:20240305T191750Z
UID:10021660-1707912000-1707919200@newtonculture.org
SUMMARY:Weekly Winter Farmer's Market
DESCRIPTION:Winter Farmers Market \nThe Good Food Farm will be again hosting an organic food market at The Allen Center. The Winter Market’s new hours are Tuesdays\, 12:00- 2:00 pm\, weather permitting. Purchase fresh fruits and vegetables such as beets\, carrots\, kohlrabi\, potatoes\, red and green cabbage\, turnips\, microgreens\, apples\, and multiple types of squash. There will also be(e) honey\, pickled beets\, pickled carrots\, applesauce\, pasture-raised eggs\, and organic popcorn! Click here to learn more about The Good Food Farm’s organic practices and weekly offerings.
URL:https://newtonculture.org/event/weekly-winter-farmers-market/2024-02-14/
LOCATION:The Allen Center\, 35 Webster St\, WEST NEWTON\, MA\, 02465\, United States
CATEGORIES:At the Allen Center
ATTACH;FMTTYPE=image/png:https://newtonculture.org/wp-content/uploads/2024/01/55-Off-3.png
END:VEVENT
BEGIN:VEVENT
DTSTART;TZID=America/New_York:20240214T120000
DTEND;TZID=America/New_York:20240214T140000
DTSTAMP:20260419T200046
CREATED:20240305T191453Z
LAST-MODIFIED:20240305T191454Z
UID:10021651-1707912000-1707919200@newtonculture.org
SUMMARY:Weekly Winter Farmer's Market
DESCRIPTION:Winter Farmers Market \nThe Good Food Farm will be again hosting an organic food market at The Allen Center. The Winter Market’s new hours are Tuesdays\, 12:00- 2:00 pm\, weather permitting. Purchase fresh fruits and vegetables such as beets\, carrots\, kohlrabi\, potatoes\, red and green cabbage\, turnips\, microgreens\, apples\, and multiple types of squash. There will also be(e) honey\, pickled beets\, pickled carrots\, applesauce\, pasture-raised eggs\, and organic popcorn! Click here to learn more about The Good Food Farm’s organic practices and weekly offerings.
URL:https://newtonculture.org/event/weekly-winter-farmers-market-2/2024-02-14/
LOCATION:The Allen Center\, 35 Webster St\, WEST NEWTON\, MA\, 02465\, United States
CATEGORIES:At the Allen Center
ATTACH;FMTTYPE=image/png:https://newtonculture.org/wp-content/uploads/2024/01/55-Off-3.png
END:VEVENT
BEGIN:VEVENT
DTSTART;TZID=America/New_York:20240221T120000
DTEND;TZID=America/New_York:20240221T140000
DTSTAMP:20260419T200046
CREATED:20240110T154536Z
LAST-MODIFIED:20240305T191750Z
UID:10021661-1708516800-1708524000@newtonculture.org
SUMMARY:Weekly Winter Farmer's Market
DESCRIPTION:Winter Farmers Market \nThe Good Food Farm will be again hosting an organic food market at The Allen Center. The Winter Market’s new hours are Tuesdays\, 12:00- 2:00 pm\, weather permitting. Purchase fresh fruits and vegetables such as beets\, carrots\, kohlrabi\, potatoes\, red and green cabbage\, turnips\, microgreens\, apples\, and multiple types of squash. There will also be(e) honey\, pickled beets\, pickled carrots\, applesauce\, pasture-raised eggs\, and organic popcorn! Click here to learn more about The Good Food Farm’s organic practices and weekly offerings.
URL:https://newtonculture.org/event/weekly-winter-farmers-market/2024-02-21/
LOCATION:The Allen Center\, 35 Webster St\, WEST NEWTON\, MA\, 02465\, United States
CATEGORIES:At the Allen Center
ATTACH;FMTTYPE=image/png:https://newtonculture.org/wp-content/uploads/2024/01/55-Off-3.png
END:VEVENT
BEGIN:VEVENT
DTSTART;TZID=America/New_York:20240221T120000
DTEND;TZID=America/New_York:20240221T140000
DTSTAMP:20260419T200046
CREATED:20240305T191453Z
LAST-MODIFIED:20240305T191454Z
UID:10021652-1708516800-1708524000@newtonculture.org
SUMMARY:Weekly Winter Farmer's Market
DESCRIPTION:Winter Farmers Market \nThe Good Food Farm will be again hosting an organic food market at The Allen Center. The Winter Market’s new hours are Tuesdays\, 12:00- 2:00 pm\, weather permitting. Purchase fresh fruits and vegetables such as beets\, carrots\, kohlrabi\, potatoes\, red and green cabbage\, turnips\, microgreens\, apples\, and multiple types of squash. There will also be(e) honey\, pickled beets\, pickled carrots\, applesauce\, pasture-raised eggs\, and organic popcorn! Click here to learn more about The Good Food Farm’s organic practices and weekly offerings.
URL:https://newtonculture.org/event/weekly-winter-farmers-market-2/2024-02-21/
LOCATION:The Allen Center\, 35 Webster St\, WEST NEWTON\, MA\, 02465\, United States
CATEGORIES:At the Allen Center
ATTACH;FMTTYPE=image/png:https://newtonculture.org/wp-content/uploads/2024/01/55-Off-3.png
END:VEVENT
BEGIN:VEVENT
DTSTART;TZID=America/New_York:20240228T120000
DTEND;TZID=America/New_York:20240228T140000
DTSTAMP:20260419T200046
CREATED:20240110T154536Z
LAST-MODIFIED:20240305T191750Z
UID:10021662-1709121600-1709128800@newtonculture.org
SUMMARY:Weekly Winter Farmer's Market
DESCRIPTION:Winter Farmers Market \nThe Good Food Farm will be again hosting an organic food market at The Allen Center. The Winter Market’s new hours are Tuesdays\, 12:00- 2:00 pm\, weather permitting. Purchase fresh fruits and vegetables such as beets\, carrots\, kohlrabi\, potatoes\, red and green cabbage\, turnips\, microgreens\, apples\, and multiple types of squash. There will also be(e) honey\, pickled beets\, pickled carrots\, applesauce\, pasture-raised eggs\, and organic popcorn! Click here to learn more about The Good Food Farm’s organic practices and weekly offerings.
URL:https://newtonculture.org/event/weekly-winter-farmers-market/2024-02-28/
LOCATION:The Allen Center\, 35 Webster St\, WEST NEWTON\, MA\, 02465\, United States
CATEGORIES:At the Allen Center
ATTACH;FMTTYPE=image/png:https://newtonculture.org/wp-content/uploads/2024/01/55-Off-3.png
END:VEVENT
END:VCALENDAR