BEGIN:VCALENDAR
VERSION:2.0
PRODID:-//Newton Cultural Alliance - ECPv6.13.2.1//NONSGML v1.0//EN
CALSCALE:GREGORIAN
METHOD:PUBLISH
X-ORIGINAL-URL:https://newtonculture.org
X-WR-CALDESC:Events for Newton Cultural Alliance
REFRESH-INTERVAL;VALUE=DURATION:PT1H
X-Robots-Tag:noindex
X-PUBLISHED-TTL:PT1H
BEGIN:VTIMEZONE
TZID:America/New_York
BEGIN:DAYLIGHT
TZOFFSETFROM:-0500
TZOFFSETTO:-0400
TZNAME:EDT
DTSTART:20240310T070000
END:DAYLIGHT
BEGIN:STANDARD
TZOFFSETFROM:-0400
TZOFFSETTO:-0500
TZNAME:EST
DTSTART:20241103T060000
END:STANDARD
END:VTIMEZONE
BEGIN:VEVENT
DTSTART;TZID=America/New_York:20240402T120000
DTEND;TZID=America/New_York:20240402T140000
DTSTAMP:20260419T170409
CREATED:20240305T191840Z
LAST-MODIFIED:20240305T191840Z
UID:10021927-1712059200-1712066400@newtonculture.org
SUMMARY:Weekly Winter Farmer's Market
DESCRIPTION:Winter Farmers Market \nThe Good Food Farm will be again hosting an organic food market at The Allen Center. The Winter Market’s new hours are Tuesdays\, 12:00- 2:00 pm\, weather permitting. Purchase fresh fruits and vegetables such as beets\, carrots\, kohlrabi\, potatoes\, red and green cabbage\, turnips\, microgreens\, apples\, and multiple types of squash. There will also be(e) honey\, pickled beets\, pickled carrots\, applesauce\, pasture-raised eggs\, and organic popcorn! Click here to learn more about The Good Food Farm’s organic practices and weekly offerings.
URL:https://newtonculture.org/event/weekly-winter-farmers-market-3/2024-04-02/
LOCATION:The Allen Center\, 35 Webster St\, WEST NEWTON\, MA\, 02465\, United States
CATEGORIES:At the Allen Center
ATTACH;FMTTYPE=image/png:https://newtonculture.org/wp-content/uploads/2024/01/55-Off-3.png
END:VEVENT
BEGIN:VEVENT
DTSTART;TZID=America/New_York:20240412T080000
DTEND;TZID=America/New_York:20240412T170000
DTSTAMP:20260419T170409
CREATED:20240304T143649Z
LAST-MODIFIED:20240304T143725Z
UID:10021631-1712908800-1712941200@newtonculture.org
SUMMARY:Newton Baroque presents Concerts Royaux:  Chamber Music at the Court of the young Louis XV
DESCRIPTION:Concerts Royaux:  Chamber Music at the Court of the young Louis XV\nFeaturing the noble Concerts Royaux by François Couperin and other chamber music written for performance at the Versailles court by Joseph Bodin de Boismotier.\nJulia Glenn – Violin\, Alison Gangler – Oboe\, Mary Oleskiewicz – flute\, Laura Jeppesen – Viola da gamba\, Sarah Freiberg Ellison – cello\, Andrus Madsen – Harpsichord
URL:https://newtonculture.org/event/newton-baroque-presents-concerts-royaux-chamber-music-at-the-court-of-the-young-louis-xv/
LOCATION:The Allen Center\, 35 Webster St\, WEST NEWTON\, MA\, 02465\, United States
CATEGORIES:At the Allen Center,Music
ATTACH;FMTTYPE=image/jpeg:https://newtonculture.org/wp-content/uploads/2024/03/Couperin-16_9yOR.jpg
END:VEVENT
BEGIN:VEVENT
DTSTART;TZID=America/New_York:20240416T120000
DTEND;TZID=America/New_York:20240416T140000
DTSTAMP:20260419T170409
CREATED:20240403T125808Z
LAST-MODIFIED:20240403T125809Z
UID:10021928-1713268800-1713276000@newtonculture.org
SUMMARY:Weekly Winter Farmer's Market
DESCRIPTION:Winter Farmers Market \nThe Good Food Farm will be again hosting an organic food market at The Allen Center. The Winter Market’s new hours are Tuesdays\, 12:00- 2:00 pm\, weather permitting. Purchase fresh fruits and vegetables such as beets\, carrots\, kohlrabi\, potatoes\, red and green cabbage\, turnips\, microgreens\, apples\, and multiple types of squash. There will also be(e) honey\, pickled beets\, pickled carrots\, applesauce\, pasture-raised eggs\, and organic popcorn! Click here to learn more about The Good Food Farm’s organic practices and weekly offerings.
URL:https://newtonculture.org/event/weekly-winter-farmers-market-3-2/2024-04-16/
LOCATION:The Allen Center\, 35 Webster St\, WEST NEWTON\, MA\, 02465\, United States
CATEGORIES:At the Allen Center
ATTACH;FMTTYPE=image/png:https://newtonculture.org/wp-content/uploads/2024/01/55-Off-3.png
END:VEVENT
BEGIN:VEVENT
DTSTART;TZID=America/New_York:20240430T120000
DTEND;TZID=America/New_York:20240430T140000
DTSTAMP:20260419T170409
CREATED:20240403T125808Z
LAST-MODIFIED:20240403T125809Z
UID:10021931-1714478400-1714485600@newtonculture.org
SUMMARY:Weekly Winter Farmer's Market
DESCRIPTION:Winter Farmers Market \nThe Good Food Farm will be again hosting an organic food market at The Allen Center. The Winter Market’s new hours are Tuesdays\, 12:00- 2:00 pm\, weather permitting. Purchase fresh fruits and vegetables such as beets\, carrots\, kohlrabi\, potatoes\, red and green cabbage\, turnips\, microgreens\, apples\, and multiple types of squash. There will also be(e) honey\, pickled beets\, pickled carrots\, applesauce\, pasture-raised eggs\, and organic popcorn! Click here to learn more about The Good Food Farm’s organic practices and weekly offerings.
URL:https://newtonculture.org/event/weekly-winter-farmers-market-3-2/2024-04-30/
LOCATION:The Allen Center\, 35 Webster St\, WEST NEWTON\, MA\, 02465\, United States
CATEGORIES:At the Allen Center
ATTACH;FMTTYPE=image/png:https://newtonculture.org/wp-content/uploads/2024/01/55-Off-3.png
END:VEVENT
END:VCALENDAR