BEGIN:VCALENDAR
VERSION:2.0
PRODID:-//Newton Cultural Alliance - ECPv6.13.2.1//NONSGML v1.0//EN
CALSCALE:GREGORIAN
METHOD:PUBLISH
X-WR-CALNAME:Newton Cultural Alliance
X-ORIGINAL-URL:https://newtonculture.org
X-WR-CALDESC:Events for Newton Cultural Alliance
REFRESH-INTERVAL;VALUE=DURATION:PT1H
X-Robots-Tag:noindex
X-PUBLISHED-TTL:PT1H
BEGIN:VTIMEZONE
TZID:America/New_York
BEGIN:DAYLIGHT
TZOFFSETFROM:-0500
TZOFFSETTO:-0400
TZNAME:EDT
DTSTART:20240310T070000
END:DAYLIGHT
BEGIN:STANDARD
TZOFFSETFROM:-0400
TZOFFSETTO:-0500
TZNAME:EST
DTSTART:20241103T060000
END:STANDARD
END:VTIMEZONE
BEGIN:VEVENT
DTSTART;TZID=America/New_York:20240518T180000
DTEND;TZID=America/New_York:20240518T210000
DTSTAMP:20260419T152742
CREATED:20240425T173536Z
LAST-MODIFIED:20240509T173036Z
UID:10021975-1716055200-1716066000@newtonculture.org
SUMMARY:Linda Plaut Festival of the Arts at The Allen Center
DESCRIPTION:The 9th Annual Linda Plaut Newton Festival of the Arts is back. The Festival will be a three-day event with The Allen Center hosting the 2nd day on May 18th. The Festival held from May 17-19th will have tons music styles with something for everyone to enjoy! All festival performances are free\, accessible and open to all. \n \n\n\n\n\nMay 18th\nThe Allen Center for the Arts\, 35 Webster St\, West Newton\n4:00 p.m. Amanda Shea & Grey Held – Spoken Word\n5:00 p.m.  Pro Arte Chamber Orchestra\n6:30 p.m.  Hankus Netsky & Eden MacAdam-Somer – Klezmer\n7:30 p.m.  Dominique Eade & George Russell Jr. – Duke Ellington Tribute
URL:https://newtonculture.org/event/linda-plaut-festival-of-the-arts-at-the-allen-center/
LOCATION:The Allen Center\, 35 Webster St\, WEST NEWTON\, MA\, 02465\, United States
CATEGORIES:At the Allen Center,Community Event
ATTACH;FMTTYPE=image/png:https://newtonculture.org/wp-content/uploads/2024/04/Untitled-design.png
END:VEVENT
END:VCALENDAR