BEGIN:VCALENDAR
VERSION:2.0
PRODID:-//Newton Cultural Alliance - ECPv6.13.2.1//NONSGML v1.0//EN
CALSCALE:GREGORIAN
METHOD:PUBLISH
X-WR-CALNAME:Newton Cultural Alliance
X-ORIGINAL-URL:https://newtonculture.org
X-WR-CALDESC:Events for Newton Cultural Alliance
REFRESH-INTERVAL;VALUE=DURATION:PT1H
X-Robots-Tag:noindex
X-PUBLISHED-TTL:PT1H
BEGIN:VTIMEZONE
TZID:America/New_York
BEGIN:DAYLIGHT
TZOFFSETFROM:-0500
TZOFFSETTO:-0400
TZNAME:EDT
DTSTART:20240310T070000
END:DAYLIGHT
BEGIN:STANDARD
TZOFFSETFROM:-0400
TZOFFSETTO:-0500
TZNAME:EST
DTSTART:20241103T060000
END:STANDARD
END:VTIMEZONE
BEGIN:VEVENT
DTSTART;TZID=America/New_York:20240207T120000
DTEND;TZID=America/New_York:20240207T140000
DTSTAMP:20260419T213519
CREATED:20240110T154536Z
LAST-MODIFIED:20240305T191750Z
UID:10021659-1707307200-1707314400@newtonculture.org
SUMMARY:Weekly Winter Farmer's Market
DESCRIPTION:Winter Farmers Market \nThe Good Food Farm will be again hosting an organic food market at The Allen Center. The Winter Market’s new hours are Tuesdays\, 12:00- 2:00 pm\, weather permitting. Purchase fresh fruits and vegetables such as beets\, carrots\, kohlrabi\, potatoes\, red and green cabbage\, turnips\, microgreens\, apples\, and multiple types of squash. There will also be(e) honey\, pickled beets\, pickled carrots\, applesauce\, pasture-raised eggs\, and organic popcorn! Click here to learn more about The Good Food Farm’s organic practices and weekly offerings.
URL:https://newtonculture.org/event/weekly-winter-farmers-market/2024-02-07/
LOCATION:The Allen Center\, 35 Webster St\, WEST NEWTON\, MA\, 02465\, United States
CATEGORIES:At the Allen Center
ATTACH;FMTTYPE=image/png:https://newtonculture.org/wp-content/uploads/2024/01/55-Off-3.png
END:VEVENT
BEGIN:VEVENT
DTSTART;TZID=America/New_York:20240207T120000
DTEND;TZID=America/New_York:20240207T140000
DTSTAMP:20260419T213519
CREATED:20240305T191453Z
LAST-MODIFIED:20240305T191454Z
UID:10021650-1707307200-1707314400@newtonculture.org
SUMMARY:Weekly Winter Farmer's Market
DESCRIPTION:Winter Farmers Market \nThe Good Food Farm will be again hosting an organic food market at The Allen Center. The Winter Market’s new hours are Tuesdays\, 12:00- 2:00 pm\, weather permitting. Purchase fresh fruits and vegetables such as beets\, carrots\, kohlrabi\, potatoes\, red and green cabbage\, turnips\, microgreens\, apples\, and multiple types of squash. There will also be(e) honey\, pickled beets\, pickled carrots\, applesauce\, pasture-raised eggs\, and organic popcorn! Click here to learn more about The Good Food Farm’s organic practices and weekly offerings.
URL:https://newtonculture.org/event/weekly-winter-farmers-market-2/2024-02-07/
LOCATION:The Allen Center\, 35 Webster St\, WEST NEWTON\, MA\, 02465\, United States
CATEGORIES:At the Allen Center
ATTACH;FMTTYPE=image/png:https://newtonculture.org/wp-content/uploads/2024/01/55-Off-3.png
END:VEVENT
END:VCALENDAR