BEGIN:VCALENDAR
VERSION:2.0
PRODID:-//Newton Cultural Alliance - ECPv6.13.2.1//NONSGML v1.0//EN
CALSCALE:GREGORIAN
METHOD:PUBLISH
X-ORIGINAL-URL:https://newtonculture.org
X-WR-CALDESC:Events for Newton Cultural Alliance
REFRESH-INTERVAL;VALUE=DURATION:PT1H
X-Robots-Tag:noindex
X-PUBLISHED-TTL:PT1H
BEGIN:VTIMEZONE
TZID:America/New_York
BEGIN:DAYLIGHT
TZOFFSETFROM:-0500
TZOFFSETTO:-0400
TZNAME:EDT
DTSTART:20260308T070000
END:DAYLIGHT
BEGIN:STANDARD
TZOFFSETFROM:-0400
TZOFFSETTO:-0500
TZNAME:EST
DTSTART:20261101T060000
END:STANDARD
END:VTIMEZONE
BEGIN:VEVENT
DTSTART;TZID=America/New_York:20260516T190000
DTEND;TZID=America/New_York:20260516T210000
DTSTAMP:20260419T230544
CREATED:20260415T172850Z
LAST-MODIFIED:20260415T173606Z
UID:10023666-1778958000-1778965200@newtonculture.org
SUMMARY:Cherry Street Music Presents Ari & Mia
DESCRIPTION:Sister duo Ari Friedman (cello & voice) and Mia Friedman (fiddle & voice) bring their chamber-folk magic to the stage in a special CD release celebration! Hailed as “strikingly beautiful\, distinctive and exhilarating” (No Depression)\, Ari & Mia weave original compositions with Southern and Northeastern fiddle traditions and the early American songbook into something entirely their own. Don’t miss this wonderful Cherry Street Music performance at The Allen Center! \nClick here for tickets.
URL:https://newtonculture.org/event/cherry-street-music-presents-ari-mia/
LOCATION:The Allen Center\, 35 Webster St\, WEST NEWTON\, MA\, 02465\, United States
CATEGORIES:At the Allen Center,Music
ATTACH;FMTTYPE=image/png:https://newtonculture.org/wp-content/uploads/2026/04/Ari-Mia-May-16-600-x-400-px.png
END:VEVENT
BEGIN:VEVENT
DTSTART;TZID=America/New_York:20260517T150000
DTEND;TZID=America/New_York:20260517T170000
DTSTAMP:20260419T230544
CREATED:20260416T145122Z
LAST-MODIFIED:20260416T152717Z
UID:10023668-1779030000-1779037200@newtonculture.org
SUMMARY:Cherry Street Music presents Allison Eldredge & Pei-Shan Lee
DESCRIPTION:Honor the 200th anniversary of Beethoven’s death with an extraordinary evening of classical music! Cellist Allison Eldredge and pianist Pei-Shan Lee perform his celebrated cello sonatas — works renowned for their emotional depth\, technical brilliance\, and bold\, innovative structures that offer a profound window into Beethoven’s humanity and genius. This performance is part of The Allen Center’s Cherry Street Music concert series with artistic director Allison Eldredge. \nClick here for tickets.
URL:https://newtonculture.org/event/allison-eldredge-pei-shan-lee/
LOCATION:The Allen Center\, 35 Webster St\, WEST NEWTON\, MA\, 02465\, United States
CATEGORIES:At the Allen Center,Music
ATTACH;FMTTYPE=image/jpeg:https://newtonculture.org/wp-content/uploads/2026/04/Allison-Pei-Shan-5.17.jpg
END:VEVENT
BEGIN:VEVENT
DTSTART;TZID=America/New_York:20260606T193000
DTEND;TZID=America/New_York:20260606T213000
DTSTAMP:20260419T230544
CREATED:20260415T173437Z
LAST-MODIFIED:20260415T173437Z
UID:10023667-1780774200-1780781400@newtonculture.org
SUMMARY:Cherry Street Music Presents The Black Feathers
DESCRIPTION:Back by popular demand\, Welsh folk duo The Black Feathers return to The Allen Center’s Cherry Street Music concert series. Serenading audiences with original songs that feel both modern and ancient\, you won’t want to miss these globe-trotting\, talented troubadours. This Linda Plaut Festival of the Arts program is generously supported by Spark Newton in partnership with The City of Newton. \nClick here for tickets!
URL:https://newtonculture.org/event/cherry-street-music-presents-the-black-feathers/
LOCATION:The Allen Center\, 35 Webster St\, WEST NEWTON\, MA\, 02465\, United States
CATEGORIES:At the Allen Center,Music
ATTACH;FMTTYPE=image/png:https://newtonculture.org/wp-content/uploads/2026/04/Black-Feathers-June-6-600-x-400-px.png
END:VEVENT
END:VCALENDAR