BEGIN:VCALENDAR
VERSION:2.0
PRODID:-//Newton Cultural Alliance - ECPv6.13.2.1//NONSGML v1.0//EN
CALSCALE:GREGORIAN
METHOD:PUBLISH
X-WR-CALNAME:Newton Cultural Alliance
X-ORIGINAL-URL:https://newtonculture.org
X-WR-CALDESC:Events for Newton Cultural Alliance
REFRESH-INTERVAL;VALUE=DURATION:PT1H
X-Robots-Tag:noindex
X-PUBLISHED-TTL:PT1H
BEGIN:VTIMEZONE
TZID:America/New_York
BEGIN:DAYLIGHT
TZOFFSETFROM:-0500
TZOFFSETTO:-0400
TZNAME:EDT
DTSTART:20220313T070000
END:DAYLIGHT
BEGIN:STANDARD
TZOFFSETFROM:-0400
TZOFFSETTO:-0500
TZNAME:EST
DTSTART:20221106T060000
END:STANDARD
END:VTIMEZONE
BEGIN:VEVENT
DTSTART;TZID=America/New_York:20220303T183000
DTEND;TZID=America/New_York:20220303T183000
DTSTAMP:20260422T223719
CREATED:20220112T135813Z
LAST-MODIFIED:20220202T154819Z
UID:10020000-1646332200-1646332200@newtonculture.org
SUMMARY:Newton Free Library presents: Jellyfish: How to Pastel Paint with Greg Maichack
DESCRIPTION:Join Gregory Maichack\, award-winning artist\, and two times Mass. Cultural Council Gold Star Award Program nominee\, for a hands-on zoom session. Materials will be provided for this fun\, two-hour “Take and Make” workshop. Greg will guide everyone in producing their very own original pastel of a stunning jellyfish as he teaches us how to create the special effect of translucency. The possibilities are bottomless and everyone will get to keep their 12 x 18” painting! Kits will be available at the Main Desk starting one week before the day of the program. Limit one kit per registrant please\, kit supply is limited.  Register here.
URL:https://newtonculture.org/event/jellyfish-how-to-pastel-paint-with-greg-maichack/
LOCATION:Newton Free Library\, 330 Homer St\, Newton\, MA\, 02459\, United States
CATEGORIES:Art,Culture and Education,Visual Arts
ATTACH;FMTTYPE=image/jpeg:https://newtonculture.org/wp-content/uploads/2022/01/3-3_Greg_Maichack_pastels.jpg
ORGANIZER;CN="Newton Free Library":MAILTO:admin@newtonfreelibrary.net
END:VEVENT
BEGIN:VEVENT
DTSTART;TZID=America/New_York:20220313T150000
DTEND;TZID=America/New_York:20220313T150000
DTSTAMP:20260422T223719
CREATED:20211001T164534Z
LAST-MODIFIED:20220105T145811Z
UID:10019931-1647183600-1647183600@newtonculture.org
SUMMARY:Pro Arte's Salon Series - Salon 4
DESCRIPTION:Pro Arte’s unique cooperative is comprised of musicians equally at home as soloists and chamber musicians as they are within the chamber orchestra. The Salon Series presents an opportunity for members of the cooperative to showcase their craft in various chamber groups performing a variety of exciting works. \nSalon 4’s program will feature members of Pro Arte’s string section. Full program details to be announced soon. Purchase tickets here.
URL:https://newtonculture.org/event/pro-artes-salon-series-salon-4/
LOCATION:The Allen Center\, 35 Webster St\, WEST NEWTON\, MA\, 02465\, United States
CATEGORIES:Community Event,Culture and Education,Music
ATTACH;FMTTYPE=image/png:https://newtonculture.org/wp-content/uploads/2021/11/2021-11-11-2.png
END:VEVENT
BEGIN:VEVENT
DTSTART;TZID=America/New_York:20220320T150000
DTEND;TZID=America/New_York:20220320T160000
DTSTAMP:20260422T223719
CREATED:20211026T154308Z
LAST-MODIFIED:20220302T145830Z
UID:10019975-1647788400-1647792000@newtonculture.org
SUMMARY:Canceled-Commonwealth Chorale presents: Country Sounds
DESCRIPTION:Classical or bluegrass? In our second concert of the season\, no need to choose. Composer Carol Barnett has combined the two styles in her bluegrass Mass\, The World Beloved. In her unusual approach Barnett has written what she calls “cheery sacred music\,” blending the usual solemnity of a Mass with down-home energy and rhythms of bluegrass. Please join us to hear Gwyneth Walker comment on her work and see how successful she is in her wonderful combination of styles. The performance will be accompanied by the renowned bluegrass band\, Monroe Crossing. \nIn addition\, the chorus will perform selections from Aaron Copland’s Old American Songs: Long Time Ago\, At the River\, and Simple Gifts. Monroe Crossing will also perform a set of bluegrass music. \nTo purchase tickets\, click here.
URL:https://newtonculture.org/event/commonwealth-chorale-presents-country-sounds/
LOCATION:Church of the Holy Name\, 1689 Centre Street\, West Roxbury\, MA\, 02132\, United States
CATEGORIES:Culture and Education,Music,Performing Arts
ATTACH;FMTTYPE=image/jpeg:https://newtonculture.org/wp-content/uploads/2021/10/Slideshow-Country.jpg
ORGANIZER;CN="Commonwealth Chorale":MAILTO:info@commonwealthchorale.com
END:VEVENT
END:VCALENDAR