BEGIN:VCALENDAR
VERSION:2.0
PRODID:-//Newton Cultural Alliance - ECPv6.13.2.1//NONSGML v1.0//EN
CALSCALE:GREGORIAN
METHOD:PUBLISH
X-WR-CALNAME:Newton Cultural Alliance
X-ORIGINAL-URL:https://newtonculture.org
X-WR-CALDESC:Events for Newton Cultural Alliance
REFRESH-INTERVAL;VALUE=DURATION:PT1H
X-Robots-Tag:noindex
X-PUBLISHED-TTL:PT1H
BEGIN:VTIMEZONE
TZID:America/New_York
BEGIN:DAYLIGHT
TZOFFSETFROM:-0500
TZOFFSETTO:-0400
TZNAME:EDT
DTSTART:20230312T070000
END:DAYLIGHT
BEGIN:STANDARD
TZOFFSETFROM:-0400
TZOFFSETTO:-0500
TZNAME:EST
DTSTART:20231105T060000
END:STANDARD
END:VTIMEZONE
BEGIN:VEVENT
DTSTART;TZID=America/New_York:20230429T180000
DTEND;TZID=America/New_York:20230429T200000
DTSTAMP:20260421T135832
CREATED:20230113T220542Z
LAST-MODIFIED:20230116T165326Z
UID:10020769-1682791200-1682798400@newtonculture.org
SUMMARY:Faculty Concert & Reception\, Suzuki School of Newton
DESCRIPTION:Suzuki School of Newton presents our popular Faculty Concert\, followed by a reception for all. Featuring a variety of musical selections of diverse genres and on various instruments. Tickets benefit the James Thornblade Memorial scholarship fund. In-person event and online viewing also available via Facebook livestream.
URL:https://newtonculture.org/event/faculty-concert-reception-suzuki-school-of-newton/
LOCATION:Newton Presbyterian Church\, 75 Vernon St.\, Newton\, MA\, United States
CATEGORIES:Community Event,Culture and Education,Family Friendly,Music
ATTACH;FMTTYPE=image/jpeg:https://newtonculture.org/wp-content/uploads/2023/01/Faculty-scaled.jpeg
ORGANIZER;CN="Suzuki School of Newton":MAILTO:email@suzukinewton.org
END:VEVENT
END:VCALENDAR