BEGIN:VCALENDAR
VERSION:2.0
PRODID:-//Newton Cultural Alliance - ECPv6.13.2.1//NONSGML v1.0//EN
CALSCALE:GREGORIAN
METHOD:PUBLISH
X-WR-CALNAME:Newton Cultural Alliance
X-ORIGINAL-URL:https://newtonculture.org
X-WR-CALDESC:Events for Newton Cultural Alliance
REFRESH-INTERVAL;VALUE=DURATION:PT1H
X-Robots-Tag:noindex
X-PUBLISHED-TTL:PT1H
BEGIN:VTIMEZONE
TZID:America/New_York
BEGIN:DAYLIGHT
TZOFFSETFROM:-0500
TZOFFSETTO:-0400
TZNAME:EDT
DTSTART:20230312T070000
END:DAYLIGHT
BEGIN:STANDARD
TZOFFSETFROM:-0400
TZOFFSETTO:-0500
TZNAME:EST
DTSTART:20231105T060000
END:STANDARD
END:VTIMEZONE
BEGIN:VEVENT
DTSTART;TZID=America/New_York:20230602T080000
DTEND;TZID=America/New_York:20230602T170000
DTSTAMP:20260421T110903
CREATED:20230602T152142Z
LAST-MODIFIED:20230602T152142Z
UID:10020859-1685692800-1685725200@newtonculture.org
SUMMARY:Historic Newton presents Walking Tour: Commonwealth Avenue
DESCRIPTION:Commonwealth Avenue\, a broad\, curving road originally called Newton Boulevard\, received an upgrade with the arrival of the Commonwealth Avenue Street Railway in 1895. Home construction soon followed. Join us for a look at the early streetcar line\, a few architectural gems\, and Boston Marathon history with author Paul Clerici on our approximately 1.5 mile route up and down part of Heartbreak Hill. Registration\, $20 per person\, $15 for Historic Newton members\, is required. Rain date: Thursday\, June 29. Register here.
URL:https://newtonculture.org/event/historic-newton-presents-walking-tour-commonwealth-avenue/
LOCATION:MA
CATEGORIES:Culture and Education
ATTACH;FMTTYPE=image/png:https://newtonculture.org/wp-content/uploads/2023/06/Untitled-design-2023-06-02T112123.288.png
END:VEVENT
BEGIN:VEVENT
DTSTART;TZID=America/New_York:20230603T100000
DTEND;TZID=America/New_York:20230603T110000
DTSTAMP:20260421T110903
CREATED:20230602T153436Z
LAST-MODIFIED:20230602T153436Z
UID:10019563-1685786400-1685790000@newtonculture.org
SUMMARY:New Art Center presents Drag Queen Story Hour
DESCRIPTION:New Art Center hosts Drag Queen Story Hour with Missy Steak in celebration of Pride Month. Parents and children of all ages are welcome to come.
URL:https://newtonculture.org/event/new-art-center-presents-drag-queen-story-hour/
LOCATION:New Art Center\, 61 Washington Park\, Newton\, MA\, 02460\, United States
CATEGORIES:Culture and Education,Family Friendly
ATTACH;FMTTYPE=image/jpeg:https://newtonculture.org/wp-content/uploads/2023/06/MissySteak_Feb_2021.jpeg
ORGANIZER;CN="New Art Center":MAILTO:info@newartcenter.org
END:VEVENT
BEGIN:VEVENT
DTSTART;TZID=America/New_York:20230608T180000
DTEND;TZID=America/New_York:20230608T190000
DTSTAMP:20260421T110903
CREATED:20230602T151612Z
LAST-MODIFIED:20230602T151953Z
UID:10020857-1686247200-1686250800@newtonculture.org
SUMMARY:Historic Newton presents Walking Tour: Sports Legends at Newton Cemetery
DESCRIPTION:Throughout history\, Newton’s schools\, public playing fields\, and parks have spawned many star athletes. Stroll through Newton Cemetery & Arboretum to see the final resting places and learn more about the lives of tennis great Hazel Hotchkiss Wightman\, baseball legend Dom DiMaggio\, golf course designer Donald Ross\, and many other sports legends. Registration\, $20 per adult and $15 for Historic Newton members is required. Register here.
URL:https://newtonculture.org/event/historic-newton-presents-walking-tour-sports-legends-at-newton-cemetery/
LOCATION:MA
CATEGORIES:Culture and Education
ATTACH;FMTTYPE=image/png:https://newtonculture.org/wp-content/uploads/2023/06/Untitled-design-2023-06-02T111506.182.png
END:VEVENT
END:VCALENDAR