BEGIN:VCALENDAR
VERSION:2.0
PRODID:-//Newton Cultural Alliance - ECPv6.13.2.1//NONSGML v1.0//EN
CALSCALE:GREGORIAN
METHOD:PUBLISH
X-ORIGINAL-URL:https://newtonculture.org
X-WR-CALDESC:Events for Newton Cultural Alliance
REFRESH-INTERVAL;VALUE=DURATION:PT1H
X-Robots-Tag:noindex
X-PUBLISHED-TTL:PT1H
BEGIN:VTIMEZONE
TZID:America/New_York
BEGIN:DAYLIGHT
TZOFFSETFROM:-0500
TZOFFSETTO:-0400
TZNAME:EDT
DTSTART:20240310T070000
END:DAYLIGHT
BEGIN:STANDARD
TZOFFSETFROM:-0400
TZOFFSETTO:-0500
TZNAME:EST
DTSTART:20241103T060000
END:STANDARD
END:VTIMEZONE
BEGIN:VEVENT
DTSTART;TZID=America/New_York:20240605T180000
DTEND;TZID=America/New_York:20240605T220000
DTSTAMP:20260422T171228
CREATED:20240513T154602Z
LAST-MODIFIED:20240513T154602Z
UID:10021987-1717610400-1717624800@newtonculture.org
SUMMARY:Queer Open Studios at Night
DESCRIPTION:Join New Art Center on June 5 for Queer Open Studios! Located at our main location\, this event will feature local queer community artists and makers\, along with live music\, crafts\, and entertainment so that attendees can experience everything that Newton’s arts and culture community has to offer. \nInterested in being a vendor? View our Call for Art page on our website!
URL:https://newtonculture.org/event/queer-open-studios-at-night/
LOCATION:New Art Center\, 61 Washington Park\, Newton\, MA\, 02460\, United States
CATEGORIES:Art,Community Event,Culture and Education,Free Event,Performing Arts,Visual Arts
ATTACH;FMTTYPE=image/png:https://newtonculture.org/wp-content/uploads/2024/05/queer-open-studios-2.png
ORGANIZER;CN="New Art Center":MAILTO:info@newartcenter.org
END:VEVENT
BEGIN:VEVENT
DTSTART;TZID=America/New_York:20240620T180000
DTEND;TZID=America/New_York:20240620T193000
DTSTAMP:20260422T171228
CREATED:20240628T205405Z
LAST-MODIFIED:20240628T205405Z
UID:10022007-1718906400-1718911800@newtonculture.org
SUMMARY:Who Inspired Our School Names? A Newton Cemetery Tour
DESCRIPTION:Stroll through the Newton Cemetery and learn more about the namesakes of many of our city’s elementary and middle schools. Learn about their lives and see the final resting places of Dr. Henry Bigelow\, Isaac Tucker Burr\, and others whose legacy continues in our public schools. With the upcoming renovations\, remodeling\, and construction of many Newton’s Public Schools\, now is the perfect time to reminisce about their founding and look forward to the future. \nWalking tours are $10 for members and $15 for non-members. Register at https://events.humanitix.com/schoolnames2024walkingtour. For more information and a complete list of this year’s walking tours visit www.newtonma.gov/HNwalks.
URL:https://newtonculture.org/event/who-inspired-our-school-names-a-newton-cemetery-tour/
LOCATION:Newton Cemetery and Arboretum\, 791 Walnut St\, Newton\, Massachusetts\, 02459\, United States
CATEGORIES:Culture and Education
ATTACH;FMTTYPE=image/jpeg:https://newtonculture.org/wp-content/uploads/2024/06/2023Aug_SportsCemeteryTour_4-scaled.jpg
END:VEVENT
END:VCALENDAR