BEGIN:VCALENDAR
VERSION:2.0
PRODID:-//Newton Cultural Alliance - ECPv6.13.2.1//NONSGML v1.0//EN
CALSCALE:GREGORIAN
METHOD:PUBLISH
X-ORIGINAL-URL:https://newtonculture.org
X-WR-CALDESC:Events for Newton Cultural Alliance
REFRESH-INTERVAL;VALUE=DURATION:PT1H
X-Robots-Tag:noindex
X-PUBLISHED-TTL:PT1H
BEGIN:VTIMEZONE
TZID:America/New_York
BEGIN:DAYLIGHT
TZOFFSETFROM:-0500
TZOFFSETTO:-0400
TZNAME:EDT
DTSTART:20240310T070000
END:DAYLIGHT
BEGIN:STANDARD
TZOFFSETFROM:-0400
TZOFFSETTO:-0500
TZNAME:EST
DTSTART:20241103T060000
END:STANDARD
END:VTIMEZONE
BEGIN:VEVENT
DTSTART;TZID=America/New_York:20241205T110000
DTEND;TZID=America/New_York:20241205T150000
DTSTAMP:20260423T033515
CREATED:20241125T220203Z
LAST-MODIFIED:20241125T220647Z
UID:10022752-1733396400-1733410800@newtonculture.org
SUMMARY:Historic Newton presents Museum Makerdays: Sewing
DESCRIPTION:The school day is over early and the museum is open! Stop by Durant-Kenrick House to try out a handicraft and make something new to take home with you. This month’s theme is sewing! Explore the history of the craft and sew your own drawstring bag to keep. Kids can also explore the exhibits and gardens\, build with LEGOs\, and play outdoor games. This is a series\, taking place each special early release day in school year 2024-2025\, according to the Newton Public School calendar. \n$5 per child\, kids 5 and under are free. Suitable for kids ages 5-15\, younger and older siblings welcome. Registration not required; drop in any time during the event. Adults must remain onsite during the program. Let us know you’re interested at: https://form-usa.keela.co/2425EarlyRelease
URL:https://newtonculture.org/event/museum-makerdays-sewing/
LOCATION:Durant-Kenrick House and Grounds\, 286 Waverley Ave\,\, Newton\, MA\, 02458
CATEGORIES:Art,Culture and Education,Family Friendly
ATTACH;FMTTYPE=image/jpeg:https://newtonculture.org/wp-content/uploads/2024/11/2024KidsAtPlay-scaled.jpg
END:VEVENT
BEGIN:VEVENT
DTSTART;TZID=America/New_York:20241208T100000
DTEND;TZID=America/New_York:20241208T140000
DTSTAMP:20260423T033515
CREATED:20241125T223049Z
LAST-MODIFIED:20241125T223049Z
UID:10022753-1733652000-1733666400@newtonculture.org
SUMMARY:Historic Newton presents Candles & Cards
DESCRIPTION:Get into the holiday spirit while you dip candles and craft cards! You’ll gain inspiration from vintage greeting cards and advertisements in our collection\, enjoy seasonal music and refreshments\, and craft candles and cards to keep or share with a friend. This program is appropriate for all ages; stop by anytime during the event. \nThis program is $5 for Historic Newton members and $10 for non-members. Register in advance at https://events.humanitix.com/candles-and-cards; walk-ins welcome.
URL:https://newtonculture.org/event/historic-newton-presents-candles-cards/
LOCATION:Durant-Kenrick House and Grounds\, 286 Waverley Ave\,\, Newton\, MA\, 02458
CATEGORIES:Art,Culture and Education,Family Friendly
ATTACH;FMTTYPE=image/jpeg:https://newtonculture.org/wp-content/uploads/2024/11/2023CandlesAndCards-participant-made-cards-2.jpg
END:VEVENT
BEGIN:VEVENT
DTSTART;TZID=America/New_York:20241217T080000
DTEND;TZID=America/New_York:20241217T170000
DTSTAMP:20260423T033515
CREATED:20250102T154838Z
LAST-MODIFIED:20250102T154838Z
UID:10022773-1734422400-1734454800@newtonculture.org
SUMMARY:Historic Newton Presents Newton History Series: A Pressing Matter - 18th Century Media Literacy and Bias
DESCRIPTION:Media and information literacy are essential 21st-century skills in order to be an informed citizen. These are also skills that\, when applied in a historical context\, help us become better historians. In this discussion\, we will analyze perspective\, language\, and bias in 18th-century newspapers\, with a critical lens on how news was consumed in colonial America. \nAbout the speaker: Michele Gabrielson is a local history teacher and historic interpreter of the 18th century. When she is not teaching in the classroom\, Michele can be found leading tours\, lectures\, and demonstrations at historic sites in the greater Boston area. She specializes in interpreting the history of colonial women printers\, the stories of loyalist refugees\, and of 18th century chocolate makers! Most recently\, she has taken on building a first-person impression of the revolutionary playwright and poet Mercy Otis Warren. Michele additionally serves on several historical committees dedicated to helping preserve the history of colonial America\, is a member of the Authenticity Standards Committee for Minuteman National Historic Park\, and is the coordinator for the Battle Road Guides for the annual reenactment of the Battle of Lexington and Concord. She was recently awarded a 2024 Rising Star Award for Public History by the Massachusetts History Alliance for her programming titled\, “The Revolutionary Classroom\,” and named a finalist for the 2024 Massachusetts History Teacher of the Year. \nThis program is part of the Newton History Series\, co-sponsored by Historic Newton and the Newton Free Library. Look out for lectures in both February and March 2025. \nThursday\, January 16\, 7:00 – 8:00 p.m.\nNewton Free Library\, Druker Auditorium\nFree\, registration not required
URL:https://newtonculture.org/event/historic-newton-presents-newton-history-series-a-pressing-matter-18th-century-media-literacy-and-bias/
LOCATION:Newton Free Library\, 330 Homer St\, Newton\, MA\, 02459\, United States
CATEGORIES:Art,Community Event,Culture and Education,Film and Media,Free Event
END:VEVENT
END:VCALENDAR