BEGIN:VCALENDAR
VERSION:2.0
PRODID:-//Newton Cultural Alliance - ECPv6.13.2.1//NONSGML v1.0//EN
CALSCALE:GREGORIAN
METHOD:PUBLISH
X-ORIGINAL-URL:https://newtonculture.org
X-WR-CALDESC:Events for Newton Cultural Alliance
REFRESH-INTERVAL;VALUE=DURATION:PT1H
X-Robots-Tag:noindex
X-PUBLISHED-TTL:PT1H
BEGIN:VTIMEZONE
TZID:America/New_York
BEGIN:DAYLIGHT
TZOFFSETFROM:-0500
TZOFFSETTO:-0400
TZNAME:EDT
DTSTART:20210314T070000
END:DAYLIGHT
BEGIN:STANDARD
TZOFFSETFROM:-0400
TZOFFSETTO:-0500
TZNAME:EST
DTSTART:20211107T060000
END:STANDARD
END:VTIMEZONE
BEGIN:VEVENT
DTSTART;VALUE=DATE:20210110
DTEND;VALUE=DATE:20210111
DTSTAMP:20260425T193536
CREATED:20200330T171900Z
LAST-MODIFIED:20200406T152214Z
UID:10016185-1610236800-1610323199@newtonculture.org
SUMMARY:An online series on the history & nature of Jewish choral music
DESCRIPTION:These audio and video podcasts\, presented by Zamir Chorale of Boston\, can serve as an introduction to the field of Jewish Choral Music. But caveat lector\, these are not comprehensive; they provide only an introduction to the field. Readers may follow up with the many texts and websites that are listed elsewhere in this website: https://www.jewishchoralmusic.com/podcasts
URL:https://newtonculture.org/event/an-online-series-on-the-history-and-nature-of-jewish-choral-music/2021-01-10/
LOCATION:ONLINE\, United Kingdom\, E16 2DQ
CATEGORIES:Culture and Education
ATTACH;FMTTYPE=image/jpeg:https://newtonculture.org/wp-content/uploads/2020/03/JewishChoralMusic-homepage-1024x568-1.jpg
ORGANIZER;CN="Zamir Chorale of Boston":MAILTO:manager@zamir.org
END:VEVENT
BEGIN:VEVENT
DTSTART;TZID=America/New_York:20210110T123000
DTEND;TZID=America/New_York:20210110T163000
DTSTAMP:20260425T193536
CREATED:20210107T173756Z
LAST-MODIFIED:20210107T173756Z
UID:10019360-1610281800-1610296200@newtonculture.org
SUMMARY:Suzuki School's: Every Child Can! Course
DESCRIPTION:Every Child Can! (ECC) is an introduction to Dr. Suzuki’s philosophy and its application to Suzuki education. For parents\, teachers\, prospective teachers\, and others\, this course provides an inspiring\, in-depth look at the Suzuki approach to teaching and learning. The Suzuki School of Newton is having Sachiko Isihara teach this class Jan 10th and Jan. 17th from 12:30 to 4:30. Please send an email to email@suzukinewton.org with the application for the class\, which can be found online on our website’s teacher training page. It is $135 to be in the class\, $155 after the Jan. 30th deadline.
URL:https://newtonculture.org/event/suzuki-schools-every-child-can-course/2021-01-10/
LOCATION:Zoom
CATEGORIES:Culture and Education,Music
ATTACH;FMTTYPE=image/jpeg:https://newtonculture.org/wp-content/uploads/2020/12/every-child-can.jpeg
ORGANIZER;CN="Suzuki School of Newton":MAILTO:email@suzukinewton.org
END:VEVENT
BEGIN:VEVENT
DTSTART;TZID=America/New_York:20210110T140000
DTEND;TZID=America/New_York:20210110T160000
DTSTAMP:20260425T193536
CREATED:20201026T163153Z
LAST-MODIFIED:20201026T163153Z
UID:10018490-1610287200-1610294400@newtonculture.org
SUMMARY:Newton Art Association: Online Artists' Demos
DESCRIPTION:Watch Artists Work!\nThe NAA hosts eight artists each year who share their media\, message\, and skills.\nFall and spring demos are on Thursday evenings; winter demos are on Sunday afternoons. This year some demos will be virtual. Click on the links below on each demo to get zoom link (will be provided a few days before day of demo). \nUPCOMING DEMOS | CLICK ON LINK FOR MORE INFO\nThursday\, November 12\, 7-9 p.m. | James C. Varnum: Mixed Media\nSunday\, December 6\, 2-4 p.m. | Janet Schwartz: Pastel\nSunday\, January 10\, 2021\, 2-4 p.m. | Adria Arch: Printing for Painters \nAll are free and open to the public.
URL:https://newtonculture.org/event/newton-art-association-online-artists-demos/2021-01-10/
LOCATION:ONLINE\, United Kingdom\, E16 2DQ
CATEGORIES:Art,Culture and Education,Visual Arts
ATTACH;FMTTYPE=image/png:https://newtonculture.org/wp-content/uploads/2019/11/10.png
ORGANIZER;CN="Newton Art Association":MAILTO:info@newtonartassociation.com
END:VEVENT
END:VCALENDAR