BEGIN:VCALENDAR
VERSION:2.0
PRODID:-//Newton Cultural Alliance - ECPv6.13.2.1//NONSGML v1.0//EN
CALSCALE:GREGORIAN
METHOD:PUBLISH
X-ORIGINAL-URL:https://newtonculture.org
X-WR-CALDESC:Events for Newton Cultural Alliance
REFRESH-INTERVAL;VALUE=DURATION:PT1H
X-Robots-Tag:noindex
X-PUBLISHED-TTL:PT1H
BEGIN:VTIMEZONE
TZID:America/New_York
BEGIN:DAYLIGHT
TZOFFSETFROM:-0500
TZOFFSETTO:-0400
TZNAME:EDT
DTSTART:20210314T070000
END:DAYLIGHT
BEGIN:STANDARD
TZOFFSETFROM:-0400
TZOFFSETTO:-0500
TZNAME:EST
DTSTART:20211107T060000
END:STANDARD
END:VTIMEZONE
BEGIN:VEVENT
DTSTART;VALUE=DATE:20210203
DTEND;VALUE=DATE:20210204
DTSTAMP:20260425T180638
CREATED:20200330T171900Z
LAST-MODIFIED:20200406T152214Z
UID:10016209-1612310400-1612396799@newtonculture.org
SUMMARY:An online series on the history & nature of Jewish choral music
DESCRIPTION:These audio and video podcasts\, presented by Zamir Chorale of Boston\, can serve as an introduction to the field of Jewish Choral Music. But caveat lector\, these are not comprehensive; they provide only an introduction to the field. Readers may follow up with the many texts and websites that are listed elsewhere in this website: https://www.jewishchoralmusic.com/podcasts
URL:https://newtonculture.org/event/an-online-series-on-the-history-and-nature-of-jewish-choral-music/2021-02-03/
LOCATION:ONLINE\, United Kingdom\, E16 2DQ
CATEGORIES:Culture and Education
ATTACH;FMTTYPE=image/jpeg:https://newtonculture.org/wp-content/uploads/2020/03/JewishChoralMusic-homepage-1024x568-1.jpg
ORGANIZER;CN="Zamir Chorale of Boston":MAILTO:manager@zamir.org
END:VEVENT
BEGIN:VEVENT
DTSTART;TZID=America/New_York:20210203T183000
DTEND;TZID=America/New_York:20210203T193000
DTSTAMP:20260425T180638
CREATED:20210122T172015Z
LAST-MODIFIED:20210122T172015Z
UID:10018679-1612377000-1612380600@newtonculture.org
SUMMARY:Newton Free Library presents: Create Your Own Comics
DESCRIPTION:Do you like Dogman\, Narwhal & Jelly or the Babysitters Club? Come learn about how to make your own comics! We will meet on the first two Wednesdays evenings: February through June. Learn about the ways you can make your comics go KA-POW! as we write\, draw\, and share. Join us for this beginner’s creative writing workshop for children in third and fourth grade. A reminder email and zoom link will be sent out prior to the first session. \nOnline registration is required and begins Wednesday\, January 20 at 6:30pm. \nWhen you register\, you register for ALL 10 sessions: 2/3\, 2/10\, 3/3\, 3/10\, 4/7\, 4/14\, 5/5\, 5/12\, 6/2\, and 6/9.
URL:https://newtonculture.org/event/newton-free-library-presents-create-your-own-comics/2021-02-03/
LOCATION:ONLINE\, United Kingdom\, E16 2DQ
CATEGORIES:Culture and Education,Literary Arts,Visual Arts
ATTACH;FMTTYPE=image/jpeg:https://newtonculture.org/wp-content/uploads/2021/01/write_stuff.jpg
ORGANIZER;CN="Newton Free Library":MAILTO:admin@newtonfreelibrary.net
END:VEVENT
END:VCALENDAR