BEGIN:VCALENDAR
VERSION:2.0
PRODID:-//Newton Cultural Alliance - ECPv6.13.2.1//NONSGML v1.0//EN
CALSCALE:GREGORIAN
METHOD:PUBLISH
X-ORIGINAL-URL:https://newtonculture.org
X-WR-CALDESC:Events for Newton Cultural Alliance
REFRESH-INTERVAL;VALUE=DURATION:PT1H
X-Robots-Tag:noindex
X-PUBLISHED-TTL:PT1H
BEGIN:VTIMEZONE
TZID:America/New_York
BEGIN:DAYLIGHT
TZOFFSETFROM:-0500
TZOFFSETTO:-0400
TZNAME:EDT
DTSTART:20210314T070000
END:DAYLIGHT
BEGIN:STANDARD
TZOFFSETFROM:-0400
TZOFFSETTO:-0500
TZNAME:EST
DTSTART:20211107T060000
END:STANDARD
END:VTIMEZONE
BEGIN:VEVENT
DTSTART;TZID=America/New_York:20210721T160000
DTEND;TZID=America/New_York:20210721T180000
DTSTAMP:20260424T032719
CREATED:20210525T164943Z
LAST-MODIFIED:20210525T164943Z
UID:10019569-1626883200-1626890400@newtonculture.org
SUMMARY:New Art Center presents: Media Musing
DESCRIPTION:Join us for a 6-week come as you are mixed media mashup inspired by our Women in Abstraction exhibition! Students will use mixed media to explore collage and other forms of making. Perfect for making friends with the inner critic\, connecting with inspiration\, or connecting family and friends. We will center on playful discovery to create a series of work through mark-making\, layering\, materials\, and prompts (music and readings). Students will be given a weekly (optional) assignment as well as a demonstration on how to approach the materials and surfaces suggested. Register here.
URL:https://newtonculture.org/event/new-art-center-presents-media-musing/2021-07-21/
LOCATION:ONLINE\, United Kingdom\, E16 2DQ
CATEGORIES:Art,Culture and Education
ATTACH;FMTTYPE=image/jpeg:https://newtonculture.org/wp-content/uploads/2021/05/ACS21601-1536x1122-1.jpeg
ORGANIZER;CN="New Art Center":MAILTO:info@newartcenter.org
END:VEVENT
BEGIN:VEVENT
DTSTART;TZID=America/New_York:20210721T163000
DTEND;TZID=America/New_York:20210721T171500
DTSTAMP:20260424T032719
CREATED:20210708T161019Z
LAST-MODIFIED:20210708T161019Z
UID:10018880-1626885000-1626887700@newtonculture.org
SUMMARY:Newton Free Library presents: Poetry by the Pooh Statues
DESCRIPTION:Do you love poetry and want to write some with other children?  Meet us by the Pooh Statues behind the library to participate in this fun budding writer’s workshop!  We will have paper and pencils.  Just bring yourselves and your creativity.  For ages 6-9 and their caregivers. If the ground is wet or in case of rain\, this program will be virtual and a zoom link will be added to this description that morning.
URL:https://newtonculture.org/event/newton-free-library-presents-poetry-by-the-pooh-statues/
LOCATION:Newton Free Library\, 330 Homer St\, Newton\, MA\, 02459\, United States
CATEGORIES:Culture and Education,Family Friendly,Literary Arts
ATTACH;FMTTYPE=image/png:https://newtonculture.org/wp-content/uploads/2019/11/Logos-500px-10-newtonlib-e1578597870408.png
ORGANIZER;CN="Newton Free Library":MAILTO:admin@newtonfreelibrary.net
END:VEVENT
END:VCALENDAR