BEGIN:VCALENDAR
VERSION:2.0
PRODID:-//Newton Cultural Alliance - ECPv6.13.2.1//NONSGML v1.0//EN
CALSCALE:GREGORIAN
METHOD:PUBLISH
X-WR-CALNAME:Newton Cultural Alliance
X-ORIGINAL-URL:https://newtonculture.org
X-WR-CALDESC:Events for Newton Cultural Alliance
REFRESH-INTERVAL;VALUE=DURATION:PT1H
X-Robots-Tag:noindex
X-PUBLISHED-TTL:PT1H
BEGIN:VTIMEZONE
TZID:America/New_York
BEGIN:DAYLIGHT
TZOFFSETFROM:-0500
TZOFFSETTO:-0400
TZNAME:EDT
DTSTART:20220313T070000
END:DAYLIGHT
BEGIN:STANDARD
TZOFFSETFROM:-0400
TZOFFSETTO:-0500
TZNAME:EST
DTSTART:20221106T060000
END:STANDARD
END:VTIMEZONE
BEGIN:VEVENT
DTSTART;TZID=America/New_York:20220206T140000
DTEND;TZID=America/New_York:20220206T160000
DTSTAMP:20260423T051843
CREATED:20211013T160930Z
LAST-MODIFIED:20211013T160930Z
UID:10019144-1644156000-1644163200@newtonculture.org
SUMMARY:Newton Art Association presents: Demo with YoAhn Han
DESCRIPTION:Paper cutting (YUPO) with a concept of “Negative and Positive” space and paper collages with diaphanous patterns\nYoAhn Han is a Korean painter based in Boston whose work is a visual dialogue between suppression and desire\, a duality which speaks to both his experience of cerebral arteriovenous malformation and to his bifurcated cultural identity. \nHe received his MFA 2D at Massachusetts College of Art and Design\, and obtained a Bachelors of Fine Art from the School of the Art Institute of Chicago (SAIC). YoAhn’s work has been shown internationally\, in the United States\, South Korea\, and the Netherlands. Recent solo shows include “Botanical Rhapsody” at Chase Young Gallery in Boston\, “Metamorphic Desire” at Essex Art center (Jan\, 2018)\, “My Princess\, Bari” at ARTMORA Gallery in New York\, “Alluring Confinement” at the Artlery 160 in Boston\, and 매혹적 가두어짐 (Enchanting Box) in Seoul\, Korea. His work has also been exhibited in several group shows including “Summer Palette” at Chase Young Gallery in Boston\, Seventh Juried Exhibition at Prince Street Gallery in New York\, ART BLOSSM Exhibition at ARTMORA NJ\, and Sanqtuary at Distillery Gallery in Boston. \nYoAhn has also participated in the annual MassArt Auctions and the 2016 Busan international Art fair. \nClick here for Zoom link.
URL:https://newtonculture.org/event/newton-art-association-presents-demo-with-yoahn-han/
LOCATION:Zoom
CATEGORIES:Art,Culture and Education,Visual Arts
ATTACH;FMTTYPE=image/jpeg:https://newtonculture.org/wp-content/uploads/2021/10/Yo-Ahn-Hahan-Demo.jpg
END:VEVENT
END:VCALENDAR