BEGIN:VCALENDAR
VERSION:2.0
PRODID:-//Newton Cultural Alliance - ECPv6.13.2.1//NONSGML v1.0//EN
CALSCALE:GREGORIAN
METHOD:PUBLISH
X-WR-CALNAME:Newton Cultural Alliance
X-ORIGINAL-URL:https://newtonculture.org
X-WR-CALDESC:Events for Newton Cultural Alliance
REFRESH-INTERVAL;VALUE=DURATION:PT1H
X-Robots-Tag:noindex
X-PUBLISHED-TTL:PT1H
BEGIN:VTIMEZONE
TZID:America/New_York
BEGIN:DAYLIGHT
TZOFFSETFROM:-0500
TZOFFSETTO:-0400
TZNAME:EDT
DTSTART:20220313T070000
END:DAYLIGHT
BEGIN:STANDARD
TZOFFSETFROM:-0400
TZOFFSETTO:-0500
TZNAME:EST
DTSTART:20221106T060000
END:STANDARD
END:VTIMEZONE
BEGIN:VEVENT
DTSTART;TZID=America/New_York:20220601T173000
DTEND;TZID=America/New_York:20220601T184500
DTSTAMP:20260422T183557
CREATED:20220523T154318Z
LAST-MODIFIED:20220523T154318Z
UID:10019333-1654104600-1654109100@newtonculture.org
SUMMARY:Amherst Early Music presents Early Notation with Annette Bauer
DESCRIPTION:“Back to Basics / Review / New Intro” Wednesdays 5:30-6:45pm EST: June 1\, 8\, 15 & 22 \nOpen to all instrumentalists and singers! Pitch: A=440. \nAfter a year of focused work on 15th-century notation topics\, we close our current season before the summer break with a 4-week online series featuring a “casual” selection of shorter pieces from late 15th and early 16th century sources. This series is designed for both ongoing students to review some of the basic concepts of mensural notation\, to deepen and enjoy the fluency gained over the past few months of studies\, and for new students to join in for a first practical experience with mensural notation… $100 for four sessions\, recordings of each class are available during the week after class… See the complete description for these classes\, and sign up here! \nhttps://www.amherstearlymusic.org/online/early-notation-annette-bauer-back-basics-review-new-intro
URL:https://newtonculture.org/event/amherst-early-music-presents-early-notation-with-annette-bauer/2022-06-01/
LOCATION:MA
CATEGORIES:Culture and Education,Music
ATTACH;FMTTYPE=image/jpeg:https://newtonculture.org/wp-content/uploads/2022/05/Claude_Gervaise_Pavan.jpg
ORGANIZER;CN="Amherst Early Music":MAILTO:info@amherstearlymusic.org
END:VEVENT
END:VCALENDAR