BEGIN:VCALENDAR
VERSION:2.0
PRODID:-//Newton Cultural Alliance - ECPv6.13.2.1//NONSGML v1.0//EN
CALSCALE:GREGORIAN
METHOD:PUBLISH
X-ORIGINAL-URL:https://newtonculture.org
X-WR-CALDESC:Events for Newton Cultural Alliance
REFRESH-INTERVAL;VALUE=DURATION:PT1H
X-Robots-Tag:noindex
X-PUBLISHED-TTL:PT1H
BEGIN:VTIMEZONE
TZID:America/New_York
BEGIN:DAYLIGHT
TZOFFSETFROM:-0500
TZOFFSETTO:-0400
TZNAME:EDT
DTSTART:20230312T070000
END:DAYLIGHT
BEGIN:STANDARD
TZOFFSETFROM:-0400
TZOFFSETTO:-0500
TZNAME:EST
DTSTART:20231105T060000
END:STANDARD
END:VTIMEZONE
BEGIN:VEVENT
DTSTART;TZID=America/New_York:20230526T080000
DTEND;TZID=America/New_York:20230529T170000
DTSTAMP:20260421T140537
CREATED:20230426T153602Z
LAST-MODIFIED:20230426T153602Z
UID:10020838-1685088000-1685379600@newtonculture.org
SUMMARY:Amherst Early Music presents A Memorial Day Weekend Workshop
DESCRIPTION:Please join us for our wonderful Memorial Day Weekend Workshop!\nMay 26-29\, at Wisdom House in Litchfield\, Connecticut. Registration now open! \nDirected by Valerie Horst\, with faculty: Deborah Booth\, Eric Haas\, Valerie Horst\, Lawrence Lipnik\, Sarah Mead\, Patricia Petersen\, and Gwyn Roberts.
URL:https://newtonculture.org/event/amherst-early-music-presents-a-memorial-day-weekend-workshop/
LOCATION:MA
CATEGORIES:Culture and Education,Music
END:VEVENT
END:VCALENDAR