BEGIN:VCALENDAR
VERSION:2.0
PRODID:-//Newton Cultural Alliance - ECPv6.13.2.1//NONSGML v1.0//EN
CALSCALE:GREGORIAN
METHOD:PUBLISH
X-ORIGINAL-URL:https://newtonculture.org
X-WR-CALDESC:Events for Newton Cultural Alliance
REFRESH-INTERVAL;VALUE=DURATION:PT1H
X-Robots-Tag:noindex
X-PUBLISHED-TTL:PT1H
BEGIN:VTIMEZONE
TZID:America/New_York
BEGIN:DAYLIGHT
TZOFFSETFROM:-0500
TZOFFSETTO:-0400
TZNAME:EDT
DTSTART:20240310T070000
END:DAYLIGHT
BEGIN:STANDARD
TZOFFSETFROM:-0400
TZOFFSETTO:-0500
TZNAME:EST
DTSTART:20241103T060000
END:STANDARD
END:VTIMEZONE
BEGIN:VEVENT
DTSTART;TZID=America/New_York:20241114T183000
DTEND;TZID=America/New_York:20241114T193000
DTSTAMP:20260423T033537
CREATED:20241108T165208Z
LAST-MODIFIED:20241108T165450Z
UID:10022742-1731609000-1731612600@newtonculture.org
SUMMARY:Suzuki School presents a Parent Information Session
DESCRIPTION:Join Suzuki School for a Parent Information Session on Thursday\, November 14th\, 6:30-7:30 PM to learn about violin\, viola\, and cello lessons at the Suzuki School of Newton!  No fees or commitments required to attend! \nOur group classes are a key part of the Suzuki curriculum\, combining individual lessons\, group lessons\, and musicianship each week. Playing with peers helps students build confidence\, improve memory\, and develop stamina—while younger students find role models and older students see their progress firsthand. \nReady to begin your child’s musical journey? Email suzukinewton@gmail.com or visit suzukinewton.org for more details.
URL:https://newtonculture.org/event/suzuki-school-presents-a-parent-information-session/
LOCATION:Suzuki School of Newton\, 1615 Beacon St\, Waban\, MA\, 02468\, United States
CATEGORIES:Culture and Education
ATTACH;FMTTYPE=image/jpeg:https://newtonculture.org/wp-content/uploads/2024/11/Suzuki-Strings-Information-Session-A-Frame-Poster-800-x-400-px-1.jpg
ORGANIZER;CN="Suzuki School of Newton":MAILTO:email@suzukinewton.org
END:VEVENT
END:VCALENDAR