BEGIN:VCALENDAR
VERSION:2.0
PRODID:-//Newton Cultural Alliance - ECPv6.13.2.1//NONSGML v1.0//EN
CALSCALE:GREGORIAN
METHOD:PUBLISH
X-ORIGINAL-URL:https://newtonculture.org
X-WR-CALDESC:Events for Newton Cultural Alliance
REFRESH-INTERVAL;VALUE=DURATION:PT1H
X-Robots-Tag:noindex
X-PUBLISHED-TTL:PT1H
BEGIN:VTIMEZONE
TZID:America/New_York
BEGIN:DAYLIGHT
TZOFFSETFROM:-0500
TZOFFSETTO:-0400
TZNAME:EDT
DTSTART:20250309T070000
END:DAYLIGHT
BEGIN:STANDARD
TZOFFSETFROM:-0400
TZOFFSETTO:-0500
TZNAME:EST
DTSTART:20251102T060000
END:STANDARD
END:VTIMEZONE
BEGIN:VEVENT
DTSTART;TZID=America/New_York:20250909T080000
DTEND;TZID=America/New_York:20250909T170000
DTSTAMP:20260424T045143
CREATED:20250909T182843Z
LAST-MODIFIED:20250909T182843Z
UID:10023500-1757404800-1757437200@newtonculture.org
SUMMARY:Steinway Alive at The Allen Center
DESCRIPTION:Steinway Alive: Sunday October 5th\, 3pm \nTo complete our opening weekend celebration\, Steinway artists Max Levinson and Karen Walwyn will present works for piano to celebrate the new partnership between The Allen Center and M. Steinert & Sons\, followed by a champagne reception.
URL:https://newtonculture.org/event/steinway-alive-at-the-allen-center/
LOCATION:MA
CATEGORIES:Culture and Education,Music
ATTACH;FMTTYPE=image/png:https://newtonculture.org/wp-content/uploads/2025/09/Karen-Walwyn.png
END:VEVENT
END:VCALENDAR