BEGIN:VCALENDAR
VERSION:2.0
PRODID:-//Newton Cultural Alliance - ECPv6.13.2.1//NONSGML v1.0//EN
CALSCALE:GREGORIAN
METHOD:PUBLISH
X-ORIGINAL-URL:https://newtonculture.org
X-WR-CALDESC:Events for Newton Cultural Alliance
REFRESH-INTERVAL;VALUE=DURATION:PT1H
X-Robots-Tag:noindex
X-PUBLISHED-TTL:PT1H
BEGIN:VTIMEZONE
TZID:America/New_York
BEGIN:DAYLIGHT
TZOFFSETFROM:-0500
TZOFFSETTO:-0400
TZNAME:EDT
DTSTART:20250309T070000
END:DAYLIGHT
BEGIN:STANDARD
TZOFFSETFROM:-0400
TZOFFSETTO:-0500
TZNAME:EST
DTSTART:20251102T060000
END:STANDARD
END:VTIMEZONE
BEGIN:VEVENT
DTSTART;TZID=America/New_York:20250930T180000
DTEND;TZID=America/New_York:20250930T210000
DTSTAMP:20260424T045052
CREATED:20250909T180313Z
LAST-MODIFIED:20250909T180327Z
UID:10023497-1759255200-1759266000@newtonculture.org
SUMMARY:New TV presents Future Forward Gala
DESCRIPTION:NewTV is pleased to announce their inaugural Future Forward Gala on September 30\, 2025 beginning at 6:00PM. The Gala will take place at the Boston Marriott Newton\, located at 2345 Commonwealth Avenue. \nLike most community media centers\, NewTV is funded primarily by a surcharge on the cable bill of local cable subscribers. With more and more people “cutting the cord” in favor of streaming services and apps\, NewTV is rapidly losing a major source of funding needed to serve the Newton community. Supporting the Future Forward Gala helps to finance NewTV’s annual fundraising campaign\, ensuring that NewTV remains the best community media center in the nation. \nThe gala features an immersive journey through NewTV’s history: Learn what NewTV has accomplished and discover some of the most meaningful content they have created over the past three decades. NewTV will also define their vision for the future – how they will continue to protect your First Amendment right to free speech\, and how they will continue to provide you with transparent local government coverage and journalistic integrity. \nThe evening also includes cocktail hour and hors d’oeuvres\, a sit-down dinner\, a live performance by Boston music legend Livingston Taylor\, and a tribute to outgoing Newton Mayor Ruthanne Fuller.
URL:https://newtonculture.org/event/future-forward-gala/
LOCATION:Boston Marriott Newton\, 2345 Commonwealth Avenue\, Newton\, MA\, 02466\, United States
CATEGORIES:Culture and Education,Film and Media
ATTACH;FMTTYPE=image/png:https://newtonculture.org/wp-content/uploads/2025/09/FFGala_Social_2-2.png
ORGANIZER;CN="NewTV":MAILTO:newtv@newtv.org
END:VEVENT
END:VCALENDAR