BEGIN:VCALENDAR
VERSION:2.0
PRODID:-//Newton Cultural Alliance - ECPv6.13.2.1//NONSGML v1.0//EN
CALSCALE:GREGORIAN
METHOD:PUBLISH
X-WR-CALNAME:Newton Cultural Alliance
X-ORIGINAL-URL:https://newtonculture.org
X-WR-CALDESC:Events for Newton Cultural Alliance
REFRESH-INTERVAL;VALUE=DURATION:PT1H
X-Robots-Tag:noindex
X-PUBLISHED-TTL:PT1H
BEGIN:VTIMEZONE
TZID:America/New_York
BEGIN:DAYLIGHT
TZOFFSETFROM:-0500
TZOFFSETTO:-0400
TZNAME:EDT
DTSTART:20260308T070000
END:DAYLIGHT
BEGIN:STANDARD
TZOFFSETFROM:-0400
TZOFFSETTO:-0500
TZNAME:EST
DTSTART:20261101T060000
END:STANDARD
END:VTIMEZONE
BEGIN:VEVENT
DTSTART;TZID=America/New_York:20260321T160000
DTEND;TZID=America/New_York:20260321T180000
DTSTAMP:20260421T065049
CREATED:20260319T180728Z
LAST-MODIFIED:20260319T180728Z
UID:10023628-1774108800-1774116000@newtonculture.org
SUMMARY:Cappella Clausura presents Blood and Honey; Modern Visions of Hildegard
DESCRIPTION:Cappella Clausura\, an a cappella ensemble of eight to sixteen singers who perform music by Medieval\, Renaissance\, Baroque\, Classical\, Romantic\, and Contemporary composers\, present Hildegard’s music for Saint Ursula at Grace Church in Newton. Hildegard von Bingen – the “patron saint” of Cappella – wrote an abundance of vivid music and poetry about Saint Ursula. These chants celebrate womanhood and independence. In this program\, Cappella Clausura presents Hildegard’s music for Saint Ursula interspersed with micro-commissions from five emerging composers from the Boston area.
URL:https://newtonculture.org/event/cappella-clausura-presents-blood-and-honey-modern-visions-of-hildegard/
LOCATION:Grace Episcopal Church\, 76 Eldredge Street\, Newton\, MA\, 02458\, United States
CATEGORIES:Culture and Education,Music,Performing Arts
ATTACH;FMTTYPE=image/png:https://newtonculture.org/wp-content/uploads/2026/03/blood-and-honey.png
ORGANIZER;CN="Cappella Clausura":MAILTO:manager@clausura.org
END:VEVENT
END:VCALENDAR