BEGIN:VCALENDAR
VERSION:2.0
PRODID:-//Newton Cultural Alliance - ECPv6.13.2.1//NONSGML v1.0//EN
CALSCALE:GREGORIAN
METHOD:PUBLISH
X-ORIGINAL-URL:https://newtonculture.org
X-WR-CALDESC:Events for Newton Cultural Alliance
REFRESH-INTERVAL;VALUE=DURATION:PT1H
X-Robots-Tag:noindex
X-PUBLISHED-TTL:PT1H
BEGIN:VTIMEZONE
TZID:America/New_York
BEGIN:DAYLIGHT
TZOFFSETFROM:-0500
TZOFFSETTO:-0400
TZNAME:EDT
DTSTART:20200308T070000
END:DAYLIGHT
BEGIN:STANDARD
TZOFFSETFROM:-0400
TZOFFSETTO:-0500
TZNAME:EST
DTSTART:20201101T060000
END:STANDARD
END:VTIMEZONE
BEGIN:VEVENT
DTSTART;VALUE=DATE:20200421
DTEND;VALUE=DATE:20200422
DTSTAMP:20260422T074434
CREATED:20200320T172602Z
LAST-MODIFIED:20200421T163033Z
UID:10017929-1587427200-1587513599@newtonculture.org
SUMMARY:Historic Newton - Online Newton Artist Exhibit
DESCRIPTION:Rediscover Newton artists from the 1850s – 1950s! This virtual Historic Newton exhibit includes paintings and sculptures by artists who were either born in Newton or spent a significant part of their lives here. Enjoy now here.
URL:https://newtonculture.org/event/historic-newton-online-newton-artist-exhibit/2020-04-21/
CATEGORIES:Culture and Education,Free Event,Visual Arts
ATTACH;FMTTYPE=image/png:https://newtonculture.org/wp-content/uploads/2019/11/9.png
END:VEVENT
BEGIN:VEVENT
DTSTART;VALUE=DATE:20200420
DTEND;VALUE=DATE:20200421
DTSTAMP:20260422T074434
CREATED:20200330T171900Z
LAST-MODIFIED:20200406T152214Z
UID:10015920-1587340800-1587427199@newtonculture.org
SUMMARY:An online series on the history & nature of Jewish choral music
DESCRIPTION:These audio and video podcasts\, presented by Zamir Chorale of Boston\, can serve as an introduction to the field of Jewish Choral Music. But caveat lector\, these are not comprehensive; they provide only an introduction to the field. Readers may follow up with the many texts and websites that are listed elsewhere in this website: https://www.jewishchoralmusic.com/podcasts
URL:https://newtonculture.org/event/an-online-series-on-the-history-and-nature-of-jewish-choral-music/2020-04-20/
LOCATION:ONLINE\, United Kingdom\, E16 2DQ
CATEGORIES:Culture and Education
ATTACH;FMTTYPE=image/jpeg:https://newtonculture.org/wp-content/uploads/2020/03/JewishChoralMusic-homepage-1024x568-1.jpg
ORGANIZER;CN="Zamir Chorale of Boston":MAILTO:manager@zamir.org
END:VEVENT
BEGIN:VEVENT
DTSTART;VALUE=DATE:20200420
DTEND;VALUE=DATE:20200421
DTSTAMP:20260422T074434
CREATED:20200320T172602Z
LAST-MODIFIED:20200421T163033Z
UID:10017928-1587340800-1587427199@newtonculture.org
SUMMARY:Historic Newton - Online Newton Artist Exhibit
DESCRIPTION:Rediscover Newton artists from the 1850s – 1950s! This virtual Historic Newton exhibit includes paintings and sculptures by artists who were either born in Newton or spent a significant part of their lives here. Enjoy now here.
URL:https://newtonculture.org/event/historic-newton-online-newton-artist-exhibit/2020-04-20/
CATEGORIES:Culture and Education,Free Event,Visual Arts
ATTACH;FMTTYPE=image/png:https://newtonculture.org/wp-content/uploads/2019/11/9.png
END:VEVENT
BEGIN:VEVENT
DTSTART;VALUE=DATE:20200419
DTEND;VALUE=DATE:20200420
DTSTAMP:20260422T074434
CREATED:20200330T171900Z
LAST-MODIFIED:20200406T152214Z
UID:10015919-1587254400-1587340799@newtonculture.org
SUMMARY:An online series on the history & nature of Jewish choral music
DESCRIPTION:These audio and video podcasts\, presented by Zamir Chorale of Boston\, can serve as an introduction to the field of Jewish Choral Music. But caveat lector\, these are not comprehensive; they provide only an introduction to the field. Readers may follow up with the many texts and websites that are listed elsewhere in this website: https://www.jewishchoralmusic.com/podcasts
URL:https://newtonculture.org/event/an-online-series-on-the-history-and-nature-of-jewish-choral-music/2020-04-19/
LOCATION:ONLINE\, United Kingdom\, E16 2DQ
CATEGORIES:Culture and Education
ATTACH;FMTTYPE=image/jpeg:https://newtonculture.org/wp-content/uploads/2020/03/JewishChoralMusic-homepage-1024x568-1.jpg
ORGANIZER;CN="Zamir Chorale of Boston":MAILTO:manager@zamir.org
END:VEVENT
BEGIN:VEVENT
DTSTART;VALUE=DATE:20200419
DTEND;VALUE=DATE:20200420
DTSTAMP:20260422T074434
CREATED:20200320T172602Z
LAST-MODIFIED:20200421T163033Z
UID:10017927-1587254400-1587340799@newtonculture.org
SUMMARY:Historic Newton - Online Newton Artist Exhibit
DESCRIPTION:Rediscover Newton artists from the 1850s – 1950s! This virtual Historic Newton exhibit includes paintings and sculptures by artists who were either born in Newton or spent a significant part of their lives here. Enjoy now here.
URL:https://newtonculture.org/event/historic-newton-online-newton-artist-exhibit/2020-04-19/
CATEGORIES:Culture and Education,Free Event,Visual Arts
ATTACH;FMTTYPE=image/png:https://newtonculture.org/wp-content/uploads/2019/11/9.png
END:VEVENT
BEGIN:VEVENT
DTSTART;VALUE=DATE:20200418
DTEND;VALUE=DATE:20200419
DTSTAMP:20260422T074434
CREATED:20200330T171900Z
LAST-MODIFIED:20200406T152214Z
UID:10015918-1587168000-1587254399@newtonculture.org
SUMMARY:An online series on the history & nature of Jewish choral music
DESCRIPTION:These audio and video podcasts\, presented by Zamir Chorale of Boston\, can serve as an introduction to the field of Jewish Choral Music. But caveat lector\, these are not comprehensive; they provide only an introduction to the field. Readers may follow up with the many texts and websites that are listed elsewhere in this website: https://www.jewishchoralmusic.com/podcasts
URL:https://newtonculture.org/event/an-online-series-on-the-history-and-nature-of-jewish-choral-music/2020-04-18/
LOCATION:ONLINE\, United Kingdom\, E16 2DQ
CATEGORIES:Culture and Education
ATTACH;FMTTYPE=image/jpeg:https://newtonculture.org/wp-content/uploads/2020/03/JewishChoralMusic-homepage-1024x568-1.jpg
ORGANIZER;CN="Zamir Chorale of Boston":MAILTO:manager@zamir.org
END:VEVENT
BEGIN:VEVENT
DTSTART;VALUE=DATE:20200418
DTEND;VALUE=DATE:20200419
DTSTAMP:20260422T074434
CREATED:20200320T172602Z
LAST-MODIFIED:20200421T163033Z
UID:10017926-1587168000-1587254399@newtonculture.org
SUMMARY:Historic Newton - Online Newton Artist Exhibit
DESCRIPTION:Rediscover Newton artists from the 1850s – 1950s! This virtual Historic Newton exhibit includes paintings and sculptures by artists who were either born in Newton or spent a significant part of their lives here. Enjoy now here.
URL:https://newtonculture.org/event/historic-newton-online-newton-artist-exhibit/2020-04-18/
CATEGORIES:Culture and Education,Free Event,Visual Arts
ATTACH;FMTTYPE=image/png:https://newtonculture.org/wp-content/uploads/2019/11/9.png
END:VEVENT
BEGIN:VEVENT
DTSTART;VALUE=DATE:20200417
DTEND;VALUE=DATE:20200418
DTSTAMP:20260422T074434
CREATED:20200330T171900Z
LAST-MODIFIED:20200406T152214Z
UID:10015917-1587081600-1587167999@newtonculture.org
SUMMARY:An online series on the history & nature of Jewish choral music
DESCRIPTION:These audio and video podcasts\, presented by Zamir Chorale of Boston\, can serve as an introduction to the field of Jewish Choral Music. But caveat lector\, these are not comprehensive; they provide only an introduction to the field. Readers may follow up with the many texts and websites that are listed elsewhere in this website: https://www.jewishchoralmusic.com/podcasts
URL:https://newtonculture.org/event/an-online-series-on-the-history-and-nature-of-jewish-choral-music/2020-04-17/
LOCATION:ONLINE\, United Kingdom\, E16 2DQ
CATEGORIES:Culture and Education
ATTACH;FMTTYPE=image/jpeg:https://newtonculture.org/wp-content/uploads/2020/03/JewishChoralMusic-homepage-1024x568-1.jpg
ORGANIZER;CN="Zamir Chorale of Boston":MAILTO:manager@zamir.org
END:VEVENT
BEGIN:VEVENT
DTSTART;VALUE=DATE:20200417
DTEND;VALUE=DATE:20200418
DTSTAMP:20260422T074434
CREATED:20200320T172602Z
LAST-MODIFIED:20200421T163033Z
UID:10017925-1587081600-1587167999@newtonculture.org
SUMMARY:Historic Newton - Online Newton Artist Exhibit
DESCRIPTION:Rediscover Newton artists from the 1850s – 1950s! This virtual Historic Newton exhibit includes paintings and sculptures by artists who were either born in Newton or spent a significant part of their lives here. Enjoy now here.
URL:https://newtonculture.org/event/historic-newton-online-newton-artist-exhibit/2020-04-17/
CATEGORIES:Culture and Education,Free Event,Visual Arts
ATTACH;FMTTYPE=image/png:https://newtonculture.org/wp-content/uploads/2019/11/9.png
END:VEVENT
BEGIN:VEVENT
DTSTART;TZID=America/New_York:20200416T100000
DTEND;TZID=America/New_York:20200416T103000
DTSTAMP:20260422T074434
CREATED:20200406T165810Z
LAST-MODIFIED:20200414T163639Z
UID:10018150-1587031200-1587033000@newtonculture.org
SUMMARY:Newton Free Library: Virtual Storytime
DESCRIPTION:Newton Free Library presents Virtual Storytime on Thursdays at 10:00 a.m. Join Newton Free Library virtually for storytime on Zoom! Watch and enjoy stories\, songs\, and rhymes. Geared towards kids up through age 4. More info at newtonfreelibrary.net.
URL:https://newtonculture.org/event/newton-free-library-virtual-storytime-2/2020-04-16/
LOCATION:ONLINE\, United Kingdom\, E16 2DQ
CATEGORIES:Culture and Education,Family Friendly,Free Event
ATTACH;FMTTYPE=image/jpeg:https://newtonculture.org/wp-content/uploads/2020/04/stories_and_craft_newtonfreelibrary.jpg
ORGANIZER;CN="Newton Free Library":MAILTO:admin@newtonfreelibrary.net
END:VEVENT
BEGIN:VEVENT
DTSTART;VALUE=DATE:20200416
DTEND;VALUE=DATE:20200417
DTSTAMP:20260422T074434
CREATED:20200330T171900Z
LAST-MODIFIED:20200406T152214Z
UID:10015916-1586995200-1587081599@newtonculture.org
SUMMARY:An online series on the history & nature of Jewish choral music
DESCRIPTION:These audio and video podcasts\, presented by Zamir Chorale of Boston\, can serve as an introduction to the field of Jewish Choral Music. But caveat lector\, these are not comprehensive; they provide only an introduction to the field. Readers may follow up with the many texts and websites that are listed elsewhere in this website: https://www.jewishchoralmusic.com/podcasts
URL:https://newtonculture.org/event/an-online-series-on-the-history-and-nature-of-jewish-choral-music/2020-04-16/
LOCATION:ONLINE\, United Kingdom\, E16 2DQ
CATEGORIES:Culture and Education
ATTACH;FMTTYPE=image/jpeg:https://newtonculture.org/wp-content/uploads/2020/03/JewishChoralMusic-homepage-1024x568-1.jpg
ORGANIZER;CN="Zamir Chorale of Boston":MAILTO:manager@zamir.org
END:VEVENT
BEGIN:VEVENT
DTSTART;VALUE=DATE:20200416
DTEND;VALUE=DATE:20200417
DTSTAMP:20260422T074434
CREATED:20200320T172602Z
LAST-MODIFIED:20200421T163033Z
UID:10017924-1586995200-1587081599@newtonculture.org
SUMMARY:Historic Newton - Online Newton Artist Exhibit
DESCRIPTION:Rediscover Newton artists from the 1850s – 1950s! This virtual Historic Newton exhibit includes paintings and sculptures by artists who were either born in Newton or spent a significant part of their lives here. Enjoy now here.
URL:https://newtonculture.org/event/historic-newton-online-newton-artist-exhibit/2020-04-16/
CATEGORIES:Culture and Education,Free Event,Visual Arts
ATTACH;FMTTYPE=image/png:https://newtonculture.org/wp-content/uploads/2019/11/9.png
END:VEVENT
BEGIN:VEVENT
DTSTART;VALUE=DATE:20200415
DTEND;VALUE=DATE:20200416
DTSTAMP:20260422T074434
CREATED:20200330T171900Z
LAST-MODIFIED:20200406T152214Z
UID:10015915-1586908800-1586995199@newtonculture.org
SUMMARY:An online series on the history & nature of Jewish choral music
DESCRIPTION:These audio and video podcasts\, presented by Zamir Chorale of Boston\, can serve as an introduction to the field of Jewish Choral Music. But caveat lector\, these are not comprehensive; they provide only an introduction to the field. Readers may follow up with the many texts and websites that are listed elsewhere in this website: https://www.jewishchoralmusic.com/podcasts
URL:https://newtonculture.org/event/an-online-series-on-the-history-and-nature-of-jewish-choral-music/2020-04-15/
LOCATION:ONLINE\, United Kingdom\, E16 2DQ
CATEGORIES:Culture and Education
ATTACH;FMTTYPE=image/jpeg:https://newtonculture.org/wp-content/uploads/2020/03/JewishChoralMusic-homepage-1024x568-1.jpg
ORGANIZER;CN="Zamir Chorale of Boston":MAILTO:manager@zamir.org
END:VEVENT
BEGIN:VEVENT
DTSTART;VALUE=DATE:20200415
DTEND;VALUE=DATE:20200416
DTSTAMP:20260422T074434
CREATED:20200320T172602Z
LAST-MODIFIED:20200421T163033Z
UID:10017923-1586908800-1586995199@newtonculture.org
SUMMARY:Historic Newton - Online Newton Artist Exhibit
DESCRIPTION:Rediscover Newton artists from the 1850s – 1950s! This virtual Historic Newton exhibit includes paintings and sculptures by artists who were either born in Newton or spent a significant part of their lives here. Enjoy now here.
URL:https://newtonculture.org/event/historic-newton-online-newton-artist-exhibit/2020-04-15/
CATEGORIES:Culture and Education,Free Event,Visual Arts
ATTACH;FMTTYPE=image/png:https://newtonculture.org/wp-content/uploads/2019/11/9.png
END:VEVENT
BEGIN:VEVENT
DTSTART;VALUE=DATE:20200414
DTEND;VALUE=DATE:20200415
DTSTAMP:20260422T074434
CREATED:20200330T171900Z
LAST-MODIFIED:20200406T152214Z
UID:10015914-1586822400-1586908799@newtonculture.org
SUMMARY:An online series on the history & nature of Jewish choral music
DESCRIPTION:These audio and video podcasts\, presented by Zamir Chorale of Boston\, can serve as an introduction to the field of Jewish Choral Music. But caveat lector\, these are not comprehensive; they provide only an introduction to the field. Readers may follow up with the many texts and websites that are listed elsewhere in this website: https://www.jewishchoralmusic.com/podcasts
URL:https://newtonculture.org/event/an-online-series-on-the-history-and-nature-of-jewish-choral-music/2020-04-14/
LOCATION:ONLINE\, United Kingdom\, E16 2DQ
CATEGORIES:Culture and Education
ATTACH;FMTTYPE=image/jpeg:https://newtonculture.org/wp-content/uploads/2020/03/JewishChoralMusic-homepage-1024x568-1.jpg
ORGANIZER;CN="Zamir Chorale of Boston":MAILTO:manager@zamir.org
END:VEVENT
BEGIN:VEVENT
DTSTART;VALUE=DATE:20200414
DTEND;VALUE=DATE:20200415
DTSTAMP:20260422T074434
CREATED:20200320T172602Z
LAST-MODIFIED:20200421T163033Z
UID:10017922-1586822400-1586908799@newtonculture.org
SUMMARY:Historic Newton - Online Newton Artist Exhibit
DESCRIPTION:Rediscover Newton artists from the 1850s – 1950s! This virtual Historic Newton exhibit includes paintings and sculptures by artists who were either born in Newton or spent a significant part of their lives here. Enjoy now here.
URL:https://newtonculture.org/event/historic-newton-online-newton-artist-exhibit/2020-04-14/
CATEGORIES:Culture and Education,Free Event,Visual Arts
ATTACH;FMTTYPE=image/png:https://newtonculture.org/wp-content/uploads/2019/11/9.png
END:VEVENT
BEGIN:VEVENT
DTSTART;VALUE=DATE:20200413
DTEND;VALUE=DATE:20200414
DTSTAMP:20260422T074434
CREATED:20200330T171900Z
LAST-MODIFIED:20200406T152214Z
UID:10015913-1586736000-1586822399@newtonculture.org
SUMMARY:An online series on the history & nature of Jewish choral music
DESCRIPTION:These audio and video podcasts\, presented by Zamir Chorale of Boston\, can serve as an introduction to the field of Jewish Choral Music. But caveat lector\, these are not comprehensive; they provide only an introduction to the field. Readers may follow up with the many texts and websites that are listed elsewhere in this website: https://www.jewishchoralmusic.com/podcasts
URL:https://newtonculture.org/event/an-online-series-on-the-history-and-nature-of-jewish-choral-music/2020-04-13/
LOCATION:ONLINE\, United Kingdom\, E16 2DQ
CATEGORIES:Culture and Education
ATTACH;FMTTYPE=image/jpeg:https://newtonculture.org/wp-content/uploads/2020/03/JewishChoralMusic-homepage-1024x568-1.jpg
ORGANIZER;CN="Zamir Chorale of Boston":MAILTO:manager@zamir.org
END:VEVENT
BEGIN:VEVENT
DTSTART;VALUE=DATE:20200413
DTEND;VALUE=DATE:20200414
DTSTAMP:20260422T074434
CREATED:20200320T172602Z
LAST-MODIFIED:20200421T163033Z
UID:10017921-1586736000-1586822399@newtonculture.org
SUMMARY:Historic Newton - Online Newton Artist Exhibit
DESCRIPTION:Rediscover Newton artists from the 1850s – 1950s! This virtual Historic Newton exhibit includes paintings and sculptures by artists who were either born in Newton or spent a significant part of their lives here. Enjoy now here.
URL:https://newtonculture.org/event/historic-newton-online-newton-artist-exhibit/2020-04-13/
CATEGORIES:Culture and Education,Free Event,Visual Arts
ATTACH;FMTTYPE=image/png:https://newtonculture.org/wp-content/uploads/2019/11/9.png
END:VEVENT
BEGIN:VEVENT
DTSTART;TZID=America/New_York:20200412T130000
DTEND;TZID=America/New_York:20200412T170000
DTSTAMP:20260422T074434
CREATED:20200406T164722Z
LAST-MODIFIED:20200406T165330Z
UID:10018142-1586696400-1586710800@newtonculture.org
SUMMARY:Amerherst Early Music: Online Sessions
DESCRIPTION:Join Amherst Early Music this Saturday\, April 11\, and Sunday\, April 12\, for four online-class sessions at 1:00 p.m. or 3:00 p.m. Classes include Baroque Style and Ornamentation from the Beginning and Renaissance Wind Pedagogy: A New Old Oral Tradition. More info at amherstearlymusic.org.
URL:https://newtonculture.org/event/amerherst-early-music-online-sessions/
LOCATION:ONLINE\, United Kingdom\, E16 2DQ
CATEGORIES:Culture and Education,Music
ATTACH;FMTTYPE=image/jpeg:https://newtonculture.org/wp-content/uploads/2020/03/Hals_1623_0_aem-e1585582170105.jpg
ORGANIZER;CN="Amherst Early Music":MAILTO:info@amherstearlymusic.org
END:VEVENT
BEGIN:VEVENT
DTSTART;VALUE=DATE:20200412
DTEND;VALUE=DATE:20200413
DTSTAMP:20260422T074434
CREATED:20200330T171900Z
LAST-MODIFIED:20200406T152214Z
UID:10015912-1586649600-1586735999@newtonculture.org
SUMMARY:An online series on the history & nature of Jewish choral music
DESCRIPTION:These audio and video podcasts\, presented by Zamir Chorale of Boston\, can serve as an introduction to the field of Jewish Choral Music. But caveat lector\, these are not comprehensive; they provide only an introduction to the field. Readers may follow up with the many texts and websites that are listed elsewhere in this website: https://www.jewishchoralmusic.com/podcasts
URL:https://newtonculture.org/event/an-online-series-on-the-history-and-nature-of-jewish-choral-music/2020-04-12/
LOCATION:ONLINE\, United Kingdom\, E16 2DQ
CATEGORIES:Culture and Education
ATTACH;FMTTYPE=image/jpeg:https://newtonculture.org/wp-content/uploads/2020/03/JewishChoralMusic-homepage-1024x568-1.jpg
ORGANIZER;CN="Zamir Chorale of Boston":MAILTO:manager@zamir.org
END:VEVENT
BEGIN:VEVENT
DTSTART;VALUE=DATE:20200412
DTEND;VALUE=DATE:20200413
DTSTAMP:20260422T074434
CREATED:20200320T172602Z
LAST-MODIFIED:20200421T163033Z
UID:10017920-1586649600-1586735999@newtonculture.org
SUMMARY:Historic Newton - Online Newton Artist Exhibit
DESCRIPTION:Rediscover Newton artists from the 1850s – 1950s! This virtual Historic Newton exhibit includes paintings and sculptures by artists who were either born in Newton or spent a significant part of their lives here. Enjoy now here.
URL:https://newtonculture.org/event/historic-newton-online-newton-artist-exhibit/2020-04-12/
CATEGORIES:Culture and Education,Free Event,Visual Arts
ATTACH;FMTTYPE=image/png:https://newtonculture.org/wp-content/uploads/2019/11/9.png
END:VEVENT
BEGIN:VEVENT
DTSTART;VALUE=DATE:20200411
DTEND;VALUE=DATE:20200412
DTSTAMP:20260422T074434
CREATED:20200330T171900Z
LAST-MODIFIED:20200406T152214Z
UID:10015911-1586563200-1586649599@newtonculture.org
SUMMARY:An online series on the history & nature of Jewish choral music
DESCRIPTION:These audio and video podcasts\, presented by Zamir Chorale of Boston\, can serve as an introduction to the field of Jewish Choral Music. But caveat lector\, these are not comprehensive; they provide only an introduction to the field. Readers may follow up with the many texts and websites that are listed elsewhere in this website: https://www.jewishchoralmusic.com/podcasts
URL:https://newtonculture.org/event/an-online-series-on-the-history-and-nature-of-jewish-choral-music/2020-04-11/
LOCATION:ONLINE\, United Kingdom\, E16 2DQ
CATEGORIES:Culture and Education
ATTACH;FMTTYPE=image/jpeg:https://newtonculture.org/wp-content/uploads/2020/03/JewishChoralMusic-homepage-1024x568-1.jpg
ORGANIZER;CN="Zamir Chorale of Boston":MAILTO:manager@zamir.org
END:VEVENT
BEGIN:VEVENT
DTSTART;VALUE=DATE:20200411
DTEND;VALUE=DATE:20200412
DTSTAMP:20260422T074434
CREATED:20200320T172602Z
LAST-MODIFIED:20200421T163033Z
UID:10017919-1586563200-1586649599@newtonculture.org
SUMMARY:Historic Newton - Online Newton Artist Exhibit
DESCRIPTION:Rediscover Newton artists from the 1850s – 1950s! This virtual Historic Newton exhibit includes paintings and sculptures by artists who were either born in Newton or spent a significant part of their lives here. Enjoy now here.
URL:https://newtonculture.org/event/historic-newton-online-newton-artist-exhibit/2020-04-11/
CATEGORIES:Culture and Education,Free Event,Visual Arts
ATTACH;FMTTYPE=image/png:https://newtonculture.org/wp-content/uploads/2019/11/9.png
END:VEVENT
BEGIN:VEVENT
DTSTART;VALUE=DATE:20200410
DTEND;VALUE=DATE:20200411
DTSTAMP:20260422T074434
CREATED:20200330T171900Z
LAST-MODIFIED:20200406T152214Z
UID:10015910-1586476800-1586563199@newtonculture.org
SUMMARY:An online series on the history & nature of Jewish choral music
DESCRIPTION:These audio and video podcasts\, presented by Zamir Chorale of Boston\, can serve as an introduction to the field of Jewish Choral Music. But caveat lector\, these are not comprehensive; they provide only an introduction to the field. Readers may follow up with the many texts and websites that are listed elsewhere in this website: https://www.jewishchoralmusic.com/podcasts
URL:https://newtonculture.org/event/an-online-series-on-the-history-and-nature-of-jewish-choral-music/2020-04-10/
LOCATION:ONLINE\, United Kingdom\, E16 2DQ
CATEGORIES:Culture and Education
ATTACH;FMTTYPE=image/jpeg:https://newtonculture.org/wp-content/uploads/2020/03/JewishChoralMusic-homepage-1024x568-1.jpg
ORGANIZER;CN="Zamir Chorale of Boston":MAILTO:manager@zamir.org
END:VEVENT
BEGIN:VEVENT
DTSTART;VALUE=DATE:20200410
DTEND;VALUE=DATE:20200411
DTSTAMP:20260422T074434
CREATED:20200320T172602Z
LAST-MODIFIED:20200421T163033Z
UID:10017918-1586476800-1586563199@newtonculture.org
SUMMARY:Historic Newton - Online Newton Artist Exhibit
DESCRIPTION:Rediscover Newton artists from the 1850s – 1950s! This virtual Historic Newton exhibit includes paintings and sculptures by artists who were either born in Newton or spent a significant part of their lives here. Enjoy now here.
URL:https://newtonculture.org/event/historic-newton-online-newton-artist-exhibit/2020-04-10/
CATEGORIES:Culture and Education,Free Event,Visual Arts
ATTACH;FMTTYPE=image/png:https://newtonculture.org/wp-content/uploads/2019/11/9.png
END:VEVENT
BEGIN:VEVENT
DTSTART;TZID=America/New_York:20200409T100000
DTEND;TZID=America/New_York:20200409T103000
DTSTAMP:20260422T074434
CREATED:20200406T165810Z
LAST-MODIFIED:20200414T163639Z
UID:10018149-1586426400-1586428200@newtonculture.org
SUMMARY:Newton Free Library: Virtual Storytime
DESCRIPTION:Newton Free Library presents Virtual Storytime on Thursdays at 10:00 a.m. Join Newton Free Library virtually for storytime on Zoom! Watch and enjoy stories\, songs\, and rhymes. Geared towards kids up through age 4. More info at newtonfreelibrary.net.
URL:https://newtonculture.org/event/newton-free-library-virtual-storytime-2/2020-04-09/
LOCATION:ONLINE\, United Kingdom\, E16 2DQ
CATEGORIES:Culture and Education,Family Friendly,Free Event
ATTACH;FMTTYPE=image/jpeg:https://newtonculture.org/wp-content/uploads/2020/04/stories_and_craft_newtonfreelibrary.jpg
ORGANIZER;CN="Newton Free Library":MAILTO:admin@newtonfreelibrary.net
END:VEVENT
BEGIN:VEVENT
DTSTART;VALUE=DATE:20200409
DTEND;VALUE=DATE:20200410
DTSTAMP:20260422T074434
CREATED:20200330T171900Z
LAST-MODIFIED:20200406T152214Z
UID:10015909-1586390400-1586476799@newtonculture.org
SUMMARY:An online series on the history & nature of Jewish choral music
DESCRIPTION:These audio and video podcasts\, presented by Zamir Chorale of Boston\, can serve as an introduction to the field of Jewish Choral Music. But caveat lector\, these are not comprehensive; they provide only an introduction to the field. Readers may follow up with the many texts and websites that are listed elsewhere in this website: https://www.jewishchoralmusic.com/podcasts
URL:https://newtonculture.org/event/an-online-series-on-the-history-and-nature-of-jewish-choral-music/2020-04-09/
LOCATION:ONLINE\, United Kingdom\, E16 2DQ
CATEGORIES:Culture and Education
ATTACH;FMTTYPE=image/jpeg:https://newtonculture.org/wp-content/uploads/2020/03/JewishChoralMusic-homepage-1024x568-1.jpg
ORGANIZER;CN="Zamir Chorale of Boston":MAILTO:manager@zamir.org
END:VEVENT
BEGIN:VEVENT
DTSTART;VALUE=DATE:20200409
DTEND;VALUE=DATE:20200410
DTSTAMP:20260422T074434
CREATED:20200320T172602Z
LAST-MODIFIED:20200421T163033Z
UID:10017917-1586390400-1586476799@newtonculture.org
SUMMARY:Historic Newton - Online Newton Artist Exhibit
DESCRIPTION:Rediscover Newton artists from the 1850s – 1950s! This virtual Historic Newton exhibit includes paintings and sculptures by artists who were either born in Newton or spent a significant part of their lives here. Enjoy now here.
URL:https://newtonculture.org/event/historic-newton-online-newton-artist-exhibit/2020-04-09/
CATEGORIES:Culture and Education,Free Event,Visual Arts
ATTACH;FMTTYPE=image/png:https://newtonculture.org/wp-content/uploads/2019/11/9.png
END:VEVENT
BEGIN:VEVENT
DTSTART;VALUE=DATE:20200408
DTEND;VALUE=DATE:20200409
DTSTAMP:20260422T074434
CREATED:20200330T171900Z
LAST-MODIFIED:20200406T152214Z
UID:10015908-1586304000-1586390399@newtonculture.org
SUMMARY:An online series on the history & nature of Jewish choral music
DESCRIPTION:These audio and video podcasts\, presented by Zamir Chorale of Boston\, can serve as an introduction to the field of Jewish Choral Music. But caveat lector\, these are not comprehensive; they provide only an introduction to the field. Readers may follow up with the many texts and websites that are listed elsewhere in this website: https://www.jewishchoralmusic.com/podcasts
URL:https://newtonculture.org/event/an-online-series-on-the-history-and-nature-of-jewish-choral-music/2020-04-08/
LOCATION:ONLINE\, United Kingdom\, E16 2DQ
CATEGORIES:Culture and Education
ATTACH;FMTTYPE=image/jpeg:https://newtonculture.org/wp-content/uploads/2020/03/JewishChoralMusic-homepage-1024x568-1.jpg
ORGANIZER;CN="Zamir Chorale of Boston":MAILTO:manager@zamir.org
END:VEVENT
BEGIN:VEVENT
DTSTART;VALUE=DATE:20200408
DTEND;VALUE=DATE:20200409
DTSTAMP:20260422T074434
CREATED:20200320T172602Z
LAST-MODIFIED:20200421T163033Z
UID:10017916-1586304000-1586390399@newtonculture.org
SUMMARY:Historic Newton - Online Newton Artist Exhibit
DESCRIPTION:Rediscover Newton artists from the 1850s – 1950s! This virtual Historic Newton exhibit includes paintings and sculptures by artists who were either born in Newton or spent a significant part of their lives here. Enjoy now here.
URL:https://newtonculture.org/event/historic-newton-online-newton-artist-exhibit/2020-04-08/
CATEGORIES:Culture and Education,Free Event,Visual Arts
ATTACH;FMTTYPE=image/png:https://newtonculture.org/wp-content/uploads/2019/11/9.png
END:VEVENT
END:VCALENDAR