BEGIN:VCALENDAR
VERSION:2.0
PRODID:-//Newton Cultural Alliance - ECPv6.13.2.1//NONSGML v1.0//EN
CALSCALE:GREGORIAN
METHOD:PUBLISH
X-WR-CALNAME:Newton Cultural Alliance
X-ORIGINAL-URL:https://newtonculture.org
X-WR-CALDESC:Events for Newton Cultural Alliance
REFRESH-INTERVAL;VALUE=DURATION:PT1H
X-Robots-Tag:noindex
X-PUBLISHED-TTL:PT1H
BEGIN:VTIMEZONE
TZID:America/New_York
BEGIN:DAYLIGHT
TZOFFSETFROM:-0500
TZOFFSETTO:-0400
TZNAME:EDT
DTSTART:20260308T070000
END:DAYLIGHT
BEGIN:STANDARD
TZOFFSETFROM:-0400
TZOFFSETTO:-0500
TZNAME:EST
DTSTART:20261101T060000
END:STANDARD
END:VTIMEZONE
BEGIN:VEVENT
DTSTART;TZID=America/New_York:20260425T140000
DTEND;TZID=America/New_York:20260425T160000
DTSTAMP:20260421T110649
CREATED:20260416T020111Z
LAST-MODIFIED:20260416T020111Z
UID:10023637-1777125600-1777132800@newtonculture.org
SUMMARY:Artist Talk: Hands to Earth with Patty Rosenblatt
DESCRIPTION:Join artist Patty Rosenblatt and her co-presenter and video collaborator Kathryn Brodie for a special artist talk that explores the evolution of Hands to Earth and the environmental concerns that shape it. \nRosenblatt noted that green space is disappearing so rapidly that it might soon be possible for people to live their lives without ever touching the earth under their feet. Hands to Earth is her proposal to encourage others to engage with the Earth. \nThis program provides an opportunity to look back at Rosenblatt’s project through conversation\, artwork\, and film. Her series\, First Violin\, An Octave of Prints\, which will be on display\, offers a powerful visual example of her process and material exploration. \nWe invite you to join us for an engaging afternoon of art\, reflection\, and dialogue about touch\, transformation\, and our shared responsibility to the natural world. \nwww.newartcenter.org
URL:https://newtonculture.org/event/artist-talk-hands-to-earth-with-patty-rosenblatt/
LOCATION:New Art Center\, 61 Washington Park\, Newton\, MA\, 02460\, United States
CATEGORIES:Art,Culture and Education,Visual Arts
ATTACH;FMTTYPE=image/jpeg:https://newtonculture.org/wp-content/uploads/2026/03/Artist-Talk-Patty-Rosenblatt-4.25.26.jpg
ORGANIZER;CN="New Art Center":MAILTO:info@newartcenter.org
END:VEVENT
BEGIN:VEVENT
DTSTART;TZID=America/New_York:20260425T183000
DTEND;TZID=America/New_York:20260425T203000
DTSTAMP:20260421T110649
CREATED:20260406T201721Z
LAST-MODIFIED:20260406T201721Z
UID:10023657-1777141800-1777149000@newtonculture.org
SUMMARY:Andromeda of Boston and Spark Newton present Spring Hafla 2026
DESCRIPTION:Andromeda of Boston and Spark Newton present a vibrant showcase of world dance at Grace Episcopal Church featuring local students and professional performers. Styles include MENAHT (Middle Eastern\, North African\, Hellenic\, Turkish)\, as well as Asian\, Balkan\, and Eastern European–inspired traditions. Light refreshments provided; Free for Newton residents with reservations.
URL:https://newtonculture.org/event/andromeda-of-boston-and-spark-newton-present-spring-hafla-2026/
LOCATION:Grace Episcopal Church\, 76 Eldredge Street\, Newton\, MA\, 02458\, United States
CATEGORIES:Culture and Education,Dance,Family Friendly,Free Event
ATTACH;FMTTYPE=image/png:https://newtonculture.org/wp-content/uploads/2026/04/Screenshot-2026-04-03-140054.png
ORGANIZER;CN="Andromeda of Boston":MAILTO:AndromedaOfBoston@gmail.com
END:VEVENT
END:VCALENDAR