BEGIN:VCALENDAR
VERSION:2.0
PRODID:-//Newton Cultural Alliance - ECPv6.13.2.1//NONSGML v1.0//EN
CALSCALE:GREGORIAN
METHOD:PUBLISH
X-WR-CALNAME:Newton Cultural Alliance
X-ORIGINAL-URL:https://newtonculture.org
X-WR-CALDESC:Events for Newton Cultural Alliance
REFRESH-INTERVAL;VALUE=DURATION:PT1H
X-Robots-Tag:noindex
X-PUBLISHED-TTL:PT1H
BEGIN:VTIMEZONE
TZID:America/New_York
BEGIN:DAYLIGHT
TZOFFSETFROM:-0500
TZOFFSETTO:-0400
TZNAME:EDT
DTSTART:20200308T070000
END:DAYLIGHT
BEGIN:STANDARD
TZOFFSETFROM:-0400
TZOFFSETTO:-0500
TZNAME:EST
DTSTART:20201101T060000
END:STANDARD
END:VTIMEZONE
BEGIN:VEVENT
DTSTART;VALUE=DATE:20200615
DTEND;VALUE=DATE:20200616
DTSTAMP:20260420T072101
CREATED:20200504T185241Z
LAST-MODIFIED:20200608T172756Z
UID:10018245-1592179200-1592265599@newtonculture.org
SUMMARY:Zamir Chorale of Boston: Weekly Musical Message
DESCRIPTION:Zamir Chorale of Boston is pleased to present its Weekly Musical Message:\n\nBirkas Kohanim Blessings in a time of need (Numbers 6:24-26) Music by Louis Lewandowski The Zamir Chorale of Boston\, Joshua Jacobson\, conductor Cantor Peter Halpern\, soloist and Edwin Swanborn\, organist\, www.zamir.org\, www.JewishChoralMusic.com\n\nListen to this beautiful choir here! For more information visit http://www.zamir.org.\n  \n 
URL:https://newtonculture.org/event/zamir-chorale-of-boston-musical-message-for-the-week-2020-06-08/2020-06-15/
LOCATION:YouTube
CATEGORIES:Family Friendly,Music
ORGANIZER;CN="Zamir Chorale of Boston":MAILTO:manager@zamir.org
END:VEVENT
BEGIN:VEVENT
DTSTART;VALUE=DATE:20200614
DTEND;VALUE=DATE:20200615
DTSTAMP:20260420T072101
CREATED:20200521T161129Z
LAST-MODIFIED:20200629T170723Z
UID:10018517-1592092800-1592179199@newtonculture.org
SUMMARY:Suzuki School: Online Summer Music Lessons for Children
DESCRIPTION:The Suzuki School of Newton offers individual lessons during the summer for both current SSN students and new students. New students should fill out our inquiry form to begin the enrollment process. We offer a la carte weekly online summer lessons\, with availability especially in piano\, cello\, violin\, flute\, and harp. Click here for more information! \n  \n 
URL:https://newtonculture.org/event/online-summer-music-lessons-for-children-age-6/2020-06-14/
LOCATION:ONLINE\, United Kingdom\, E16 2DQ
CATEGORIES:Culture and Education,Family Friendly,Music
ATTACH;FMTTYPE=image/png:https://newtonculture.org/wp-content/uploads/2020/05/online-suzuki-lessons-for-children.png
ORGANIZER;CN="Suzuki School of Newton":MAILTO:email@suzukinewton.org
END:VEVENT
BEGIN:VEVENT
DTSTART;VALUE=DATE:20200614
DTEND;VALUE=DATE:20200615
DTSTAMP:20260420T072101
CREATED:20200513T173621Z
LAST-MODIFIED:20200923T170754Z
UID:10018310-1592092800-1592179199@newtonculture.org
SUMMARY:Newton Art Association: Shelter in Art
DESCRIPTION:Shelter in Art is a virtual exhibition of work created by Newton Art Association members during the COVID-19 crisis. Click here to view this incredible exhibit online through October 31. \n 
URL:https://newtonculture.org/event/newton-art-association-shelter-in-art/2020-06-14/
LOCATION:ONLINE\, United Kingdom\, E16 2DQ
CATEGORIES:Art,Family Friendly,Free Event
ATTACH;FMTTYPE=image/jpeg:https://newtonculture.org/wp-content/uploads/2020/05/shelter-in-home-exhibition-768x495-1.jpg
ORGANIZER;CN="Newton Art Association":MAILTO:info@newtonartassociation.com
END:VEVENT
BEGIN:VEVENT
DTSTART;VALUE=DATE:20200614
DTEND;VALUE=DATE:20200615
DTSTAMP:20260420T072101
CREATED:20200504T185241Z
LAST-MODIFIED:20200608T172756Z
UID:10018244-1592092800-1592179199@newtonculture.org
SUMMARY:Zamir Chorale of Boston: Weekly Musical Message
DESCRIPTION:Zamir Chorale of Boston is pleased to present its Weekly Musical Message:\n\nBirkas Kohanim Blessings in a time of need (Numbers 6:24-26) Music by Louis Lewandowski The Zamir Chorale of Boston\, Joshua Jacobson\, conductor Cantor Peter Halpern\, soloist and Edwin Swanborn\, organist\, www.zamir.org\, www.JewishChoralMusic.com\n\nListen to this beautiful choir here! For more information visit http://www.zamir.org.\n  \n 
URL:https://newtonculture.org/event/zamir-chorale-of-boston-musical-message-for-the-week-2020-06-08/2020-06-14/
LOCATION:YouTube
CATEGORIES:Family Friendly,Music
ORGANIZER;CN="Zamir Chorale of Boston":MAILTO:manager@zamir.org
END:VEVENT
BEGIN:VEVENT
DTSTART;VALUE=DATE:20200613
DTEND;VALUE=DATE:20200614
DTSTAMP:20260420T072101
CREATED:20200521T161129Z
LAST-MODIFIED:20200629T170723Z
UID:10018516-1592006400-1592092799@newtonculture.org
SUMMARY:Suzuki School: Online Summer Music Lessons for Children
DESCRIPTION:The Suzuki School of Newton offers individual lessons during the summer for both current SSN students and new students. New students should fill out our inquiry form to begin the enrollment process. We offer a la carte weekly online summer lessons\, with availability especially in piano\, cello\, violin\, flute\, and harp. Click here for more information! \n  \n 
URL:https://newtonculture.org/event/online-summer-music-lessons-for-children-age-6/2020-06-13/
LOCATION:ONLINE\, United Kingdom\, E16 2DQ
CATEGORIES:Culture and Education,Family Friendly,Music
ATTACH;FMTTYPE=image/png:https://newtonculture.org/wp-content/uploads/2020/05/online-suzuki-lessons-for-children.png
ORGANIZER;CN="Suzuki School of Newton":MAILTO:email@suzukinewton.org
END:VEVENT
BEGIN:VEVENT
DTSTART;VALUE=DATE:20200613
DTEND;VALUE=DATE:20200614
DTSTAMP:20260420T072101
CREATED:20200513T173621Z
LAST-MODIFIED:20200923T170754Z
UID:10018309-1592006400-1592092799@newtonculture.org
SUMMARY:Newton Art Association: Shelter in Art
DESCRIPTION:Shelter in Art is a virtual exhibition of work created by Newton Art Association members during the COVID-19 crisis. Click here to view this incredible exhibit online through October 31. \n 
URL:https://newtonculture.org/event/newton-art-association-shelter-in-art/2020-06-13/
LOCATION:ONLINE\, United Kingdom\, E16 2DQ
CATEGORIES:Art,Family Friendly,Free Event
ATTACH;FMTTYPE=image/jpeg:https://newtonculture.org/wp-content/uploads/2020/05/shelter-in-home-exhibition-768x495-1.jpg
ORGANIZER;CN="Newton Art Association":MAILTO:info@newtonartassociation.com
END:VEVENT
BEGIN:VEVENT
DTSTART;VALUE=DATE:20200613
DTEND;VALUE=DATE:20200614
DTSTAMP:20260420T072101
CREATED:20200504T185241Z
LAST-MODIFIED:20200608T172756Z
UID:10018243-1592006400-1592092799@newtonculture.org
SUMMARY:Zamir Chorale of Boston: Weekly Musical Message
DESCRIPTION:Zamir Chorale of Boston is pleased to present its Weekly Musical Message:\n\nBirkas Kohanim Blessings in a time of need (Numbers 6:24-26) Music by Louis Lewandowski The Zamir Chorale of Boston\, Joshua Jacobson\, conductor Cantor Peter Halpern\, soloist and Edwin Swanborn\, organist\, www.zamir.org\, www.JewishChoralMusic.com\n\nListen to this beautiful choir here! For more information visit http://www.zamir.org.\n  \n 
URL:https://newtonculture.org/event/zamir-chorale-of-boston-musical-message-for-the-week-2020-06-08/2020-06-13/
LOCATION:YouTube
CATEGORIES:Family Friendly,Music
ORGANIZER;CN="Zamir Chorale of Boston":MAILTO:manager@zamir.org
END:VEVENT
BEGIN:VEVENT
DTSTART;VALUE=DATE:20200612
DTEND;VALUE=DATE:20200613
DTSTAMP:20260420T072101
CREATED:20200521T161129Z
LAST-MODIFIED:20200629T170723Z
UID:10018515-1591920000-1592006399@newtonculture.org
SUMMARY:Suzuki School: Online Summer Music Lessons for Children
DESCRIPTION:The Suzuki School of Newton offers individual lessons during the summer for both current SSN students and new students. New students should fill out our inquiry form to begin the enrollment process. We offer a la carte weekly online summer lessons\, with availability especially in piano\, cello\, violin\, flute\, and harp. Click here for more information! \n  \n 
URL:https://newtonculture.org/event/online-summer-music-lessons-for-children-age-6/2020-06-12/
LOCATION:ONLINE\, United Kingdom\, E16 2DQ
CATEGORIES:Culture and Education,Family Friendly,Music
ATTACH;FMTTYPE=image/png:https://newtonculture.org/wp-content/uploads/2020/05/online-suzuki-lessons-for-children.png
ORGANIZER;CN="Suzuki School of Newton":MAILTO:email@suzukinewton.org
END:VEVENT
BEGIN:VEVENT
DTSTART;VALUE=DATE:20200612
DTEND;VALUE=DATE:20200613
DTSTAMP:20260420T072101
CREATED:20200513T173621Z
LAST-MODIFIED:20200923T170754Z
UID:10018308-1591920000-1592006399@newtonculture.org
SUMMARY:Newton Art Association: Shelter in Art
DESCRIPTION:Shelter in Art is a virtual exhibition of work created by Newton Art Association members during the COVID-19 crisis. Click here to view this incredible exhibit online through October 31. \n 
URL:https://newtonculture.org/event/newton-art-association-shelter-in-art/2020-06-12/
LOCATION:ONLINE\, United Kingdom\, E16 2DQ
CATEGORIES:Art,Family Friendly,Free Event
ATTACH;FMTTYPE=image/jpeg:https://newtonculture.org/wp-content/uploads/2020/05/shelter-in-home-exhibition-768x495-1.jpg
ORGANIZER;CN="Newton Art Association":MAILTO:info@newtonartassociation.com
END:VEVENT
BEGIN:VEVENT
DTSTART;VALUE=DATE:20200612
DTEND;VALUE=DATE:20200613
DTSTAMP:20260420T072101
CREATED:20200504T185241Z
LAST-MODIFIED:20200608T172756Z
UID:10018242-1591920000-1592006399@newtonculture.org
SUMMARY:Zamir Chorale of Boston: Weekly Musical Message
DESCRIPTION:Zamir Chorale of Boston is pleased to present its Weekly Musical Message:\n\nBirkas Kohanim Blessings in a time of need (Numbers 6:24-26) Music by Louis Lewandowski The Zamir Chorale of Boston\, Joshua Jacobson\, conductor Cantor Peter Halpern\, soloist and Edwin Swanborn\, organist\, www.zamir.org\, www.JewishChoralMusic.com\n\nListen to this beautiful choir here! For more information visit http://www.zamir.org.\n  \n 
URL:https://newtonculture.org/event/zamir-chorale-of-boston-musical-message-for-the-week-2020-06-08/2020-06-12/
LOCATION:YouTube
CATEGORIES:Family Friendly,Music
ORGANIZER;CN="Zamir Chorale of Boston":MAILTO:manager@zamir.org
END:VEVENT
BEGIN:VEVENT
DTSTART;VALUE=DATE:20200611
DTEND;VALUE=DATE:20200612
DTSTAMP:20260420T072101
CREATED:20200521T161129Z
LAST-MODIFIED:20200629T170723Z
UID:10018514-1591833600-1591919999@newtonculture.org
SUMMARY:Suzuki School: Online Summer Music Lessons for Children
DESCRIPTION:The Suzuki School of Newton offers individual lessons during the summer for both current SSN students and new students. New students should fill out our inquiry form to begin the enrollment process. We offer a la carte weekly online summer lessons\, with availability especially in piano\, cello\, violin\, flute\, and harp. Click here for more information! \n  \n 
URL:https://newtonculture.org/event/online-summer-music-lessons-for-children-age-6/2020-06-11/
LOCATION:ONLINE\, United Kingdom\, E16 2DQ
CATEGORIES:Culture and Education,Family Friendly,Music
ATTACH;FMTTYPE=image/png:https://newtonculture.org/wp-content/uploads/2020/05/online-suzuki-lessons-for-children.png
ORGANIZER;CN="Suzuki School of Newton":MAILTO:email@suzukinewton.org
END:VEVENT
BEGIN:VEVENT
DTSTART;VALUE=DATE:20200611
DTEND;VALUE=DATE:20200612
DTSTAMP:20260420T072101
CREATED:20200513T173621Z
LAST-MODIFIED:20200923T170754Z
UID:10018307-1591833600-1591919999@newtonculture.org
SUMMARY:Newton Art Association: Shelter in Art
DESCRIPTION:Shelter in Art is a virtual exhibition of work created by Newton Art Association members during the COVID-19 crisis. Click here to view this incredible exhibit online through October 31. \n 
URL:https://newtonculture.org/event/newton-art-association-shelter-in-art/2020-06-11/
LOCATION:ONLINE\, United Kingdom\, E16 2DQ
CATEGORIES:Art,Family Friendly,Free Event
ATTACH;FMTTYPE=image/jpeg:https://newtonculture.org/wp-content/uploads/2020/05/shelter-in-home-exhibition-768x495-1.jpg
ORGANIZER;CN="Newton Art Association":MAILTO:info@newtonartassociation.com
END:VEVENT
BEGIN:VEVENT
DTSTART;VALUE=DATE:20200611
DTEND;VALUE=DATE:20200612
DTSTAMP:20260420T072101
CREATED:20200504T185241Z
LAST-MODIFIED:20200609T184337Z
UID:10018246-1591833600-1591919999@newtonculture.org
SUMMARY:Zamir Chorale of Boston: Weekly Musical Message
DESCRIPTION:Zamir Chorale of Boston is pleased to present its Weekly Musical Message:\n\nBirkas Kohanim Blessings in a time of need (Numbers 6:24-26) Music by Louis Lewandowski The Zamir Chorale of Boston\, Joshua Jacobson\, conductor Cantor Peter Halpern\, soloist and Edwin Swanborn\, organist\, www.zamir.org\, www.JewishChoralMusic.com\n\nListen to this beautiful choir here! For more information visit http://www.zamir.org.\n  \n 
URL:https://newtonculture.org/event/zamir-chorale-of-boston-musical-message-for-the-week-2020-06-08-2020-06-11/
LOCATION:YouTube
CATEGORIES:Family Friendly,Music
ORGANIZER;CN="Zamir Chorale of Boston":MAILTO:manager@zamir.org
END:VEVENT
BEGIN:VEVENT
DTSTART;TZID=America/New_York:20200610T110000
DTEND;TZID=America/New_York:20200610T113000
DTSTAMP:20260420T072101
CREATED:20200603T161312Z
LAST-MODIFIED:20200605T161809Z
UID:10018639-1591786800-1591788600@newtonculture.org
SUMMARY:Newton Free Library Online: Matt Heaton Family Sing-along
DESCRIPTION:Matt Heaton always brings an exuberant energy to his sing-alongs. Peppered with well known classics and original music\, children and adults alike are sure to enjoy the whole program! Visit website for more information. \nZoom link!
URL:https://newtonculture.org/event/newton-free-library-online-matt-heaton-family-sing-along/2020-06-10/
LOCATION:Zoom
CATEGORIES:Community Event,Culture and Education,Family Friendly
ATTACH;FMTTYPE=image/jpeg:https://newtonculture.org/wp-content/uploads/2020/06/matt_heaton.jpg
ORGANIZER;CN="Newton Free Library":MAILTO:admin@newtonfreelibrary.net
END:VEVENT
BEGIN:VEVENT
DTSTART;TZID=America/New_York:20200610T100000
DTEND;TZID=America/New_York:20200610T110000
DTSTAMP:20260420T072101
CREATED:20200603T160934Z
LAST-MODIFIED:20200603T160934Z
UID:10018637-1591783200-1591786800@newtonculture.org
SUMMARY:Newton Free Library Online: Kids Poetry Club
DESCRIPTION:Calling all Poets! Do you love discovering new poems? Would you like to listen to a librarian or a beloved author reading their favorite poems aloud? Do you want to write your own poems and are looking for interesting prompts to get you started? Sign up by Wednesday at 5pm\, and on Thursday we will send you a link to a special read aloud as well as an exciting new poetry writing challenge!  And this is just the beginning: each week we will be sending new content comprised of video links\, new writing prompts and reading suggestions for budding young poets. You only need to sign up once. Geared towards ages 6-9. \nClick here for more information or to register! \n 
URL:https://newtonculture.org/event/newton-free-library-online-kids-poetry-club/
LOCATION:Zoom
CATEGORIES:Community Event,Culture and Education,Family Friendly
ATTACH;FMTTYPE=image/png:https://newtonculture.org/wp-content/uploads/2019/11/Logos-500px-10-newtonlib-e1578597870408.png
ORGANIZER;CN="Newton Free Library":MAILTO:admin@newtonfreelibrary.net
END:VEVENT
BEGIN:VEVENT
DTSTART;VALUE=DATE:20200610
DTEND;VALUE=DATE:20200611
DTSTAMP:20260420T072101
CREATED:20200521T161454Z
LAST-MODIFIED:20200629T170554Z
UID:10018600-1591747200-1591833599@newtonculture.org
SUMMARY:Suzuki School: Online Summer Music Lessons for Adults
DESCRIPTION:Are you a first-time adult learner looking into music lessons for yourself? Or maybe you’re a current music student who needs a new teacher? Suzuki School of Newton offers weekly online lessons for adult learners\, with availability especially in piano\, cello\, violin\, flute\, and harp. Sign-up for an easy four-lesson intro package before committing to a renewal package of 10 lessons. For more information or to register visit here!
URL:https://newtonculture.org/event/online-summer-music-lessons-for-adults/2020-06-10/
LOCATION:ONLINE\, United Kingdom\, E16 2DQ
CATEGORIES:Culture and Education,Family Friendly,Music
ATTACH;FMTTYPE=image/png:https://newtonculture.org/wp-content/uploads/2020/05/online-music-lessons-for-adults.png
ORGANIZER;CN="Suzuki School of Newton":MAILTO:email@suzukinewton.org
END:VEVENT
BEGIN:VEVENT
DTSTART;VALUE=DATE:20200610
DTEND;VALUE=DATE:20200611
DTSTAMP:20260420T072101
CREATED:20200521T161129Z
LAST-MODIFIED:20200629T170723Z
UID:10018513-1591747200-1591833599@newtonculture.org
SUMMARY:Suzuki School: Online Summer Music Lessons for Children
DESCRIPTION:The Suzuki School of Newton offers individual lessons during the summer for both current SSN students and new students. New students should fill out our inquiry form to begin the enrollment process. We offer a la carte weekly online summer lessons\, with availability especially in piano\, cello\, violin\, flute\, and harp. Click here for more information! \n  \n 
URL:https://newtonculture.org/event/online-summer-music-lessons-for-children-age-6/2020-06-10/
LOCATION:ONLINE\, United Kingdom\, E16 2DQ
CATEGORIES:Culture and Education,Family Friendly,Music
ATTACH;FMTTYPE=image/png:https://newtonculture.org/wp-content/uploads/2020/05/online-suzuki-lessons-for-children.png
ORGANIZER;CN="Suzuki School of Newton":MAILTO:email@suzukinewton.org
END:VEVENT
BEGIN:VEVENT
DTSTART;VALUE=DATE:20200610
DTEND;VALUE=DATE:20200611
DTSTAMP:20260420T072101
CREATED:20200513T173621Z
LAST-MODIFIED:20200923T170754Z
UID:10018306-1591747200-1591833599@newtonculture.org
SUMMARY:Newton Art Association: Shelter in Art
DESCRIPTION:Shelter in Art is a virtual exhibition of work created by Newton Art Association members during the COVID-19 crisis. Click here to view this incredible exhibit online through October 31. \n 
URL:https://newtonculture.org/event/newton-art-association-shelter-in-art/2020-06-10/
LOCATION:ONLINE\, United Kingdom\, E16 2DQ
CATEGORIES:Art,Family Friendly,Free Event
ATTACH;FMTTYPE=image/jpeg:https://newtonculture.org/wp-content/uploads/2020/05/shelter-in-home-exhibition-768x495-1.jpg
ORGANIZER;CN="Newton Art Association":MAILTO:info@newtonartassociation.com
END:VEVENT
BEGIN:VEVENT
DTSTART;VALUE=DATE:20200610
DTEND;VALUE=DATE:20200611
DTSTAMP:20260420T072101
CREATED:20200504T202854Z
LAST-MODIFIED:20200504T202854Z
UID:10018255-1591747200-1591833599@newtonculture.org
SUMMARY:Newton Free Library: Kids Poetry Club
DESCRIPTION:Newton Free Library presents Kids Poetry Club. Sign up by Wednesday at 5 pm\, and on Thursday you will be sent a link to a special read aloud as well as an exciting new poetry writing challenge! For more information click here. \n 
URL:https://newtonculture.org/event/newton-free-library-kids-poetry-club/2020-06-10/
LOCATION:ONLINE\, United Kingdom\, E16 2DQ
CATEGORIES:Culture and Education,Family Friendly,Free Event
ATTACH;FMTTYPE=image/png:https://newtonculture.org/wp-content/uploads/2019/11/Logos-500px-10-newtonlib-e1578597870408.png
ORGANIZER;CN="Newton Free Library":MAILTO:admin@newtonfreelibrary.net
END:VEVENT
BEGIN:VEVENT
DTSTART;VALUE=DATE:20200610
DTEND;VALUE=DATE:20200611
DTSTAMP:20260420T072101
CREATED:20200504T185241Z
LAST-MODIFIED:20200608T172756Z
UID:10018241-1591747200-1591833599@newtonculture.org
SUMMARY:Zamir Chorale of Boston: Weekly Musical Message
DESCRIPTION:Zamir Chorale of Boston is pleased to present its Weekly Musical Message:\n\nBirkas Kohanim Blessings in a time of need (Numbers 6:24-26) Music by Louis Lewandowski The Zamir Chorale of Boston\, Joshua Jacobson\, conductor Cantor Peter Halpern\, soloist and Edwin Swanborn\, organist\, www.zamir.org\, www.JewishChoralMusic.com\n\nListen to this beautiful choir here! For more information visit http://www.zamir.org.\n  \n 
URL:https://newtonculture.org/event/zamir-chorale-of-boston-musical-message-for-the-week-2020-06-08/2020-06-10/
LOCATION:YouTube
CATEGORIES:Family Friendly,Music
ORGANIZER;CN="Zamir Chorale of Boston":MAILTO:manager@zamir.org
END:VEVENT
BEGIN:VEVENT
DTSTART;VALUE=DATE:20200609
DTEND;VALUE=DATE:20200610
DTSTAMP:20260420T072101
CREATED:20200521T161129Z
LAST-MODIFIED:20200629T170723Z
UID:10018512-1591660800-1591747199@newtonculture.org
SUMMARY:Suzuki School: Online Summer Music Lessons for Children
DESCRIPTION:The Suzuki School of Newton offers individual lessons during the summer for both current SSN students and new students. New students should fill out our inquiry form to begin the enrollment process. We offer a la carte weekly online summer lessons\, with availability especially in piano\, cello\, violin\, flute\, and harp. Click here for more information! \n  \n 
URL:https://newtonculture.org/event/online-summer-music-lessons-for-children-age-6/2020-06-09/
LOCATION:ONLINE\, United Kingdom\, E16 2DQ
CATEGORIES:Culture and Education,Family Friendly,Music
ATTACH;FMTTYPE=image/png:https://newtonculture.org/wp-content/uploads/2020/05/online-suzuki-lessons-for-children.png
ORGANIZER;CN="Suzuki School of Newton":MAILTO:email@suzukinewton.org
END:VEVENT
BEGIN:VEVENT
DTSTART;VALUE=DATE:20200609
DTEND;VALUE=DATE:20200610
DTSTAMP:20260420T072101
CREATED:20200513T173621Z
LAST-MODIFIED:20200923T170754Z
UID:10018305-1591660800-1591747199@newtonculture.org
SUMMARY:Newton Art Association: Shelter in Art
DESCRIPTION:Shelter in Art is a virtual exhibition of work created by Newton Art Association members during the COVID-19 crisis. Click here to view this incredible exhibit online through October 31. \n 
URL:https://newtonculture.org/event/newton-art-association-shelter-in-art/2020-06-09/
LOCATION:ONLINE\, United Kingdom\, E16 2DQ
CATEGORIES:Art,Family Friendly,Free Event
ATTACH;FMTTYPE=image/jpeg:https://newtonculture.org/wp-content/uploads/2020/05/shelter-in-home-exhibition-768x495-1.jpg
ORGANIZER;CN="Newton Art Association":MAILTO:info@newtonartassociation.com
END:VEVENT
BEGIN:VEVENT
DTSTART;VALUE=DATE:20200609
DTEND;VALUE=DATE:20200610
DTSTAMP:20260420T072101
CREATED:20200504T185241Z
LAST-MODIFIED:20200608T172756Z
UID:10018240-1591660800-1591747199@newtonculture.org
SUMMARY:Zamir Chorale of Boston: Weekly Musical Message
DESCRIPTION:Zamir Chorale of Boston is pleased to present its Weekly Musical Message:\n\nBirkas Kohanim Blessings in a time of need (Numbers 6:24-26) Music by Louis Lewandowski The Zamir Chorale of Boston\, Joshua Jacobson\, conductor Cantor Peter Halpern\, soloist and Edwin Swanborn\, organist\, www.zamir.org\, www.JewishChoralMusic.com\n\nListen to this beautiful choir here! For more information visit http://www.zamir.org.\n  \n 
URL:https://newtonculture.org/event/zamir-chorale-of-boston-musical-message-for-the-week-2020-06-08/2020-06-09/
LOCATION:YouTube
CATEGORIES:Family Friendly,Music
ORGANIZER;CN="Zamir Chorale of Boston":MAILTO:manager@zamir.org
END:VEVENT
BEGIN:VEVENT
DTSTART;TZID=America/New_York:20200608T190000
DTEND;TZID=America/New_York:20200608T203000
DTSTAMP:20260420T072101
CREATED:20200603T160454Z
LAST-MODIFIED:20200603T160454Z
UID:10018633-1591642800-1591648200@newtonculture.org
SUMMARY:Newton Free Library Online: Teen Zoom Poetry
DESCRIPTION:Write your physical distancing blues away with our Teen Zoom Poetry Group with James & Jean. During this time\, we’ll be writing poems based on fun prompts! Have your keyboards\, pencils\, and paper handy! Registration is required to receive the Zoom link for this event. Grades  7-12. \nBegin registration here!
URL:https://newtonculture.org/event/newton-free-library-online-teen-zoom-poetry/2020-06-08/
LOCATION:Zoom
CATEGORIES:Community Event,Culture and Education,Family Friendly
ATTACH;FMTTYPE=image/png:https://newtonculture.org/wp-content/uploads/2020/06/1586312302.png
ORGANIZER;CN="Newton Free Library":MAILTO:admin@newtonfreelibrary.net
END:VEVENT
BEGIN:VEVENT
DTSTART;TZID=America/New_York:20200608T190000
DTEND;TZID=America/New_York:20200608T193000
DTSTAMP:20260420T072101
CREATED:20200603T155959Z
LAST-MODIFIED:20200603T155959Z
UID:10018632-1591642800-1591644600@newtonculture.org
SUMMARY:Newton Free Library Online: Pajama Storytime
DESCRIPTION:Get ready for bed by listening to these stories and songs that will help you drift off to dreamland. Put on your pajamas\, cuddle with a loved one\, and bring your favorite stuffed animal friend!  For kids ages 3 and up. \nZoom Link!
URL:https://newtonculture.org/event/newton-free-library-online-pajama-storytime/
LOCATION:Newton Free Library\, 330 Homer St\, Newton\, MA\, 02459\, United States
CATEGORIES:Community Event,Culture and Education,Family Friendly
ATTACH;FMTTYPE=image/jpeg:https://newtonculture.org/wp-content/uploads/2020/06/pj_storytime.jpg
ORGANIZER;CN="Newton Free Library":MAILTO:admin@newtonfreelibrary.net
END:VEVENT
BEGIN:VEVENT
DTSTART;VALUE=DATE:20200608
DTEND;VALUE=DATE:20200609
DTSTAMP:20260420T072101
CREATED:20200521T161454Z
LAST-MODIFIED:20200629T170554Z
UID:10018599-1591574400-1591660799@newtonculture.org
SUMMARY:Suzuki School: Online Summer Music Lessons for Adults
DESCRIPTION:Are you a first-time adult learner looking into music lessons for yourself? Or maybe you’re a current music student who needs a new teacher? Suzuki School of Newton offers weekly online lessons for adult learners\, with availability especially in piano\, cello\, violin\, flute\, and harp. Sign-up for an easy four-lesson intro package before committing to a renewal package of 10 lessons. For more information or to register visit here!
URL:https://newtonculture.org/event/online-summer-music-lessons-for-adults/2020-06-08/
LOCATION:ONLINE\, United Kingdom\, E16 2DQ
CATEGORIES:Culture and Education,Family Friendly,Music
ATTACH;FMTTYPE=image/png:https://newtonculture.org/wp-content/uploads/2020/05/online-music-lessons-for-adults.png
ORGANIZER;CN="Suzuki School of Newton":MAILTO:email@suzukinewton.org
END:VEVENT
BEGIN:VEVENT
DTSTART;VALUE=DATE:20200608
DTEND;VALUE=DATE:20200609
DTSTAMP:20260420T072101
CREATED:20200521T161129Z
LAST-MODIFIED:20200629T170723Z
UID:10018511-1591574400-1591660799@newtonculture.org
SUMMARY:Suzuki School: Online Summer Music Lessons for Children
DESCRIPTION:The Suzuki School of Newton offers individual lessons during the summer for both current SSN students and new students. New students should fill out our inquiry form to begin the enrollment process. We offer a la carte weekly online summer lessons\, with availability especially in piano\, cello\, violin\, flute\, and harp. Click here for more information! \n  \n 
URL:https://newtonculture.org/event/online-summer-music-lessons-for-children-age-6/2020-06-08/
LOCATION:ONLINE\, United Kingdom\, E16 2DQ
CATEGORIES:Culture and Education,Family Friendly,Music
ATTACH;FMTTYPE=image/png:https://newtonculture.org/wp-content/uploads/2020/05/online-suzuki-lessons-for-children.png
ORGANIZER;CN="Suzuki School of Newton":MAILTO:email@suzukinewton.org
END:VEVENT
BEGIN:VEVENT
DTSTART;VALUE=DATE:20200608
DTEND;VALUE=DATE:20200609
DTSTAMP:20260420T072101
CREATED:20200513T173621Z
LAST-MODIFIED:20200923T170754Z
UID:10018304-1591574400-1591660799@newtonculture.org
SUMMARY:Newton Art Association: Shelter in Art
DESCRIPTION:Shelter in Art is a virtual exhibition of work created by Newton Art Association members during the COVID-19 crisis. Click here to view this incredible exhibit online through October 31. \n 
URL:https://newtonculture.org/event/newton-art-association-shelter-in-art/2020-06-08/
LOCATION:ONLINE\, United Kingdom\, E16 2DQ
CATEGORIES:Art,Family Friendly,Free Event
ATTACH;FMTTYPE=image/jpeg:https://newtonculture.org/wp-content/uploads/2020/05/shelter-in-home-exhibition-768x495-1.jpg
ORGANIZER;CN="Newton Art Association":MAILTO:info@newtonartassociation.com
END:VEVENT
BEGIN:VEVENT
DTSTART;VALUE=DATE:20200608
DTEND;VALUE=DATE:20200609
DTSTAMP:20260420T072101
CREATED:20200504T185241Z
LAST-MODIFIED:20200608T172756Z
UID:10018239-1591574400-1591660799@newtonculture.org
SUMMARY:Zamir Chorale of Boston: Weekly Musical Message
DESCRIPTION:Zamir Chorale of Boston is pleased to present its Weekly Musical Message:\n\nBirkas Kohanim Blessings in a time of need (Numbers 6:24-26) Music by Louis Lewandowski The Zamir Chorale of Boston\, Joshua Jacobson\, conductor Cantor Peter Halpern\, soloist and Edwin Swanborn\, organist\, www.zamir.org\, www.JewishChoralMusic.com\n\nListen to this beautiful choir here! For more information visit http://www.zamir.org.\n  \n 
URL:https://newtonculture.org/event/zamir-chorale-of-boston-musical-message-for-the-week-2020-06-08/2020-06-08/
LOCATION:YouTube
CATEGORIES:Family Friendly,Music
ORGANIZER;CN="Zamir Chorale of Boston":MAILTO:manager@zamir.org
END:VEVENT
BEGIN:VEVENT
DTSTART;VALUE=DATE:20200607
DTEND;VALUE=DATE:20200608
DTSTAMP:20260420T072101
CREATED:20200521T161129Z
LAST-MODIFIED:20200629T170723Z
UID:10018510-1591488000-1591574399@newtonculture.org
SUMMARY:Suzuki School: Online Summer Music Lessons for Children
DESCRIPTION:The Suzuki School of Newton offers individual lessons during the summer for both current SSN students and new students. New students should fill out our inquiry form to begin the enrollment process. We offer a la carte weekly online summer lessons\, with availability especially in piano\, cello\, violin\, flute\, and harp. Click here for more information! \n  \n 
URL:https://newtonculture.org/event/online-summer-music-lessons-for-children-age-6/2020-06-07/
LOCATION:ONLINE\, United Kingdom\, E16 2DQ
CATEGORIES:Culture and Education,Family Friendly,Music
ATTACH;FMTTYPE=image/png:https://newtonculture.org/wp-content/uploads/2020/05/online-suzuki-lessons-for-children.png
ORGANIZER;CN="Suzuki School of Newton":MAILTO:email@suzukinewton.org
END:VEVENT
END:VCALENDAR