BEGIN:VCALENDAR
VERSION:2.0
PRODID:-//Newton Cultural Alliance - ECPv6.13.2.1//NONSGML v1.0//EN
CALSCALE:GREGORIAN
METHOD:PUBLISH
X-ORIGINAL-URL:https://newtonculture.org
X-WR-CALDESC:Events for Newton Cultural Alliance
REFRESH-INTERVAL;VALUE=DURATION:PT1H
X-Robots-Tag:noindex
X-PUBLISHED-TTL:PT1H
BEGIN:VTIMEZONE
TZID:America/New_York
BEGIN:DAYLIGHT
TZOFFSETFROM:-0500
TZOFFSETTO:-0400
TZNAME:EDT
DTSTART:20200308T070000
END:DAYLIGHT
BEGIN:STANDARD
TZOFFSETFROM:-0400
TZOFFSETTO:-0500
TZNAME:EST
DTSTART:20201101T060000
END:STANDARD
END:VTIMEZONE
BEGIN:VEVENT
DTSTART;VALUE=DATE:20200609
DTEND;VALUE=DATE:20200610
DTSTAMP:20260420T101715
CREATED:20200521T161129Z
LAST-MODIFIED:20200629T170723Z
UID:10018512-1591660800-1591747199@newtonculture.org
SUMMARY:Suzuki School: Online Summer Music Lessons for Children
DESCRIPTION:The Suzuki School of Newton offers individual lessons during the summer for both current SSN students and new students. New students should fill out our inquiry form to begin the enrollment process. We offer a la carte weekly online summer lessons\, with availability especially in piano\, cello\, violin\, flute\, and harp. Click here for more information! \n  \n 
URL:https://newtonculture.org/event/online-summer-music-lessons-for-children-age-6/2020-06-09/
LOCATION:ONLINE\, United Kingdom\, E16 2DQ
CATEGORIES:Culture and Education,Family Friendly,Music
ATTACH;FMTTYPE=image/png:https://newtonculture.org/wp-content/uploads/2020/05/online-suzuki-lessons-for-children.png
ORGANIZER;CN="Suzuki School of Newton":MAILTO:email@suzukinewton.org
END:VEVENT
BEGIN:VEVENT
DTSTART;VALUE=DATE:20200609
DTEND;VALUE=DATE:20200610
DTSTAMP:20260420T101715
CREATED:20200513T173621Z
LAST-MODIFIED:20200923T170754Z
UID:10018305-1591660800-1591747199@newtonculture.org
SUMMARY:Newton Art Association: Shelter in Art
DESCRIPTION:Shelter in Art is a virtual exhibition of work created by Newton Art Association members during the COVID-19 crisis. Click here to view this incredible exhibit online through October 31. \n 
URL:https://newtonculture.org/event/newton-art-association-shelter-in-art/2020-06-09/
LOCATION:ONLINE\, United Kingdom\, E16 2DQ
CATEGORIES:Art,Family Friendly,Free Event
ATTACH;FMTTYPE=image/jpeg:https://newtonculture.org/wp-content/uploads/2020/05/shelter-in-home-exhibition-768x495-1.jpg
ORGANIZER;CN="Newton Art Association":MAILTO:info@newtonartassociation.com
END:VEVENT
BEGIN:VEVENT
DTSTART;VALUE=DATE:20200609
DTEND;VALUE=DATE:20200610
DTSTAMP:20260420T101715
CREATED:20200504T185241Z
LAST-MODIFIED:20200608T172756Z
UID:10018240-1591660800-1591747199@newtonculture.org
SUMMARY:Zamir Chorale of Boston: Weekly Musical Message
DESCRIPTION:Zamir Chorale of Boston is pleased to present its Weekly Musical Message:\n\nBirkas Kohanim Blessings in a time of need (Numbers 6:24-26) Music by Louis Lewandowski The Zamir Chorale of Boston\, Joshua Jacobson\, conductor Cantor Peter Halpern\, soloist and Edwin Swanborn\, organist\, www.zamir.org\, www.JewishChoralMusic.com\n\nListen to this beautiful choir here! For more information visit http://www.zamir.org.\n  \n 
URL:https://newtonculture.org/event/zamir-chorale-of-boston-musical-message-for-the-week-2020-06-08/2020-06-09/
LOCATION:YouTube
CATEGORIES:Family Friendly,Music
ORGANIZER;CN="Zamir Chorale of Boston":MAILTO:manager@zamir.org
END:VEVENT
BEGIN:VEVENT
DTSTART;TZID=America/New_York:20200608T190000
DTEND;TZID=America/New_York:20200608T203000
DTSTAMP:20260420T101715
CREATED:20200603T160454Z
LAST-MODIFIED:20200603T160454Z
UID:10018633-1591642800-1591648200@newtonculture.org
SUMMARY:Newton Free Library Online: Teen Zoom Poetry
DESCRIPTION:Write your physical distancing blues away with our Teen Zoom Poetry Group with James & Jean. During this time\, we’ll be writing poems based on fun prompts! Have your keyboards\, pencils\, and paper handy! Registration is required to receive the Zoom link for this event. Grades  7-12. \nBegin registration here!
URL:https://newtonculture.org/event/newton-free-library-online-teen-zoom-poetry/2020-06-08/
LOCATION:Zoom
CATEGORIES:Community Event,Culture and Education,Family Friendly
ATTACH;FMTTYPE=image/png:https://newtonculture.org/wp-content/uploads/2020/06/1586312302.png
ORGANIZER;CN="Newton Free Library":MAILTO:admin@newtonfreelibrary.net
END:VEVENT
BEGIN:VEVENT
DTSTART;TZID=America/New_York:20200608T190000
DTEND;TZID=America/New_York:20200608T193000
DTSTAMP:20260420T101715
CREATED:20200603T155959Z
LAST-MODIFIED:20200603T155959Z
UID:10018632-1591642800-1591644600@newtonculture.org
SUMMARY:Newton Free Library Online: Pajama Storytime
DESCRIPTION:Get ready for bed by listening to these stories and songs that will help you drift off to dreamland. Put on your pajamas\, cuddle with a loved one\, and bring your favorite stuffed animal friend!  For kids ages 3 and up. \nZoom Link!
URL:https://newtonculture.org/event/newton-free-library-online-pajama-storytime/
LOCATION:Newton Free Library\, 330 Homer St\, Newton\, MA\, 02459\, United States
CATEGORIES:Community Event,Culture and Education,Family Friendly
ATTACH;FMTTYPE=image/jpeg:https://newtonculture.org/wp-content/uploads/2020/06/pj_storytime.jpg
ORGANIZER;CN="Newton Free Library":MAILTO:admin@newtonfreelibrary.net
END:VEVENT
BEGIN:VEVENT
DTSTART;VALUE=DATE:20200608
DTEND;VALUE=DATE:20200609
DTSTAMP:20260420T101715
CREATED:20200521T161454Z
LAST-MODIFIED:20200629T170554Z
UID:10018599-1591574400-1591660799@newtonculture.org
SUMMARY:Suzuki School: Online Summer Music Lessons for Adults
DESCRIPTION:Are you a first-time adult learner looking into music lessons for yourself? Or maybe you’re a current music student who needs a new teacher? Suzuki School of Newton offers weekly online lessons for adult learners\, with availability especially in piano\, cello\, violin\, flute\, and harp. Sign-up for an easy four-lesson intro package before committing to a renewal package of 10 lessons. For more information or to register visit here!
URL:https://newtonculture.org/event/online-summer-music-lessons-for-adults/2020-06-08/
LOCATION:ONLINE\, United Kingdom\, E16 2DQ
CATEGORIES:Culture and Education,Family Friendly,Music
ATTACH;FMTTYPE=image/png:https://newtonculture.org/wp-content/uploads/2020/05/online-music-lessons-for-adults.png
ORGANIZER;CN="Suzuki School of Newton":MAILTO:email@suzukinewton.org
END:VEVENT
BEGIN:VEVENT
DTSTART;VALUE=DATE:20200608
DTEND;VALUE=DATE:20200609
DTSTAMP:20260420T101715
CREATED:20200521T161129Z
LAST-MODIFIED:20200629T170723Z
UID:10018511-1591574400-1591660799@newtonculture.org
SUMMARY:Suzuki School: Online Summer Music Lessons for Children
DESCRIPTION:The Suzuki School of Newton offers individual lessons during the summer for both current SSN students and new students. New students should fill out our inquiry form to begin the enrollment process. We offer a la carte weekly online summer lessons\, with availability especially in piano\, cello\, violin\, flute\, and harp. Click here for more information! \n  \n 
URL:https://newtonculture.org/event/online-summer-music-lessons-for-children-age-6/2020-06-08/
LOCATION:ONLINE\, United Kingdom\, E16 2DQ
CATEGORIES:Culture and Education,Family Friendly,Music
ATTACH;FMTTYPE=image/png:https://newtonculture.org/wp-content/uploads/2020/05/online-suzuki-lessons-for-children.png
ORGANIZER;CN="Suzuki School of Newton":MAILTO:email@suzukinewton.org
END:VEVENT
BEGIN:VEVENT
DTSTART;VALUE=DATE:20200608
DTEND;VALUE=DATE:20200609
DTSTAMP:20260420T101715
CREATED:20200513T173621Z
LAST-MODIFIED:20200923T170754Z
UID:10018304-1591574400-1591660799@newtonculture.org
SUMMARY:Newton Art Association: Shelter in Art
DESCRIPTION:Shelter in Art is a virtual exhibition of work created by Newton Art Association members during the COVID-19 crisis. Click here to view this incredible exhibit online through October 31. \n 
URL:https://newtonculture.org/event/newton-art-association-shelter-in-art/2020-06-08/
LOCATION:ONLINE\, United Kingdom\, E16 2DQ
CATEGORIES:Art,Family Friendly,Free Event
ATTACH;FMTTYPE=image/jpeg:https://newtonculture.org/wp-content/uploads/2020/05/shelter-in-home-exhibition-768x495-1.jpg
ORGANIZER;CN="Newton Art Association":MAILTO:info@newtonartassociation.com
END:VEVENT
BEGIN:VEVENT
DTSTART;VALUE=DATE:20200608
DTEND;VALUE=DATE:20200609
DTSTAMP:20260420T101715
CREATED:20200504T185241Z
LAST-MODIFIED:20200608T172756Z
UID:10018239-1591574400-1591660799@newtonculture.org
SUMMARY:Zamir Chorale of Boston: Weekly Musical Message
DESCRIPTION:Zamir Chorale of Boston is pleased to present its Weekly Musical Message:\n\nBirkas Kohanim Blessings in a time of need (Numbers 6:24-26) Music by Louis Lewandowski The Zamir Chorale of Boston\, Joshua Jacobson\, conductor Cantor Peter Halpern\, soloist and Edwin Swanborn\, organist\, www.zamir.org\, www.JewishChoralMusic.com\n\nListen to this beautiful choir here! For more information visit http://www.zamir.org.\n  \n 
URL:https://newtonculture.org/event/zamir-chorale-of-boston-musical-message-for-the-week-2020-06-08/2020-06-08/
LOCATION:YouTube
CATEGORIES:Family Friendly,Music
ORGANIZER;CN="Zamir Chorale of Boston":MAILTO:manager@zamir.org
END:VEVENT
BEGIN:VEVENT
DTSTART;VALUE=DATE:20200607
DTEND;VALUE=DATE:20200608
DTSTAMP:20260420T101715
CREATED:20200521T161129Z
LAST-MODIFIED:20200629T170723Z
UID:10018510-1591488000-1591574399@newtonculture.org
SUMMARY:Suzuki School: Online Summer Music Lessons for Children
DESCRIPTION:The Suzuki School of Newton offers individual lessons during the summer for both current SSN students and new students. New students should fill out our inquiry form to begin the enrollment process. We offer a la carte weekly online summer lessons\, with availability especially in piano\, cello\, violin\, flute\, and harp. Click here for more information! \n  \n 
URL:https://newtonculture.org/event/online-summer-music-lessons-for-children-age-6/2020-06-07/
LOCATION:ONLINE\, United Kingdom\, E16 2DQ
CATEGORIES:Culture and Education,Family Friendly,Music
ATTACH;FMTTYPE=image/png:https://newtonculture.org/wp-content/uploads/2020/05/online-suzuki-lessons-for-children.png
ORGANIZER;CN="Suzuki School of Newton":MAILTO:email@suzukinewton.org
END:VEVENT
BEGIN:VEVENT
DTSTART;VALUE=DATE:20200607
DTEND;VALUE=DATE:20200608
DTSTAMP:20260420T101715
CREATED:20200513T173621Z
LAST-MODIFIED:20200923T170754Z
UID:10018303-1591488000-1591574399@newtonculture.org
SUMMARY:Newton Art Association: Shelter in Art
DESCRIPTION:Shelter in Art is a virtual exhibition of work created by Newton Art Association members during the COVID-19 crisis. Click here to view this incredible exhibit online through October 31. \n 
URL:https://newtonculture.org/event/newton-art-association-shelter-in-art/2020-06-07/
LOCATION:ONLINE\, United Kingdom\, E16 2DQ
CATEGORIES:Art,Family Friendly,Free Event
ATTACH;FMTTYPE=image/jpeg:https://newtonculture.org/wp-content/uploads/2020/05/shelter-in-home-exhibition-768x495-1.jpg
ORGANIZER;CN="Newton Art Association":MAILTO:info@newtonartassociation.com
END:VEVENT
BEGIN:VEVENT
DTSTART;VALUE=DATE:20200606
DTEND;VALUE=DATE:20200607
DTSTAMP:20260420T101715
CREATED:20200521T161129Z
LAST-MODIFIED:20200629T170723Z
UID:10018509-1591401600-1591487999@newtonculture.org
SUMMARY:Suzuki School: Online Summer Music Lessons for Children
DESCRIPTION:The Suzuki School of Newton offers individual lessons during the summer for both current SSN students and new students. New students should fill out our inquiry form to begin the enrollment process. We offer a la carte weekly online summer lessons\, with availability especially in piano\, cello\, violin\, flute\, and harp. Click here for more information! \n  \n 
URL:https://newtonculture.org/event/online-summer-music-lessons-for-children-age-6/2020-06-06/
LOCATION:ONLINE\, United Kingdom\, E16 2DQ
CATEGORIES:Culture and Education,Family Friendly,Music
ATTACH;FMTTYPE=image/png:https://newtonculture.org/wp-content/uploads/2020/05/online-suzuki-lessons-for-children.png
ORGANIZER;CN="Suzuki School of Newton":MAILTO:email@suzukinewton.org
END:VEVENT
BEGIN:VEVENT
DTSTART;VALUE=DATE:20200606
DTEND;VALUE=DATE:20200607
DTSTAMP:20260420T101715
CREATED:20200513T173621Z
LAST-MODIFIED:20200923T170754Z
UID:10018302-1591401600-1591487999@newtonculture.org
SUMMARY:Newton Art Association: Shelter in Art
DESCRIPTION:Shelter in Art is a virtual exhibition of work created by Newton Art Association members during the COVID-19 crisis. Click here to view this incredible exhibit online through October 31. \n 
URL:https://newtonculture.org/event/newton-art-association-shelter-in-art/2020-06-06/
LOCATION:ONLINE\, United Kingdom\, E16 2DQ
CATEGORIES:Art,Family Friendly,Free Event
ATTACH;FMTTYPE=image/jpeg:https://newtonculture.org/wp-content/uploads/2020/05/shelter-in-home-exhibition-768x495-1.jpg
ORGANIZER;CN="Newton Art Association":MAILTO:info@newtonartassociation.com
END:VEVENT
BEGIN:VEVENT
DTSTART;VALUE=DATE:20200605
DTEND;VALUE=DATE:20200606
DTSTAMP:20260420T101715
CREATED:20200521T161129Z
LAST-MODIFIED:20200629T170723Z
UID:10018508-1591315200-1591401599@newtonculture.org
SUMMARY:Suzuki School: Online Summer Music Lessons for Children
DESCRIPTION:The Suzuki School of Newton offers individual lessons during the summer for both current SSN students and new students. New students should fill out our inquiry form to begin the enrollment process. We offer a la carte weekly online summer lessons\, with availability especially in piano\, cello\, violin\, flute\, and harp. Click here for more information! \n  \n 
URL:https://newtonculture.org/event/online-summer-music-lessons-for-children-age-6/2020-06-05/
LOCATION:ONLINE\, United Kingdom\, E16 2DQ
CATEGORIES:Culture and Education,Family Friendly,Music
ATTACH;FMTTYPE=image/png:https://newtonculture.org/wp-content/uploads/2020/05/online-suzuki-lessons-for-children.png
ORGANIZER;CN="Suzuki School of Newton":MAILTO:email@suzukinewton.org
END:VEVENT
BEGIN:VEVENT
DTSTART;VALUE=DATE:20200605
DTEND;VALUE=DATE:20200606
DTSTAMP:20260420T101715
CREATED:20200513T173621Z
LAST-MODIFIED:20200923T170754Z
UID:10018301-1591315200-1591401599@newtonculture.org
SUMMARY:Newton Art Association: Shelter in Art
DESCRIPTION:Shelter in Art is a virtual exhibition of work created by Newton Art Association members during the COVID-19 crisis. Click here to view this incredible exhibit online through October 31. \n 
URL:https://newtonculture.org/event/newton-art-association-shelter-in-art/2020-06-05/
LOCATION:ONLINE\, United Kingdom\, E16 2DQ
CATEGORIES:Art,Family Friendly,Free Event
ATTACH;FMTTYPE=image/jpeg:https://newtonculture.org/wp-content/uploads/2020/05/shelter-in-home-exhibition-768x495-1.jpg
ORGANIZER;CN="Newton Art Association":MAILTO:info@newtonartassociation.com
END:VEVENT
BEGIN:VEVENT
DTSTART;TZID=America/New_York:20200604T183000
DTEND;TZID=America/New_York:20200604T193000
DTSTAMP:20260420T101715
CREATED:20200603T154743Z
LAST-MODIFIED:20200603T154743Z
UID:10018630-1591295400-1591299000@newtonculture.org
SUMMARY:Newton Free Library Online: Drawing for Beginners - It's All About Perspective
DESCRIPTION:Perspective is all around you from the angles of rooftops to the highway that recedes into a point in the distance. Explore the tricks that will let you master perspective in your artwork. \nOn the day of the event you will receive an email with a link to join. At the time of the program simply click on the link and you’ll see the host. For more information email Mare at mparkerotoole.ntn@minlib.net.
URL:https://newtonculture.org/event/newton-free-library-online-drawing-for-beginners-its-all-about-perspective/
LOCATION:Zoom
CATEGORIES:Art,Community Event,Culture and Education,Family Friendly
ATTACH;FMTTYPE=image/png:https://newtonculture.org/wp-content/uploads/2020/06/1590107751-1.png
ORGANIZER;CN="Newton Free Library":MAILTO:admin@newtonfreelibrary.net
END:VEVENT
BEGIN:VEVENT
DTSTART;TZID=America/New_York:20200604T100000
DTEND;TZID=America/New_York:20200604T103000
DTSTAMP:20260420T101715
CREATED:20200406T165810Z
LAST-MODIFIED:20200504T151732Z
UID:10018157-1591264800-1591266600@newtonculture.org
SUMMARY:Newton Free Library: Virtual Storytime
DESCRIPTION:Newton Free Library presents Virtual Storytime on Thursdays at 10:00 a.m. Join Newton Free Library virtually for storytime on Zoom! Watch and enjoy stories\, songs\, and rhymes. Geared towards kids up through age 4. More info at newtonfreelibrary.net.
URL:https://newtonculture.org/event/newton-free-library-virtual-storytime-2-2020-04-30-2020-05-14/2020-06-04/
LOCATION:ONLINE\, United Kingdom\, E16 2DQ
CATEGORIES:Culture and Education,Family Friendly,Free Event
ATTACH;FMTTYPE=image/jpeg:https://newtonculture.org/wp-content/uploads/2020/04/stories_and_craft_newtonfreelibrary.jpg
ORGANIZER;CN="Newton Free Library":MAILTO:admin@newtonfreelibrary.net
END:VEVENT
BEGIN:VEVENT
DTSTART;VALUE=DATE:20200604
DTEND;VALUE=DATE:20200605
DTSTAMP:20260420T101715
CREATED:20200521T161129Z
LAST-MODIFIED:20200629T170723Z
UID:10018507-1591228800-1591315199@newtonculture.org
SUMMARY:Suzuki School: Online Summer Music Lessons for Children
DESCRIPTION:The Suzuki School of Newton offers individual lessons during the summer for both current SSN students and new students. New students should fill out our inquiry form to begin the enrollment process. We offer a la carte weekly online summer lessons\, with availability especially in piano\, cello\, violin\, flute\, and harp. Click here for more information! \n  \n 
URL:https://newtonculture.org/event/online-summer-music-lessons-for-children-age-6/2020-06-04/
LOCATION:ONLINE\, United Kingdom\, E16 2DQ
CATEGORIES:Culture and Education,Family Friendly,Music
ATTACH;FMTTYPE=image/png:https://newtonculture.org/wp-content/uploads/2020/05/online-suzuki-lessons-for-children.png
ORGANIZER;CN="Suzuki School of Newton":MAILTO:email@suzukinewton.org
END:VEVENT
BEGIN:VEVENT
DTSTART;VALUE=DATE:20200604
DTEND;VALUE=DATE:20200605
DTSTAMP:20260420T101715
CREATED:20200513T173621Z
LAST-MODIFIED:20200923T170754Z
UID:10018300-1591228800-1591315199@newtonculture.org
SUMMARY:Newton Art Association: Shelter in Art
DESCRIPTION:Shelter in Art is a virtual exhibition of work created by Newton Art Association members during the COVID-19 crisis. Click here to view this incredible exhibit online through October 31. \n 
URL:https://newtonculture.org/event/newton-art-association-shelter-in-art/2020-06-04/
LOCATION:ONLINE\, United Kingdom\, E16 2DQ
CATEGORIES:Art,Family Friendly,Free Event
ATTACH;FMTTYPE=image/jpeg:https://newtonculture.org/wp-content/uploads/2020/05/shelter-in-home-exhibition-768x495-1.jpg
ORGANIZER;CN="Newton Art Association":MAILTO:info@newtonartassociation.com
END:VEVENT
BEGIN:VEVENT
DTSTART;TZID=America/New_York:20200603T103000
DTEND;TZID=America/New_York:20200603T113000
DTSTAMP:20260420T101715
CREATED:20200406T170603Z
LAST-MODIFIED:20200427T153403Z
UID:10018163-1591180200-1591183800@newtonculture.org
SUMMARY:Historic Newton: Storytime Online!
DESCRIPTION:Historic Newton as moved its Storytime online! Watch their Facebook page every Wednesday at 10:30 a.m. through April 29 for a story and a crafts project\, especially for children ages 0-3. Click here.
URL:https://newtonculture.org/event/historic-newton-storytime-online/2020-06-03/
LOCATION:ONLINE\, United Kingdom\, E16 2DQ
CATEGORIES:Culture and Education,Family Friendly,Free Event
ATTACH;FMTTYPE=image/png:https://newtonculture.org/wp-content/uploads/2019/11/9.png
END:VEVENT
BEGIN:VEVENT
DTSTART;VALUE=DATE:20200603
DTEND;VALUE=DATE:20200604
DTSTAMP:20260420T101715
CREATED:20200521T161454Z
LAST-MODIFIED:20200629T170554Z
UID:10018598-1591142400-1591228799@newtonculture.org
SUMMARY:Suzuki School: Online Summer Music Lessons for Adults
DESCRIPTION:Are you a first-time adult learner looking into music lessons for yourself? Or maybe you’re a current music student who needs a new teacher? Suzuki School of Newton offers weekly online lessons for adult learners\, with availability especially in piano\, cello\, violin\, flute\, and harp. Sign-up for an easy four-lesson intro package before committing to a renewal package of 10 lessons. For more information or to register visit here!
URL:https://newtonculture.org/event/online-summer-music-lessons-for-adults/2020-06-03/
LOCATION:ONLINE\, United Kingdom\, E16 2DQ
CATEGORIES:Culture and Education,Family Friendly,Music
ATTACH;FMTTYPE=image/png:https://newtonculture.org/wp-content/uploads/2020/05/online-music-lessons-for-adults.png
ORGANIZER;CN="Suzuki School of Newton":MAILTO:email@suzukinewton.org
END:VEVENT
BEGIN:VEVENT
DTSTART;VALUE=DATE:20200603
DTEND;VALUE=DATE:20200604
DTSTAMP:20260420T101715
CREATED:20200521T161129Z
LAST-MODIFIED:20200629T170723Z
UID:10018506-1591142400-1591228799@newtonculture.org
SUMMARY:Suzuki School: Online Summer Music Lessons for Children
DESCRIPTION:The Suzuki School of Newton offers individual lessons during the summer for both current SSN students and new students. New students should fill out our inquiry form to begin the enrollment process. We offer a la carte weekly online summer lessons\, with availability especially in piano\, cello\, violin\, flute\, and harp. Click here for more information! \n  \n 
URL:https://newtonculture.org/event/online-summer-music-lessons-for-children-age-6/2020-06-03/
LOCATION:ONLINE\, United Kingdom\, E16 2DQ
CATEGORIES:Culture and Education,Family Friendly,Music
ATTACH;FMTTYPE=image/png:https://newtonculture.org/wp-content/uploads/2020/05/online-suzuki-lessons-for-children.png
ORGANIZER;CN="Suzuki School of Newton":MAILTO:email@suzukinewton.org
END:VEVENT
BEGIN:VEVENT
DTSTART;VALUE=DATE:20200603
DTEND;VALUE=DATE:20200604
DTSTAMP:20260420T101715
CREATED:20200513T173621Z
LAST-MODIFIED:20200923T170754Z
UID:10018299-1591142400-1591228799@newtonculture.org
SUMMARY:Newton Art Association: Shelter in Art
DESCRIPTION:Shelter in Art is a virtual exhibition of work created by Newton Art Association members during the COVID-19 crisis. Click here to view this incredible exhibit online through October 31. \n 
URL:https://newtonculture.org/event/newton-art-association-shelter-in-art/2020-06-03/
LOCATION:ONLINE\, United Kingdom\, E16 2DQ
CATEGORIES:Art,Family Friendly,Free Event
ATTACH;FMTTYPE=image/jpeg:https://newtonculture.org/wp-content/uploads/2020/05/shelter-in-home-exhibition-768x495-1.jpg
ORGANIZER;CN="Newton Art Association":MAILTO:info@newtonartassociation.com
END:VEVENT
BEGIN:VEVENT
DTSTART;VALUE=DATE:20200603
DTEND;VALUE=DATE:20200604
DTSTAMP:20260420T101715
CREATED:20200504T202854Z
LAST-MODIFIED:20200504T202854Z
UID:10018254-1591142400-1591228799@newtonculture.org
SUMMARY:Newton Free Library: Kids Poetry Club
DESCRIPTION:Newton Free Library presents Kids Poetry Club. Sign up by Wednesday at 5 pm\, and on Thursday you will be sent a link to a special read aloud as well as an exciting new poetry writing challenge! For more information click here. \n 
URL:https://newtonculture.org/event/newton-free-library-kids-poetry-club/2020-06-03/
LOCATION:ONLINE\, United Kingdom\, E16 2DQ
CATEGORIES:Culture and Education,Family Friendly,Free Event
ATTACH;FMTTYPE=image/png:https://newtonculture.org/wp-content/uploads/2019/11/Logos-500px-10-newtonlib-e1578597870408.png
ORGANIZER;CN="Newton Free Library":MAILTO:admin@newtonfreelibrary.net
END:VEVENT
BEGIN:VEVENT
DTSTART;TZID=America/New_York:20200602T190000
DTEND;TZID=America/New_York:20200602T203000
DTSTAMP:20260420T101715
CREATED:20200527T155400Z
LAST-MODIFIED:20200527T155400Z
UID:10017761-1591124400-1591129800@newtonculture.org
SUMMARY:Virtual Concert: Women in World Jazz - Music as an Expression of Women’s Dissent
DESCRIPTION:Jazz and Blues were a propelling force in the U.S. during the 1920s\, providing females of all ages with an outlet for rebellion in a time when they were also fighting to win the right to vote. Join us as we celebrate the 100-year anniversary of the passage of the 19th amendment with a Zoom concert featuring Women in World Jazz along with the all-girl Women in World Jazz Junior Performers as they pay tribute to that hard-won battle. Click here to register or for more information.
URL:https://newtonculture.org/event/virtual-concert-women-in-world-jazz-music-as-an-expression-of-womens-dissent/
LOCATION:ONLINE\, United Kingdom\, E16 2DQ
CATEGORIES:Community Event,Culture and Education,Family Friendly,Music
ATTACH;FMTTYPE=image/jpeg:https://newtonculture.org/wp-content/uploads/2020/05/x03_16_Concert_Women_in_World_Jazz.jpg
ORGANIZER;CN="Newton Free Library":MAILTO:admin@newtonfreelibrary.net
END:VEVENT
BEGIN:VEVENT
DTSTART;TZID=America/New_York:20200602T100000
DTEND;TZID=America/New_York:20200602T103000
DTSTAMP:20260420T101715
CREATED:20200406T165223Z
LAST-MODIFIED:20200427T151320Z
UID:10018148-1591092000-1591093800@newtonculture.org
SUMMARY:Newton Free Library: Virtual Storytime
DESCRIPTION:Newton Free Library presents Virtual Storytime on Tuesdays at 10:00 a.m. Join Newton Free Library virtually for storytime on Zoom! Watch and enjoy stories\, songs\, and rhymes. Geared towards kids up through age 4. More info at newtonfreelibrary.net.
URL:https://newtonculture.org/event/newton-free-library-virtual-storytime/2020-06-02/
LOCATION:ONLINE\, United Kingdom\, E16 2DQ
CATEGORIES:Culture and Education,Family Friendly,Free Event
ATTACH;FMTTYPE=image/jpeg:https://newtonculture.org/wp-content/uploads/2020/04/stories_and_craft_newtonfreelibrary.jpg
ORGANIZER;CN="Newton Free Library":MAILTO:admin@newtonfreelibrary.net
END:VEVENT
BEGIN:VEVENT
DTSTART;VALUE=DATE:20200602
DTEND;VALUE=DATE:20200603
DTSTAMP:20260420T101715
CREATED:20200521T161129Z
LAST-MODIFIED:20200629T170723Z
UID:10018505-1591056000-1591142399@newtonculture.org
SUMMARY:Suzuki School: Online Summer Music Lessons for Children
DESCRIPTION:The Suzuki School of Newton offers individual lessons during the summer for both current SSN students and new students. New students should fill out our inquiry form to begin the enrollment process. We offer a la carte weekly online summer lessons\, with availability especially in piano\, cello\, violin\, flute\, and harp. Click here for more information! \n  \n 
URL:https://newtonculture.org/event/online-summer-music-lessons-for-children-age-6/2020-06-02/
LOCATION:ONLINE\, United Kingdom\, E16 2DQ
CATEGORIES:Culture and Education,Family Friendly,Music
ATTACH;FMTTYPE=image/png:https://newtonculture.org/wp-content/uploads/2020/05/online-suzuki-lessons-for-children.png
ORGANIZER;CN="Suzuki School of Newton":MAILTO:email@suzukinewton.org
END:VEVENT
BEGIN:VEVENT
DTSTART;VALUE=DATE:20200602
DTEND;VALUE=DATE:20200603
DTSTAMP:20260420T101715
CREATED:20200513T173621Z
LAST-MODIFIED:20200923T170754Z
UID:10018298-1591056000-1591142399@newtonculture.org
SUMMARY:Newton Art Association: Shelter in Art
DESCRIPTION:Shelter in Art is a virtual exhibition of work created by Newton Art Association members during the COVID-19 crisis. Click here to view this incredible exhibit online through October 31. \n 
URL:https://newtonculture.org/event/newton-art-association-shelter-in-art/2020-06-02/
LOCATION:ONLINE\, United Kingdom\, E16 2DQ
CATEGORIES:Art,Family Friendly,Free Event
ATTACH;FMTTYPE=image/jpeg:https://newtonculture.org/wp-content/uploads/2020/05/shelter-in-home-exhibition-768x495-1.jpg
ORGANIZER;CN="Newton Art Association":MAILTO:info@newtonartassociation.com
END:VEVENT
BEGIN:VEVENT
DTSTART;TZID=America/New_York:20200601T103000
DTEND;TZID=America/New_York:20200601T170000
DTSTAMP:20260420T101715
CREATED:20200504T185241Z
LAST-MODIFIED:20200504T185241Z
UID:10018236-1591007400-1591030800@newtonculture.org
SUMMARY:Zamir Chorale of Boston: musical message for the week
DESCRIPTION:From the 1938 Yiddish musical\, “Mamele\,” with lyrics by Molly Picon and music by Abe Ellstein. Performed in an arrangement by Josh Jacobson with the Zamir Chorale of Boston. Roslyn Barak\, solo. Jim Guttman\, bass. Bob Wiener\, drums. Mark Miller\, clarinet. (CD “An Hour in the Garden of Eden”)  Listen to this beautiful choir here! For more information visit http://www.zamir.org \n  \n 
URL:https://newtonculture.org/event/zamir-chorale-of-boston-musical-message-for-the-week/2020-06-01/
LOCATION:United Kingdom
CATEGORIES:Family Friendly,Music
ORGANIZER;CN="Zamir Chorale of Boston":MAILTO:manager@zamir.org
END:VEVENT
BEGIN:VEVENT
DTSTART;TZID=America/New_York:20200601T090000
DTEND;TZID=America/New_York:20200601T100000
DTSTAMP:20260420T101715
CREATED:20200429T183827Z
LAST-MODIFIED:20200429T183828Z
UID:10017743-1591002000-1591005600@newtonculture.org
SUMMARY:All Newton Music School: Virtual Musical Mornings
DESCRIPTION:All Newton Music School is now showing free Virtual Musical Mornings @Home with Mr. Ken on the school’s website\, allnewton.org. These fun videos feature songs\, coloring books\, and instrument personality activities perfect for kids ages 5 and under. Click here and enjoy the music in the morning…or anytime!
URL:https://newtonculture.org/event/all-newton-music-school-virtual-musical-mornings/2020-06-01/
LOCATION:ONLINE\, United Kingdom\, E16 2DQ
CATEGORIES:Family Friendly,Free Event,Music,Performing Arts
ATTACH;FMTTYPE=image/jpeg:https://newtonculture.org/wp-content/uploads/2020/04/ScreenShot2020-04-21at8.59.31AM.jpg
END:VEVENT
END:VCALENDAR