BEGIN:VCALENDAR
VERSION:2.0
PRODID:-//Newton Cultural Alliance - ECPv6.13.2.1//NONSGML v1.0//EN
CALSCALE:GREGORIAN
METHOD:PUBLISH
X-ORIGINAL-URL:https://newtonculture.org
X-WR-CALDESC:Events for Newton Cultural Alliance
REFRESH-INTERVAL;VALUE=DURATION:PT1H
X-Robots-Tag:noindex
X-PUBLISHED-TTL:PT1H
BEGIN:VTIMEZONE
TZID:America/New_York
BEGIN:DAYLIGHT
TZOFFSETFROM:-0500
TZOFFSETTO:-0400
TZNAME:EDT
DTSTART:20200308T070000
END:DAYLIGHT
BEGIN:STANDARD
TZOFFSETFROM:-0400
TZOFFSETTO:-0500
TZNAME:EST
DTSTART:20201101T060000
END:STANDARD
END:VTIMEZONE
BEGIN:VEVENT
DTSTART;TZID=America/New_York:20200409T100000
DTEND;TZID=America/New_York:20200409T110000
DTSTAMP:20260420T214918
CREATED:20200320T155850Z
LAST-MODIFIED:20200330T173058Z
UID:10015878-1586426400-1586430000@newtonculture.org
SUMMARY:Matt Heaton and the Outside Toys presents "Mornings With Matt"
DESCRIPTION:Children’s musician Matt Heaton\, a favorite at the Newton Free Library\, is broadcasting daily online singlaongs\, 10-11am\, Monday through Friday\, through Facebook Live. Click here to visit his Facebook page.
URL:https://newtonculture.org/event/matt-heaton-and-the-outside-toys-presents-mornings-with-matt/2020-04-09/
LOCATION:United Kingdom
CATEGORIES:Family Friendly,Free Event,Music
ATTACH;FMTTYPE=image/jpeg:https://newtonculture.org/wp-content/uploads/2020/03/64440043_897335647289340_553554261489745920_o.jpg
END:VEVENT
BEGIN:VEVENT
DTSTART;TZID=America/New_York:20200409T100000
DTEND;TZID=America/New_York:20200409T103000
DTSTAMP:20260420T214918
CREATED:20200406T165810Z
LAST-MODIFIED:20200414T163639Z
UID:10018149-1586426400-1586428200@newtonculture.org
SUMMARY:Newton Free Library: Virtual Storytime
DESCRIPTION:Newton Free Library presents Virtual Storytime on Thursdays at 10:00 a.m. Join Newton Free Library virtually for storytime on Zoom! Watch and enjoy stories\, songs\, and rhymes. Geared towards kids up through age 4. More info at newtonfreelibrary.net.
URL:https://newtonculture.org/event/newton-free-library-virtual-storytime-2/2020-04-09/
LOCATION:ONLINE\, United Kingdom\, E16 2DQ
CATEGORIES:Culture and Education,Family Friendly,Free Event
ATTACH;FMTTYPE=image/jpeg:https://newtonculture.org/wp-content/uploads/2020/04/stories_and_craft_newtonfreelibrary.jpg
ORGANIZER;CN="Newton Free Library":MAILTO:admin@newtonfreelibrary.net
END:VEVENT
BEGIN:VEVENT
DTSTART;TZID=America/New_York:20200408T100000
DTEND;TZID=America/New_York:20200408T110000
DTSTAMP:20260420T214918
CREATED:20200320T155850Z
LAST-MODIFIED:20200330T173058Z
UID:10015877-1586340000-1586343600@newtonculture.org
SUMMARY:Matt Heaton and the Outside Toys presents "Mornings With Matt"
DESCRIPTION:Children’s musician Matt Heaton\, a favorite at the Newton Free Library\, is broadcasting daily online singlaongs\, 10-11am\, Monday through Friday\, through Facebook Live. Click here to visit his Facebook page.
URL:https://newtonculture.org/event/matt-heaton-and-the-outside-toys-presents-mornings-with-matt/2020-04-08/
LOCATION:United Kingdom
CATEGORIES:Family Friendly,Free Event,Music
ATTACH;FMTTYPE=image/jpeg:https://newtonculture.org/wp-content/uploads/2020/03/64440043_897335647289340_553554261489745920_o.jpg
END:VEVENT
BEGIN:VEVENT
DTSTART;TZID=America/New_York:20200407T100000
DTEND;TZID=America/New_York:20200407T110000
DTSTAMP:20260420T214918
CREATED:20200320T155850Z
LAST-MODIFIED:20200330T173058Z
UID:10015876-1586253600-1586257200@newtonculture.org
SUMMARY:Matt Heaton and the Outside Toys presents "Mornings With Matt"
DESCRIPTION:Children’s musician Matt Heaton\, a favorite at the Newton Free Library\, is broadcasting daily online singlaongs\, 10-11am\, Monday through Friday\, through Facebook Live. Click here to visit his Facebook page.
URL:https://newtonculture.org/event/matt-heaton-and-the-outside-toys-presents-mornings-with-matt/2020-04-07/
LOCATION:United Kingdom
CATEGORIES:Family Friendly,Free Event,Music
ATTACH;FMTTYPE=image/jpeg:https://newtonculture.org/wp-content/uploads/2020/03/64440043_897335647289340_553554261489745920_o.jpg
END:VEVENT
BEGIN:VEVENT
DTSTART;TZID=America/New_York:20200406T100000
DTEND;TZID=America/New_York:20200406T110000
DTSTAMP:20260420T214918
CREATED:20200320T155850Z
LAST-MODIFIED:20200330T173058Z
UID:10015875-1586167200-1586170800@newtonculture.org
SUMMARY:Matt Heaton and the Outside Toys presents "Mornings With Matt"
DESCRIPTION:Children’s musician Matt Heaton\, a favorite at the Newton Free Library\, is broadcasting daily online singlaongs\, 10-11am\, Monday through Friday\, through Facebook Live. Click here to visit his Facebook page.
URL:https://newtonculture.org/event/matt-heaton-and-the-outside-toys-presents-mornings-with-matt/2020-04-06/
LOCATION:United Kingdom
CATEGORIES:Family Friendly,Free Event,Music
ATTACH;FMTTYPE=image/jpeg:https://newtonculture.org/wp-content/uploads/2020/03/64440043_897335647289340_553554261489745920_o.jpg
END:VEVENT
BEGIN:VEVENT
DTSTART;TZID=America/New_York:20200403T100000
DTEND;TZID=America/New_York:20200403T110000
DTSTAMP:20260420T214918
CREATED:20200320T155850Z
LAST-MODIFIED:20200330T173058Z
UID:10015874-1585908000-1585911600@newtonculture.org
SUMMARY:Matt Heaton and the Outside Toys presents "Mornings With Matt"
DESCRIPTION:Children’s musician Matt Heaton\, a favorite at the Newton Free Library\, is broadcasting daily online singlaongs\, 10-11am\, Monday through Friday\, through Facebook Live. Click here to visit his Facebook page.
URL:https://newtonculture.org/event/matt-heaton-and-the-outside-toys-presents-mornings-with-matt/2020-04-03/
LOCATION:United Kingdom
CATEGORIES:Family Friendly,Free Event,Music
ATTACH;FMTTYPE=image/jpeg:https://newtonculture.org/wp-content/uploads/2020/03/64440043_897335647289340_553554261489745920_o.jpg
END:VEVENT
BEGIN:VEVENT
DTSTART;TZID=America/New_York:20200402T100000
DTEND;TZID=America/New_York:20200402T110000
DTSTAMP:20260420T214918
CREATED:20200320T155850Z
LAST-MODIFIED:20200330T173058Z
UID:10015873-1585821600-1585825200@newtonculture.org
SUMMARY:Matt Heaton and the Outside Toys presents "Mornings With Matt"
DESCRIPTION:Children’s musician Matt Heaton\, a favorite at the Newton Free Library\, is broadcasting daily online singlaongs\, 10-11am\, Monday through Friday\, through Facebook Live. Click here to visit his Facebook page.
URL:https://newtonculture.org/event/matt-heaton-and-the-outside-toys-presents-mornings-with-matt/2020-04-02/
LOCATION:United Kingdom
CATEGORIES:Family Friendly,Free Event,Music
ATTACH;FMTTYPE=image/jpeg:https://newtonculture.org/wp-content/uploads/2020/03/64440043_897335647289340_553554261489745920_o.jpg
END:VEVENT
BEGIN:VEVENT
DTSTART;TZID=America/New_York:20200401T100000
DTEND;TZID=America/New_York:20200401T110000
DTSTAMP:20260420T214918
CREATED:20200320T155850Z
LAST-MODIFIED:20200330T173058Z
UID:10015872-1585735200-1585738800@newtonculture.org
SUMMARY:Matt Heaton and the Outside Toys presents "Mornings With Matt"
DESCRIPTION:Children’s musician Matt Heaton\, a favorite at the Newton Free Library\, is broadcasting daily online singlaongs\, 10-11am\, Monday through Friday\, through Facebook Live. Click here to visit his Facebook page.
URL:https://newtonculture.org/event/matt-heaton-and-the-outside-toys-presents-mornings-with-matt/2020-04-01/
LOCATION:United Kingdom
CATEGORIES:Family Friendly,Free Event,Music
ATTACH;FMTTYPE=image/jpeg:https://newtonculture.org/wp-content/uploads/2020/03/64440043_897335647289340_553554261489745920_o.jpg
END:VEVENT
BEGIN:VEVENT
DTSTART;TZID=America/New_York:20200331T100000
DTEND;TZID=America/New_York:20200331T110000
DTSTAMP:20260420T214918
CREATED:20200320T155850Z
LAST-MODIFIED:20200330T173058Z
UID:10015871-1585648800-1585652400@newtonculture.org
SUMMARY:Matt Heaton and the Outside Toys presents "Mornings With Matt"
DESCRIPTION:Children’s musician Matt Heaton\, a favorite at the Newton Free Library\, is broadcasting daily online singlaongs\, 10-11am\, Monday through Friday\, through Facebook Live. Click here to visit his Facebook page.
URL:https://newtonculture.org/event/matt-heaton-and-the-outside-toys-presents-mornings-with-matt/2020-03-31/
LOCATION:United Kingdom
CATEGORIES:Family Friendly,Free Event,Music
ATTACH;FMTTYPE=image/jpeg:https://newtonculture.org/wp-content/uploads/2020/03/64440043_897335647289340_553554261489745920_o.jpg
END:VEVENT
BEGIN:VEVENT
DTSTART;TZID=America/New_York:20200330T100000
DTEND;TZID=America/New_York:20200330T110000
DTSTAMP:20260420T214918
CREATED:20200320T155850Z
LAST-MODIFIED:20200330T173058Z
UID:10015870-1585562400-1585566000@newtonculture.org
SUMMARY:Matt Heaton and the Outside Toys presents "Mornings With Matt"
DESCRIPTION:Children’s musician Matt Heaton\, a favorite at the Newton Free Library\, is broadcasting daily online singlaongs\, 10-11am\, Monday through Friday\, through Facebook Live. Click here to visit his Facebook page.
URL:https://newtonculture.org/event/matt-heaton-and-the-outside-toys-presents-mornings-with-matt/2020-03-30/
LOCATION:United Kingdom
CATEGORIES:Family Friendly,Free Event,Music
ATTACH;FMTTYPE=image/jpeg:https://newtonculture.org/wp-content/uploads/2020/03/64440043_897335647289340_553554261489745920_o.jpg
END:VEVENT
BEGIN:VEVENT
DTSTART;TZID=America/New_York:20200329T150000
DTEND;TZID=America/New_York:20200329T160000
DTSTAMP:20260420T214918
CREATED:20200210T194106Z
LAST-MODIFIED:20200317T190408Z
UID:10017744-1585494000-1585497600@newtonculture.org
SUMMARY:All Newton Music School Family Concert: The Bremen Town Musicians CANCELED
DESCRIPTION:This tale\, narrated by Evan Haas\, is accompanied by wind and string faculty. Introduce your  family to the instruments of the orchestra! \nYouth Tickets: $5\nAdult Tickets: $15
URL:https://newtonculture.org/event/all-newton-music-school-family-concert-the-bremen-town-musicians/
LOCATION:All Newton Music School\, 321 Chestnut St\, West Newton\, MA\, 02465\, United States
CATEGORIES:Family Friendly,Music
END:VEVENT
BEGIN:VEVENT
DTSTART;TZID=America/New_York:20200329T120000
DTEND;TZID=America/New_York:20200329T180000
DTSTAMP:20260420T214918
CREATED:20200226T211159Z
LAST-MODIFIED:20200317T184524Z
UID:10015773-1585483200-1585504800@newtonculture.org
SUMMARY:Suzuki School of Newton: Playathon @ The Shops at Chestnut Hill Mall CANCELED
DESCRIPTION:The Playathon is a marathon six-hour performance of various solos\, groups\, and chamber ensembles at the Shops at Chestnut Hill Mall. As our annual scholarship fundraiser\, Suzuki School of Newton students call on their friends and family to support their participation in this event through a tax-deductible donation to the scholarship fund. \nLearn more about this event or make a donation on our Playathon Page.
URL:https://newtonculture.org/event/suzuki-school-of-newton-playathon-the-shops-at-chestnut-hill-mall/
LOCATION:The Shops at Chestnut Hill\, 199 Boylston Street\, Chestnut Hill\, MA\, 02467\, United States
CATEGORIES:Community Event,Family Friendly,Free Event,Music
ORGANIZER;CN="Suzuki School of Newton":MAILTO:email@suzukinewton.org
END:VEVENT
BEGIN:VEVENT
DTSTART;TZID=America/New_York:20200327T100000
DTEND;TZID=America/New_York:20200327T110000
DTSTAMP:20260420T214918
CREATED:20200320T155850Z
LAST-MODIFIED:20200330T173058Z
UID:10015869-1585303200-1585306800@newtonculture.org
SUMMARY:Matt Heaton and the Outside Toys presents "Mornings With Matt"
DESCRIPTION:Children’s musician Matt Heaton\, a favorite at the Newton Free Library\, is broadcasting daily online singlaongs\, 10-11am\, Monday through Friday\, through Facebook Live. Click here to visit his Facebook page.
URL:https://newtonculture.org/event/matt-heaton-and-the-outside-toys-presents-mornings-with-matt/2020-03-27/
LOCATION:United Kingdom
CATEGORIES:Family Friendly,Free Event,Music
ATTACH;FMTTYPE=image/jpeg:https://newtonculture.org/wp-content/uploads/2020/03/64440043_897335647289340_553554261489745920_o.jpg
END:VEVENT
BEGIN:VEVENT
DTSTART;TZID=America/New_York:20200326T100000
DTEND;TZID=America/New_York:20200326T110000
DTSTAMP:20260420T214918
CREATED:20200320T155850Z
LAST-MODIFIED:20200330T173058Z
UID:10015868-1585216800-1585220400@newtonculture.org
SUMMARY:Matt Heaton and the Outside Toys presents "Mornings With Matt"
DESCRIPTION:Children’s musician Matt Heaton\, a favorite at the Newton Free Library\, is broadcasting daily online singlaongs\, 10-11am\, Monday through Friday\, through Facebook Live. Click here to visit his Facebook page.
URL:https://newtonculture.org/event/matt-heaton-and-the-outside-toys-presents-mornings-with-matt/2020-03-26/
LOCATION:United Kingdom
CATEGORIES:Family Friendly,Free Event,Music
ATTACH;FMTTYPE=image/jpeg:https://newtonculture.org/wp-content/uploads/2020/03/64440043_897335647289340_553554261489745920_o.jpg
END:VEVENT
BEGIN:VEVENT
DTSTART;TZID=America/New_York:20200325T100000
DTEND;TZID=America/New_York:20200325T110000
DTSTAMP:20260420T214918
CREATED:20200320T155850Z
LAST-MODIFIED:20200330T173058Z
UID:10015867-1585130400-1585134000@newtonculture.org
SUMMARY:Matt Heaton and the Outside Toys presents "Mornings With Matt"
DESCRIPTION:Children’s musician Matt Heaton\, a favorite at the Newton Free Library\, is broadcasting daily online singlaongs\, 10-11am\, Monday through Friday\, through Facebook Live. Click here to visit his Facebook page.
URL:https://newtonculture.org/event/matt-heaton-and-the-outside-toys-presents-mornings-with-matt/2020-03-25/
LOCATION:United Kingdom
CATEGORIES:Family Friendly,Free Event,Music
ATTACH;FMTTYPE=image/jpeg:https://newtonculture.org/wp-content/uploads/2020/03/64440043_897335647289340_553554261489745920_o.jpg
END:VEVENT
BEGIN:VEVENT
DTSTART;TZID=America/New_York:20200324T190000
DTEND;TZID=America/New_York:20200324T200000
DTSTAMP:20260420T214918
CREATED:20200127T213914Z
LAST-MODIFIED:20200317T184413Z
UID:10016343-1585076400-1585080000@newtonculture.org
SUMMARY:SCC Concert: The Nordic Fiddlers Bloc POSTPONED
DESCRIPTION:The Nordic Fiddlers Bloc is a fiddle trio that masterfully blends the traditions of Norway\, Sweden\, and the Shetland Islands. Olav Luksengård Mjelva (Norway)\, Anders Hall (Sweden)\, and Kevin Henderson (Shetland Islands)\, have swiftly gained a reputation for their gripping and unique blend of fiddle music since the inception of the Bloc in early 2009. They maintain a firm focus on the traditions of their home\, while developing a sound that has been described as “meaningful\,””intense\,” and “invigorating.” Their clever use of harmony\, rhythm\, riffs\, and bass lines creates a sound that leaves the listener enthralled but at the same time dumbfounded that the sound only comes from three fiddles. Cost is $20; $10 for SCC members. More info at scandicenter.org. \n“Seldom before can three fiddlers have sounded so well matched as the Nordic Fiddlers Bloc. And seldom before can three fiddles have sounded so much like four and at times five instruments without using electronic trickery.” – The Herald
URL:https://newtonculture.org/event/the-nordic-fiddlers-bloc-at-scc/
LOCATION:Scandinavian Cultural Center\, 206 Waltham St\, Newton\, MA\, 02465\, United States
CATEGORIES:Culture and Education,Family Friendly,Music,Performing Arts
END:VEVENT
BEGIN:VEVENT
DTSTART;TZID=America/New_York:20200324T100000
DTEND;TZID=America/New_York:20200324T110000
DTSTAMP:20260420T214918
CREATED:20200320T155850Z
LAST-MODIFIED:20200330T173058Z
UID:10015866-1585044000-1585047600@newtonculture.org
SUMMARY:Matt Heaton and the Outside Toys presents "Mornings With Matt"
DESCRIPTION:Children’s musician Matt Heaton\, a favorite at the Newton Free Library\, is broadcasting daily online singlaongs\, 10-11am\, Monday through Friday\, through Facebook Live. Click here to visit his Facebook page.
URL:https://newtonculture.org/event/matt-heaton-and-the-outside-toys-presents-mornings-with-matt/2020-03-24/
LOCATION:United Kingdom
CATEGORIES:Family Friendly,Free Event,Music
ATTACH;FMTTYPE=image/jpeg:https://newtonculture.org/wp-content/uploads/2020/03/64440043_897335647289340_553554261489745920_o.jpg
END:VEVENT
BEGIN:VEVENT
DTSTART;TZID=America/New_York:20200323T100000
DTEND;TZID=America/New_York:20200323T110000
DTSTAMP:20260420T214918
CREATED:20200320T155850Z
LAST-MODIFIED:20200330T173058Z
UID:10015865-1584957600-1584961200@newtonculture.org
SUMMARY:Matt Heaton and the Outside Toys presents "Mornings With Matt"
DESCRIPTION:Children’s musician Matt Heaton\, a favorite at the Newton Free Library\, is broadcasting daily online singlaongs\, 10-11am\, Monday through Friday\, through Facebook Live. Click here to visit his Facebook page.
URL:https://newtonculture.org/event/matt-heaton-and-the-outside-toys-presents-mornings-with-matt/2020-03-23/
LOCATION:United Kingdom
CATEGORIES:Family Friendly,Free Event,Music
ATTACH;FMTTYPE=image/jpeg:https://newtonculture.org/wp-content/uploads/2020/03/64440043_897335647289340_553554261489745920_o.jpg
END:VEVENT
BEGIN:VEVENT
DTSTART;TZID=America/New_York:20200321T183000
DTEND;TZID=America/New_York:20200321T193000
DTSTAMP:20260420T214918
CREATED:20200226T211738Z
LAST-MODIFIED:20200317T184315Z
UID:10015774-1584815400-1584819000@newtonculture.org
SUMMARY:Suzuki School Of Newton: Advanced Piano Recital CANCELED
DESCRIPTION:Advanced piano students from the Suzuki School of Newton will perform their polished pieces in this special showcase recital at the brand new location of M. Steinert and Sons\, New England’s premier piano merchant. This performance will also feature additional performances from the Suzuki School of Newton’s very own professional piano faculty. \nThe recital is free and open to the public. For more information\, please visit: http://www.suzukinewton.org/events.html
URL:https://newtonculture.org/event/suzuki-school-of-newton-advanced-piano-recital/
LOCATION:M.Steinert & Sons\, 1069 Washington Street\, West Newton\, MA\, United States
CATEGORIES:Community Event,Culture and Education,Family Friendly,Free Event,Music
ORGANIZER;CN="Suzuki School of Newton":MAILTO:email@suzukinewton.org
END:VEVENT
BEGIN:VEVENT
DTSTART;TZID=America/New_York:20200321T150000
DTEND;TZID=America/New_York:20200321T180000
DTSTAMP:20260420T214918
CREATED:20200226T211941Z
LAST-MODIFIED:20200317T184249Z
UID:10015775-1584802800-1584813600@newtonculture.org
SUMMARY:Suzuki School Of Newton: Violin Graduation Concert CANCELED
DESCRIPTION:Suzuki School of Newton violin students of all ages celebrate their annual graduations from various levels of the graded Suzuki repertoire in an afternoon of performances showcasing their mastery. \n3:00 Books 1 and 2\n4:30 Twinkle and book 3\n5:30 Books 4 and 5 \nNote: Books 6 and 7 graduation will take place on Sunday\, May 10\, 2020\, at 6:15pm at SLC \nFor more information\, please visit: http://www.suzukinewton.org/events.html
URL:https://newtonculture.org/event/suzuki-school-of-newton-violin-graduation-concert/
LOCATION:United Parish of Auburndale\, 64 Hancock St.\, Auburndale\, MA\, 02466\, United States
CATEGORIES:Culture and Education,Family Friendly,Free Event,Music
ORGANIZER;CN="Suzuki School of Newton":MAILTO:email@suzukinewton.org
END:VEVENT
BEGIN:VEVENT
DTSTART;TZID=America/New_York:20200320T100000
DTEND;TZID=America/New_York:20200320T110000
DTSTAMP:20260420T214918
CREATED:20200320T155850Z
LAST-MODIFIED:20200330T173058Z
UID:10015864-1584698400-1584702000@newtonculture.org
SUMMARY:Matt Heaton and the Outside Toys presents "Mornings With Matt"
DESCRIPTION:Children’s musician Matt Heaton\, a favorite at the Newton Free Library\, is broadcasting daily online singlaongs\, 10-11am\, Monday through Friday\, through Facebook Live. Click here to visit his Facebook page.
URL:https://newtonculture.org/event/matt-heaton-and-the-outside-toys-presents-mornings-with-matt/2020-03-20/
LOCATION:United Kingdom
CATEGORIES:Family Friendly,Free Event,Music
ATTACH;FMTTYPE=image/jpeg:https://newtonculture.org/wp-content/uploads/2020/03/64440043_897335647289340_553554261489745920_o.jpg
END:VEVENT
BEGIN:VEVENT
DTSTART;TZID=America/New_York:20200316T190000
DTEND;TZID=America/New_York:20200316T203000
DTSTAMP:20260420T214918
CREATED:20200220T184629Z
LAST-MODIFIED:20200312T155011Z
UID:10017750-1584385200-1584390600@newtonculture.org
SUMMARY:Newton Free Library: Women in World Jazz Concert CANCELED
DESCRIPTION:Jazz and Blues were a propelling force in the U.S. during the 1920s\, providing females of all ages with an outlet for rebellion in a time when they were also fighting to win the right to vote. Join the Newton Free Library as they celebrate the 100-year anniversary of the passage of the 19th amendment with a concert\, featuring Women in World Jazz along with the Women in World Jazz Junior Performers to pay tribute to that hard-won battle. This program is part of the year-long celebrations of the Women’s Right to Vote Coalition of Newton. The concert is geared towards adults and youth (ages 10 and older). Funded by the Newton Cultural Council. FREE and open to the public. 
URL:https://newtonculture.org/event/women-in-world-jazz-music-as-an-expression-of-womens-dissent/
LOCATION:Newton Free Library\, 330 Homer St\, Newton\, MA\, 02459\, United States
CATEGORIES:Culture and Education,Family Friendly,Free Event,Music,Performing Arts
ORGANIZER;CN="Newton Free Library":MAILTO:admin@newtonfreelibrary.net
END:VEVENT
BEGIN:VEVENT
DTSTART;TZID=America/New_York:20200301T150000
DTEND;TZID=America/New_York:20200301T170000
DTSTAMP:20260420T214918
CREATED:20200210T192337Z
LAST-MODIFIED:20200226T162920Z
UID:10017736-1583074800-1583082000@newtonculture.org
SUMMARY:Newton Theatre Company presents: Pinocchio - A Commedia Adventure
DESCRIPTION:This family-friendly original retelling follows the adventures of Pinocchio\, a wooden puppet who wishes to become a real boy. Featuring Liz Adams\, Chiara Durazzini\, Matt Goldstein and Valerie Goldstein. With masks made by Behind the Mask Studio. Lighthearted and funny\, this adaptation will appeal to children of all ages. Cost: $10-20.
URL:https://newtonculture.org/event/newton-theatre-company-presents-pinocchio-a-commedia-adventure/2020-03-01/
LOCATION:Union Church in Waban\, 14 Collins Rd\, Waban\, MA\, 02468\, United States
CATEGORIES:Family Friendly,Performing Arts
ORGANIZER;CN="Newton Theatre Company":MAILTO:info@newtontheatrecompany.com
END:VEVENT
BEGIN:VEVENT
DTSTART;TZID=America/New_York:20200301T150000
DTEND;TZID=America/New_York:20200301T170000
DTSTAMP:20260420T214918
CREATED:20200127T205008Z
LAST-MODIFIED:20200226T170548Z
UID:10016277-1583074800-1583082000@newtonculture.org
SUMMARY:New Phil Family Concert: Meet the Orchestra with Peter and the Wolf
DESCRIPTION: \nThe New Philharmonia Orchestra invites you to discover the magic of Prokofiev’s musical fairy tale\, Peter and the Wolf\, featuring narration from Newton’s own Mayor Ruthanne Fuller. Following the hour-long concert\, there will be a Musical Petting Zoo\, where children of all ages can meet the musicians and instruments that make it all come to life! Adult tickets are $18\, children and students (ID required) are $10. More information at newphil.org
URL:https://newtonculture.org/event/meet-the-orchestra-with-peter-and-the-wolf/
LOCATION:First Baptist Church in Newton\, 848 Beacon St\, Newton\, MA\, 02459\, United States
CATEGORIES:Family Friendly,Music,Performing Arts
ORGANIZER;CN="New Philharmonia Orchestra":MAILTO:info@newphil.org
END:VEVENT
BEGIN:VEVENT
DTSTART;TZID=America/New_York:20200301T150000
DTEND;TZID=America/New_York:20200301T160000
DTSTAMP:20260420T214918
CREATED:20200225T174154Z
LAST-MODIFIED:20200226T170438Z
UID:10015768-1583074800-1583078400@newtonculture.org
SUMMARY:All Newton Music School: Kevin McGinty - Faculty Recital
DESCRIPTION:All Newton Music School piano faculty Kevin McGinty presents a solo recital of Chopin etudes. Following the Sunday faculty recitals\, there is a reception hosted by the Board\, Members of the Corporation\, and Board Emeritus.  FREE and open to the public. RSVP here.
URL:https://newtonculture.org/event/kevin-mcginty-faculty-recital/
LOCATION:All Newton Music School\, 321 Chestnut St\, West Newton\, MA\, 02465\, United States
CATEGORIES:Family Friendly,Free Event,Music,Performing Arts
END:VEVENT
BEGIN:VEVENT
DTSTART;TZID=America/New_York:20200301T130000
DTEND;TZID=America/New_York:20200301T160000
DTSTAMP:20260420T214918
CREATED:20200210T191907Z
LAST-MODIFIED:20200427T150304Z
UID:10017731-1583067600-1583078400@newtonculture.org
SUMMARY:New Art Center: Family Art Drop-In CANCELED
DESCRIPTION:Drop in – everyone makes art! Visit New Art Center for an exciting free program for children with their parents\, grandparents\, or guardians. Explore 2 art-maker spaces; different projects each time! (This is a work-together program; children must be accompanied by an adult.) FREE and open to the public.
URL:https://newtonculture.org/event/new-art-center-family-art-drop-in/2020-03-01/
LOCATION:New Art Center\, 61 Washington Park\, Newton\, MA\, 02460\, United States
CATEGORIES:Art,Family Friendly,Free Event,Visual Arts
ORGANIZER;CN="New Art Center":MAILTO:info@newartcenter.org
END:VEVENT
BEGIN:VEVENT
DTSTART;TZID=America/New_York:20200229T150000
DTEND;TZID=America/New_York:20200229T170000
DTSTAMP:20260420T214918
CREATED:20200210T192337Z
LAST-MODIFIED:20200226T162920Z
UID:10017735-1582988400-1582995600@newtonculture.org
SUMMARY:Newton Theatre Company presents: Pinocchio - A Commedia Adventure
DESCRIPTION:This family-friendly original retelling follows the adventures of Pinocchio\, a wooden puppet who wishes to become a real boy. Featuring Liz Adams\, Chiara Durazzini\, Matt Goldstein and Valerie Goldstein. With masks made by Behind the Mask Studio. Lighthearted and funny\, this adaptation will appeal to children of all ages. Cost: $10-20.
URL:https://newtonculture.org/event/newton-theatre-company-presents-pinocchio-a-commedia-adventure/2020-02-29/2/
LOCATION:Union Church in Waban\, 14 Collins Rd\, Waban\, MA\, 02468\, United States
CATEGORIES:Family Friendly,Performing Arts
ORGANIZER;CN="Newton Theatre Company":MAILTO:info@newtontheatrecompany.com
END:VEVENT
BEGIN:VEVENT
DTSTART;TZID=America/New_York:20200229T100000
DTEND;TZID=America/New_York:20200229T120000
DTSTAMP:20260420T214918
CREATED:20200210T192337Z
LAST-MODIFIED:20200226T162920Z
UID:10017734-1582970400-1582977600@newtonculture.org
SUMMARY:Newton Theatre Company presents: Pinocchio - A Commedia Adventure
DESCRIPTION:This family-friendly original retelling follows the adventures of Pinocchio\, a wooden puppet who wishes to become a real boy. Featuring Liz Adams\, Chiara Durazzini\, Matt Goldstein and Valerie Goldstein. With masks made by Behind the Mask Studio. Lighthearted and funny\, this adaptation will appeal to children of all ages. Cost: $10-20.
URL:https://newtonculture.org/event/newton-theatre-company-presents-pinocchio-a-commedia-adventure/2020-02-29/1/
LOCATION:Union Church in Waban\, 14 Collins Rd\, Waban\, MA\, 02468\, United States
CATEGORIES:Family Friendly,Performing Arts
ORGANIZER;CN="Newton Theatre Company":MAILTO:info@newtontheatrecompany.com
END:VEVENT
BEGIN:VEVENT
DTSTART;TZID=America/New_York:20200209T151500
DTEND;TZID=America/New_York:20200209T181500
DTSTAMP:20260420T214918
CREATED:20200129T183608Z
LAST-MODIFIED:20200210T164606Z
UID:10016355-1581261300-1581272100@newtonculture.org
SUMMARY:Suzuki School of Newton: Student Solo Recitals
DESCRIPTION:Violin\, viola\, cello\, piano\, flute\, guitar\, and harp students from the Suzuki School of Newton will present their polished pieces in two solo recitals: one beginning at 3:15 p.m.\, and a second beginning at 4:45 p.m. Free and open to the public. More info at suzukinewton.org.
URL:https://newtonculture.org/event/student-solo-recitals-suzuki-school-of-newton-2-2/
LOCATION:Scandinavian Cultural Center\, 206 Waltham St\, Newton\, MA\, 02465\, United States
CATEGORIES:Family Friendly,Free Event,Music,Performing Arts
ATTACH;FMTTYPE=image/png:https://newtonculture.org/wp-content/uploads/2019/11/Logos-500px-5-suzuki.png
ORGANIZER;CN="Suzuki School of Newton":MAILTO:email@suzukinewton.org
END:VEVENT
BEGIN:VEVENT
DTSTART;TZID=America/New_York:20200209T150000
DTEND;TZID=America/New_York:20200209T163000
DTSTAMP:20260420T214918
CREATED:20200129T184832Z
LAST-MODIFIED:20200210T164702Z
UID:10017721-1581260400-1581265800@newtonculture.org
SUMMARY:All Newton Music School: Gospel Vocalist Renese King in Concert
DESCRIPTION:Renese King is a talented instrumentalist and arranger whose soulful and moving voice has been called “resplendent” by The Boston Globe and garnered her a Boston Music Award for Gospel Artist of the Year. King has toured with the Boston Pops\, the Tanglewood Festival Chorus\, and many other orchestras\, and was a featured artist on the soundtrack to the Emmy award-winning film Freedom Riders\, which was produced for National Public Television’s American Experience. Single tickets: $15. Visit allnewton.org/events for more info and tickets.
URL:https://newtonculture.org/event/gospel-vocalist-renese-king-in-concert-at-all-newton-music-school/
LOCATION:All Newton Music School\, 321 Chestnut St\, West Newton\, MA\, 02465\, United States
CATEGORIES:Family Friendly,Music,Performing Arts
END:VEVENT
END:VCALENDAR