BEGIN:VCALENDAR
VERSION:2.0
PRODID:-//Newton Cultural Alliance - ECPv6.13.2.1//NONSGML v1.0//EN
CALSCALE:GREGORIAN
METHOD:PUBLISH
X-WR-CALNAME:Newton Cultural Alliance
X-ORIGINAL-URL:https://newtonculture.org
X-WR-CALDESC:Events for Newton Cultural Alliance
REFRESH-INTERVAL;VALUE=DURATION:PT1H
X-Robots-Tag:noindex
X-PUBLISHED-TTL:PT1H
BEGIN:VTIMEZONE
TZID:America/New_York
BEGIN:DAYLIGHT
TZOFFSETFROM:-0500
TZOFFSETTO:-0400
TZNAME:EDT
DTSTART:20200308T070000
END:DAYLIGHT
BEGIN:STANDARD
TZOFFSETFROM:-0400
TZOFFSETTO:-0500
TZNAME:EST
DTSTART:20201101T060000
END:STANDARD
END:VTIMEZONE
BEGIN:VEVENT
DTSTART;VALUE=DATE:20200605
DTEND;VALUE=DATE:20200606
DTSTAMP:20260419T213411
CREATED:20200604T200230Z
LAST-MODIFIED:20200610T150413Z
UID:10018650-1591315200-1591401599@newtonculture.org
SUMMARY:Newton Community Cameras
DESCRIPTION:A photography contest during COVID-19 \n\n\n\nSubmissions accepted June 1\, 2020 through June 30\, 2020 \nPublic Exhibition Place & Dates: TBD \n\n\n\n\n\nHow do we connect when we are physically distant? While COVID 19 continues to impact lives around the world\, we have the opportunity to document this life-altering event in a very personal way through photography and our stories: how it affects our families\, our work\, our community\, and our daily lives. \nA juried exhibition of 20 photographs selected by an arts community committee will be at a location and time to be determined. At the end of the exhibit the framed prints will be returned to the photographers. All contest entries will be archived with Historic Newton so that residents in the future can learn about life in Newton during the COVID-19 pandemic. \nVisit website for submission guidelines.
URL:https://newtonculture.org/event/newton-community-cameras/2020-06-05/
CATEGORIES:Art,Community Event,Culture and Education,Film and Media
ATTACH;FMTTYPE=image/png:https://newtonculture.org/wp-content/uploads/2019/11/9.png
END:VEVENT
BEGIN:VEVENT
DTSTART;VALUE=DATE:20200604
DTEND;VALUE=DATE:20200605
DTSTAMP:20260419T213411
CREATED:20200604T200230Z
LAST-MODIFIED:20200610T150413Z
UID:10018649-1591228800-1591315199@newtonculture.org
SUMMARY:Newton Community Cameras
DESCRIPTION:A photography contest during COVID-19 \n\n\n\nSubmissions accepted June 1\, 2020 through June 30\, 2020 \nPublic Exhibition Place & Dates: TBD \n\n\n\n\n\nHow do we connect when we are physically distant? While COVID 19 continues to impact lives around the world\, we have the opportunity to document this life-altering event in a very personal way through photography and our stories: how it affects our families\, our work\, our community\, and our daily lives. \nA juried exhibition of 20 photographs selected by an arts community committee will be at a location and time to be determined. At the end of the exhibit the framed prints will be returned to the photographers. All contest entries will be archived with Historic Newton so that residents in the future can learn about life in Newton during the COVID-19 pandemic. \nVisit website for submission guidelines.
URL:https://newtonculture.org/event/newton-community-cameras/2020-06-04/
CATEGORIES:Art,Community Event,Culture and Education,Film and Media
ATTACH;FMTTYPE=image/png:https://newtonculture.org/wp-content/uploads/2019/11/9.png
END:VEVENT
BEGIN:VEVENT
DTSTART;VALUE=DATE:20200603
DTEND;VALUE=DATE:20200604
DTSTAMP:20260419T213411
CREATED:20200604T200230Z
LAST-MODIFIED:20200610T150413Z
UID:10018648-1591142400-1591228799@newtonculture.org
SUMMARY:Newton Community Cameras
DESCRIPTION:A photography contest during COVID-19 \n\n\n\nSubmissions accepted June 1\, 2020 through June 30\, 2020 \nPublic Exhibition Place & Dates: TBD \n\n\n\n\n\nHow do we connect when we are physically distant? While COVID 19 continues to impact lives around the world\, we have the opportunity to document this life-altering event in a very personal way through photography and our stories: how it affects our families\, our work\, our community\, and our daily lives. \nA juried exhibition of 20 photographs selected by an arts community committee will be at a location and time to be determined. At the end of the exhibit the framed prints will be returned to the photographers. All contest entries will be archived with Historic Newton so that residents in the future can learn about life in Newton during the COVID-19 pandemic. \nVisit website for submission guidelines.
URL:https://newtonculture.org/event/newton-community-cameras/2020-06-03/
CATEGORIES:Art,Community Event,Culture and Education,Film and Media
ATTACH;FMTTYPE=image/png:https://newtonculture.org/wp-content/uploads/2019/11/9.png
END:VEVENT
BEGIN:VEVENT
DTSTART;VALUE=DATE:20200602
DTEND;VALUE=DATE:20200603
DTSTAMP:20260419T213411
CREATED:20200604T200230Z
LAST-MODIFIED:20200610T150413Z
UID:10018647-1591056000-1591142399@newtonculture.org
SUMMARY:Newton Community Cameras
DESCRIPTION:A photography contest during COVID-19 \n\n\n\nSubmissions accepted June 1\, 2020 through June 30\, 2020 \nPublic Exhibition Place & Dates: TBD \n\n\n\n\n\nHow do we connect when we are physically distant? While COVID 19 continues to impact lives around the world\, we have the opportunity to document this life-altering event in a very personal way through photography and our stories: how it affects our families\, our work\, our community\, and our daily lives. \nA juried exhibition of 20 photographs selected by an arts community committee will be at a location and time to be determined. At the end of the exhibit the framed prints will be returned to the photographers. All contest entries will be archived with Historic Newton so that residents in the future can learn about life in Newton during the COVID-19 pandemic. \nVisit website for submission guidelines.
URL:https://newtonculture.org/event/newton-community-cameras/2020-06-02/
CATEGORIES:Art,Community Event,Culture and Education,Film and Media
ATTACH;FMTTYPE=image/png:https://newtonculture.org/wp-content/uploads/2019/11/9.png
END:VEVENT
BEGIN:VEVENT
DTSTART;VALUE=DATE:20200601
DTEND;VALUE=DATE:20200602
DTSTAMP:20260419T213411
CREATED:20200604T200230Z
LAST-MODIFIED:20200610T150413Z
UID:10018646-1590969600-1591055999@newtonculture.org
SUMMARY:Newton Community Cameras
DESCRIPTION:A photography contest during COVID-19 \n\n\n\nSubmissions accepted June 1\, 2020 through June 30\, 2020 \nPublic Exhibition Place & Dates: TBD \n\n\n\n\n\nHow do we connect when we are physically distant? While COVID 19 continues to impact lives around the world\, we have the opportunity to document this life-altering event in a very personal way through photography and our stories: how it affects our families\, our work\, our community\, and our daily lives. \nA juried exhibition of 20 photographs selected by an arts community committee will be at a location and time to be determined. At the end of the exhibit the framed prints will be returned to the photographers. All contest entries will be archived with Historic Newton so that residents in the future can learn about life in Newton during the COVID-19 pandemic. \nVisit website for submission guidelines.
URL:https://newtonculture.org/event/newton-community-cameras/2020-06-01/
CATEGORIES:Art,Community Event,Culture and Education,Film and Media
ATTACH;FMTTYPE=image/png:https://newtonculture.org/wp-content/uploads/2019/11/9.png
END:VEVENT
BEGIN:VEVENT
DTSTART;VALUE=DATE:20200531
DTEND;VALUE=DATE:20200601
DTSTAMP:20260419T213411
CREATED:20200415T181612Z
LAST-MODIFIED:20200420T191200Z
UID:10018214-1590883200-1590969599@newtonculture.org
SUMMARY:NewTV online tutorials
DESCRIPTION:While NewTV is closed to the public\, we’re happy to present to you online tutorials. These short video lessons will allow you to learn new techniques or brush up on the basics from your home. Click here to view tutorials.
URL:https://newtonculture.org/event/newtv-online-tutorials/2020-05-31/
CATEGORIES:Film and Media,Free Event
ATTACH;FMTTYPE=image/png:https://newtonculture.org/wp-content/uploads/2019/11/Logos-500px-4-newtv.png
ORGANIZER;CN="NewTV":MAILTO:newtv@newtv.org
END:VEVENT
BEGIN:VEVENT
DTSTART;VALUE=DATE:20200530
DTEND;VALUE=DATE:20200531
DTSTAMP:20260419T213411
CREATED:20200415T181612Z
LAST-MODIFIED:20200420T191200Z
UID:10018213-1590796800-1590883199@newtonculture.org
SUMMARY:NewTV online tutorials
DESCRIPTION:While NewTV is closed to the public\, we’re happy to present to you online tutorials. These short video lessons will allow you to learn new techniques or brush up on the basics from your home. Click here to view tutorials.
URL:https://newtonculture.org/event/newtv-online-tutorials/2020-05-30/
CATEGORIES:Film and Media,Free Event
ATTACH;FMTTYPE=image/png:https://newtonculture.org/wp-content/uploads/2019/11/Logos-500px-4-newtv.png
ORGANIZER;CN="NewTV":MAILTO:newtv@newtv.org
END:VEVENT
BEGIN:VEVENT
DTSTART;VALUE=DATE:20200529
DTEND;VALUE=DATE:20200530
DTSTAMP:20260419T213411
CREATED:20200415T181612Z
LAST-MODIFIED:20200420T191200Z
UID:10018212-1590710400-1590796799@newtonculture.org
SUMMARY:NewTV online tutorials
DESCRIPTION:While NewTV is closed to the public\, we’re happy to present to you online tutorials. These short video lessons will allow you to learn new techniques or brush up on the basics from your home. Click here to view tutorials.
URL:https://newtonculture.org/event/newtv-online-tutorials/2020-05-29/
CATEGORIES:Film and Media,Free Event
ATTACH;FMTTYPE=image/png:https://newtonculture.org/wp-content/uploads/2019/11/Logos-500px-4-newtv.png
ORGANIZER;CN="NewTV":MAILTO:newtv@newtv.org
END:VEVENT
BEGIN:VEVENT
DTSTART;VALUE=DATE:20200528
DTEND;VALUE=DATE:20200529
DTSTAMP:20260419T213411
CREATED:20200415T181612Z
LAST-MODIFIED:20200420T191200Z
UID:10018211-1590624000-1590710399@newtonculture.org
SUMMARY:NewTV online tutorials
DESCRIPTION:While NewTV is closed to the public\, we’re happy to present to you online tutorials. These short video lessons will allow you to learn new techniques or brush up on the basics from your home. Click here to view tutorials.
URL:https://newtonculture.org/event/newtv-online-tutorials/2020-05-28/
CATEGORIES:Film and Media,Free Event
ATTACH;FMTTYPE=image/png:https://newtonculture.org/wp-content/uploads/2019/11/Logos-500px-4-newtv.png
ORGANIZER;CN="NewTV":MAILTO:newtv@newtv.org
END:VEVENT
BEGIN:VEVENT
DTSTART;VALUE=DATE:20200527
DTEND;VALUE=DATE:20200528
DTSTAMP:20260419T213411
CREATED:20200415T181612Z
LAST-MODIFIED:20200420T191200Z
UID:10018210-1590537600-1590623999@newtonculture.org
SUMMARY:NewTV online tutorials
DESCRIPTION:While NewTV is closed to the public\, we’re happy to present to you online tutorials. These short video lessons will allow you to learn new techniques or brush up on the basics from your home. Click here to view tutorials.
URL:https://newtonculture.org/event/newtv-online-tutorials/2020-05-27/
CATEGORIES:Film and Media,Free Event
ATTACH;FMTTYPE=image/png:https://newtonculture.org/wp-content/uploads/2019/11/Logos-500px-4-newtv.png
ORGANIZER;CN="NewTV":MAILTO:newtv@newtv.org
END:VEVENT
BEGIN:VEVENT
DTSTART;VALUE=DATE:20200526
DTEND;VALUE=DATE:20200527
DTSTAMP:20260419T213411
CREATED:20200415T181612Z
LAST-MODIFIED:20200420T191200Z
UID:10018209-1590451200-1590537599@newtonculture.org
SUMMARY:NewTV online tutorials
DESCRIPTION:While NewTV is closed to the public\, we’re happy to present to you online tutorials. These short video lessons will allow you to learn new techniques or brush up on the basics from your home. Click here to view tutorials.
URL:https://newtonculture.org/event/newtv-online-tutorials/2020-05-26/
CATEGORIES:Film and Media,Free Event
ATTACH;FMTTYPE=image/png:https://newtonculture.org/wp-content/uploads/2019/11/Logos-500px-4-newtv.png
ORGANIZER;CN="NewTV":MAILTO:newtv@newtv.org
END:VEVENT
BEGIN:VEVENT
DTSTART;VALUE=DATE:20200525
DTEND;VALUE=DATE:20200526
DTSTAMP:20260419T213411
CREATED:20200415T181612Z
LAST-MODIFIED:20200420T191200Z
UID:10018208-1590364800-1590451199@newtonculture.org
SUMMARY:NewTV online tutorials
DESCRIPTION:While NewTV is closed to the public\, we’re happy to present to you online tutorials. These short video lessons will allow you to learn new techniques or brush up on the basics from your home. Click here to view tutorials.
URL:https://newtonculture.org/event/newtv-online-tutorials/2020-05-25/
CATEGORIES:Film and Media,Free Event
ATTACH;FMTTYPE=image/png:https://newtonculture.org/wp-content/uploads/2019/11/Logos-500px-4-newtv.png
ORGANIZER;CN="NewTV":MAILTO:newtv@newtv.org
END:VEVENT
BEGIN:VEVENT
DTSTART;VALUE=DATE:20200524
DTEND;VALUE=DATE:20200525
DTSTAMP:20260419T213411
CREATED:20200415T181612Z
LAST-MODIFIED:20200420T191200Z
UID:10018207-1590278400-1590364799@newtonculture.org
SUMMARY:NewTV online tutorials
DESCRIPTION:While NewTV is closed to the public\, we’re happy to present to you online tutorials. These short video lessons will allow you to learn new techniques or brush up on the basics from your home. Click here to view tutorials.
URL:https://newtonculture.org/event/newtv-online-tutorials/2020-05-24/
CATEGORIES:Film and Media,Free Event
ATTACH;FMTTYPE=image/png:https://newtonculture.org/wp-content/uploads/2019/11/Logos-500px-4-newtv.png
ORGANIZER;CN="NewTV":MAILTO:newtv@newtv.org
END:VEVENT
BEGIN:VEVENT
DTSTART;VALUE=DATE:20200523
DTEND;VALUE=DATE:20200524
DTSTAMP:20260419T213411
CREATED:20200415T181612Z
LAST-MODIFIED:20200420T191200Z
UID:10018206-1590192000-1590278399@newtonculture.org
SUMMARY:NewTV online tutorials
DESCRIPTION:While NewTV is closed to the public\, we’re happy to present to you online tutorials. These short video lessons will allow you to learn new techniques or brush up on the basics from your home. Click here to view tutorials.
URL:https://newtonculture.org/event/newtv-online-tutorials/2020-05-23/
CATEGORIES:Film and Media,Free Event
ATTACH;FMTTYPE=image/png:https://newtonculture.org/wp-content/uploads/2019/11/Logos-500px-4-newtv.png
ORGANIZER;CN="NewTV":MAILTO:newtv@newtv.org
END:VEVENT
BEGIN:VEVENT
DTSTART;VALUE=DATE:20200522
DTEND;VALUE=DATE:20200523
DTSTAMP:20260419T213411
CREATED:20200415T181612Z
LAST-MODIFIED:20200420T191200Z
UID:10018205-1590105600-1590191999@newtonculture.org
SUMMARY:NewTV online tutorials
DESCRIPTION:While NewTV is closed to the public\, we’re happy to present to you online tutorials. These short video lessons will allow you to learn new techniques or brush up on the basics from your home. Click here to view tutorials.
URL:https://newtonculture.org/event/newtv-online-tutorials/2020-05-22/
CATEGORIES:Film and Media,Free Event
ATTACH;FMTTYPE=image/png:https://newtonculture.org/wp-content/uploads/2019/11/Logos-500px-4-newtv.png
ORGANIZER;CN="NewTV":MAILTO:newtv@newtv.org
END:VEVENT
BEGIN:VEVENT
DTSTART;VALUE=DATE:20200521
DTEND;VALUE=DATE:20200522
DTSTAMP:20260419T213411
CREATED:20200415T181612Z
LAST-MODIFIED:20200420T191200Z
UID:10018204-1590019200-1590105599@newtonculture.org
SUMMARY:NewTV online tutorials
DESCRIPTION:While NewTV is closed to the public\, we’re happy to present to you online tutorials. These short video lessons will allow you to learn new techniques or brush up on the basics from your home. Click here to view tutorials.
URL:https://newtonculture.org/event/newtv-online-tutorials/2020-05-21/
CATEGORIES:Film and Media,Free Event
ATTACH;FMTTYPE=image/png:https://newtonculture.org/wp-content/uploads/2019/11/Logos-500px-4-newtv.png
ORGANIZER;CN="NewTV":MAILTO:newtv@newtv.org
END:VEVENT
BEGIN:VEVENT
DTSTART;VALUE=DATE:20200520
DTEND;VALUE=DATE:20200521
DTSTAMP:20260419T213411
CREATED:20200415T181612Z
LAST-MODIFIED:20200420T191200Z
UID:10018203-1589932800-1590019199@newtonculture.org
SUMMARY:NewTV online tutorials
DESCRIPTION:While NewTV is closed to the public\, we’re happy to present to you online tutorials. These short video lessons will allow you to learn new techniques or brush up on the basics from your home. Click here to view tutorials.
URL:https://newtonculture.org/event/newtv-online-tutorials/2020-05-20/
CATEGORIES:Film and Media,Free Event
ATTACH;FMTTYPE=image/png:https://newtonculture.org/wp-content/uploads/2019/11/Logos-500px-4-newtv.png
ORGANIZER;CN="NewTV":MAILTO:newtv@newtv.org
END:VEVENT
BEGIN:VEVENT
DTSTART;VALUE=DATE:20200519
DTEND;VALUE=DATE:20200520
DTSTAMP:20260419T213411
CREATED:20200415T181612Z
LAST-MODIFIED:20200420T191200Z
UID:10018202-1589846400-1589932799@newtonculture.org
SUMMARY:NewTV online tutorials
DESCRIPTION:While NewTV is closed to the public\, we’re happy to present to you online tutorials. These short video lessons will allow you to learn new techniques or brush up on the basics from your home. Click here to view tutorials.
URL:https://newtonculture.org/event/newtv-online-tutorials/2020-05-19/
CATEGORIES:Film and Media,Free Event
ATTACH;FMTTYPE=image/png:https://newtonculture.org/wp-content/uploads/2019/11/Logos-500px-4-newtv.png
ORGANIZER;CN="NewTV":MAILTO:newtv@newtv.org
END:VEVENT
BEGIN:VEVENT
DTSTART;VALUE=DATE:20200518
DTEND;VALUE=DATE:20200519
DTSTAMP:20260419T213411
CREATED:20200415T181612Z
LAST-MODIFIED:20200420T191200Z
UID:10018201-1589760000-1589846399@newtonculture.org
SUMMARY:NewTV online tutorials
DESCRIPTION:While NewTV is closed to the public\, we’re happy to present to you online tutorials. These short video lessons will allow you to learn new techniques or brush up on the basics from your home. Click here to view tutorials.
URL:https://newtonculture.org/event/newtv-online-tutorials/2020-05-18/
CATEGORIES:Film and Media,Free Event
ATTACH;FMTTYPE=image/png:https://newtonculture.org/wp-content/uploads/2019/11/Logos-500px-4-newtv.png
ORGANIZER;CN="NewTV":MAILTO:newtv@newtv.org
END:VEVENT
BEGIN:VEVENT
DTSTART;VALUE=DATE:20200517
DTEND;VALUE=DATE:20200518
DTSTAMP:20260419T213411
CREATED:20200415T181612Z
LAST-MODIFIED:20200420T191200Z
UID:10018200-1589673600-1589759999@newtonculture.org
SUMMARY:NewTV online tutorials
DESCRIPTION:While NewTV is closed to the public\, we’re happy to present to you online tutorials. These short video lessons will allow you to learn new techniques or brush up on the basics from your home. Click here to view tutorials.
URL:https://newtonculture.org/event/newtv-online-tutorials/2020-05-17/
CATEGORIES:Film and Media,Free Event
ATTACH;FMTTYPE=image/png:https://newtonculture.org/wp-content/uploads/2019/11/Logos-500px-4-newtv.png
ORGANIZER;CN="NewTV":MAILTO:newtv@newtv.org
END:VEVENT
BEGIN:VEVENT
DTSTART;VALUE=DATE:20200516
DTEND;VALUE=DATE:20200517
DTSTAMP:20260419T213411
CREATED:20200415T181612Z
LAST-MODIFIED:20200420T191200Z
UID:10018199-1589587200-1589673599@newtonculture.org
SUMMARY:NewTV online tutorials
DESCRIPTION:While NewTV is closed to the public\, we’re happy to present to you online tutorials. These short video lessons will allow you to learn new techniques or brush up on the basics from your home. Click here to view tutorials.
URL:https://newtonculture.org/event/newtv-online-tutorials/2020-05-16/
CATEGORIES:Film and Media,Free Event
ATTACH;FMTTYPE=image/png:https://newtonculture.org/wp-content/uploads/2019/11/Logos-500px-4-newtv.png
ORGANIZER;CN="NewTV":MAILTO:newtv@newtv.org
END:VEVENT
BEGIN:VEVENT
DTSTART;VALUE=DATE:20200515
DTEND;VALUE=DATE:20200516
DTSTAMP:20260419T213411
CREATED:20200415T181612Z
LAST-MODIFIED:20200420T191200Z
UID:10018198-1589500800-1589587199@newtonculture.org
SUMMARY:NewTV online tutorials
DESCRIPTION:While NewTV is closed to the public\, we’re happy to present to you online tutorials. These short video lessons will allow you to learn new techniques or brush up on the basics from your home. Click here to view tutorials.
URL:https://newtonculture.org/event/newtv-online-tutorials/2020-05-15/
CATEGORIES:Film and Media,Free Event
ATTACH;FMTTYPE=image/png:https://newtonculture.org/wp-content/uploads/2019/11/Logos-500px-4-newtv.png
ORGANIZER;CN="NewTV":MAILTO:newtv@newtv.org
END:VEVENT
BEGIN:VEVENT
DTSTART;VALUE=DATE:20200514
DTEND;VALUE=DATE:20200515
DTSTAMP:20260419T213411
CREATED:20200415T181612Z
LAST-MODIFIED:20200420T191200Z
UID:10018197-1589414400-1589500799@newtonculture.org
SUMMARY:NewTV online tutorials
DESCRIPTION:While NewTV is closed to the public\, we’re happy to present to you online tutorials. These short video lessons will allow you to learn new techniques or brush up on the basics from your home. Click here to view tutorials.
URL:https://newtonculture.org/event/newtv-online-tutorials/2020-05-14/
CATEGORIES:Film and Media,Free Event
ATTACH;FMTTYPE=image/png:https://newtonculture.org/wp-content/uploads/2019/11/Logos-500px-4-newtv.png
ORGANIZER;CN="NewTV":MAILTO:newtv@newtv.org
END:VEVENT
BEGIN:VEVENT
DTSTART;VALUE=DATE:20200513
DTEND;VALUE=DATE:20200514
DTSTAMP:20260419T213411
CREATED:20200415T181612Z
LAST-MODIFIED:20200420T191200Z
UID:10018196-1589328000-1589414399@newtonculture.org
SUMMARY:NewTV online tutorials
DESCRIPTION:While NewTV is closed to the public\, we’re happy to present to you online tutorials. These short video lessons will allow you to learn new techniques or brush up on the basics from your home. Click here to view tutorials.
URL:https://newtonculture.org/event/newtv-online-tutorials/2020-05-13/
CATEGORIES:Film and Media,Free Event
ATTACH;FMTTYPE=image/png:https://newtonculture.org/wp-content/uploads/2019/11/Logos-500px-4-newtv.png
ORGANIZER;CN="NewTV":MAILTO:newtv@newtv.org
END:VEVENT
BEGIN:VEVENT
DTSTART;VALUE=DATE:20200512
DTEND;VALUE=DATE:20200513
DTSTAMP:20260419T213411
CREATED:20200415T181612Z
LAST-MODIFIED:20200420T191200Z
UID:10018195-1589241600-1589327999@newtonculture.org
SUMMARY:NewTV online tutorials
DESCRIPTION:While NewTV is closed to the public\, we’re happy to present to you online tutorials. These short video lessons will allow you to learn new techniques or brush up on the basics from your home. Click here to view tutorials.
URL:https://newtonculture.org/event/newtv-online-tutorials/2020-05-12/
CATEGORIES:Film and Media,Free Event
ATTACH;FMTTYPE=image/png:https://newtonculture.org/wp-content/uploads/2019/11/Logos-500px-4-newtv.png
ORGANIZER;CN="NewTV":MAILTO:newtv@newtv.org
END:VEVENT
BEGIN:VEVENT
DTSTART;VALUE=DATE:20200511
DTEND;VALUE=DATE:20200512
DTSTAMP:20260419T213411
CREATED:20200415T181612Z
LAST-MODIFIED:20200420T191200Z
UID:10018194-1589155200-1589241599@newtonculture.org
SUMMARY:NewTV online tutorials
DESCRIPTION:While NewTV is closed to the public\, we’re happy to present to you online tutorials. These short video lessons will allow you to learn new techniques or brush up on the basics from your home. Click here to view tutorials.
URL:https://newtonculture.org/event/newtv-online-tutorials/2020-05-11/
CATEGORIES:Film and Media,Free Event
ATTACH;FMTTYPE=image/png:https://newtonculture.org/wp-content/uploads/2019/11/Logos-500px-4-newtv.png
ORGANIZER;CN="NewTV":MAILTO:newtv@newtv.org
END:VEVENT
BEGIN:VEVENT
DTSTART;VALUE=DATE:20200510
DTEND;VALUE=DATE:20200511
DTSTAMP:20260419T213411
CREATED:20200415T181612Z
LAST-MODIFIED:20200420T191200Z
UID:10018193-1589068800-1589155199@newtonculture.org
SUMMARY:NewTV online tutorials
DESCRIPTION:While NewTV is closed to the public\, we’re happy to present to you online tutorials. These short video lessons will allow you to learn new techniques or brush up on the basics from your home. Click here to view tutorials.
URL:https://newtonculture.org/event/newtv-online-tutorials/2020-05-10/
CATEGORIES:Film and Media,Free Event
ATTACH;FMTTYPE=image/png:https://newtonculture.org/wp-content/uploads/2019/11/Logos-500px-4-newtv.png
ORGANIZER;CN="NewTV":MAILTO:newtv@newtv.org
END:VEVENT
BEGIN:VEVENT
DTSTART;VALUE=DATE:20200509
DTEND;VALUE=DATE:20200510
DTSTAMP:20260419T213411
CREATED:20200415T181612Z
LAST-MODIFIED:20200420T191200Z
UID:10018192-1588982400-1589068799@newtonculture.org
SUMMARY:NewTV online tutorials
DESCRIPTION:While NewTV is closed to the public\, we’re happy to present to you online tutorials. These short video lessons will allow you to learn new techniques or brush up on the basics from your home. Click here to view tutorials.
URL:https://newtonculture.org/event/newtv-online-tutorials/2020-05-09/
CATEGORIES:Film and Media,Free Event
ATTACH;FMTTYPE=image/png:https://newtonculture.org/wp-content/uploads/2019/11/Logos-500px-4-newtv.png
ORGANIZER;CN="NewTV":MAILTO:newtv@newtv.org
END:VEVENT
BEGIN:VEVENT
DTSTART;VALUE=DATE:20200508
DTEND;VALUE=DATE:20200509
DTSTAMP:20260419T213411
CREATED:20200415T181612Z
LAST-MODIFIED:20200420T191200Z
UID:10018191-1588896000-1588982399@newtonculture.org
SUMMARY:NewTV online tutorials
DESCRIPTION:While NewTV is closed to the public\, we’re happy to present to you online tutorials. These short video lessons will allow you to learn new techniques or brush up on the basics from your home. Click here to view tutorials.
URL:https://newtonculture.org/event/newtv-online-tutorials/2020-05-08/
CATEGORIES:Film and Media,Free Event
ATTACH;FMTTYPE=image/png:https://newtonculture.org/wp-content/uploads/2019/11/Logos-500px-4-newtv.png
ORGANIZER;CN="NewTV":MAILTO:newtv@newtv.org
END:VEVENT
BEGIN:VEVENT
DTSTART;VALUE=DATE:20200507
DTEND;VALUE=DATE:20200508
DTSTAMP:20260419T213411
CREATED:20200415T181612Z
LAST-MODIFIED:20200420T191200Z
UID:10018190-1588809600-1588895999@newtonculture.org
SUMMARY:NewTV online tutorials
DESCRIPTION:While NewTV is closed to the public\, we’re happy to present to you online tutorials. These short video lessons will allow you to learn new techniques or brush up on the basics from your home. Click here to view tutorials.
URL:https://newtonculture.org/event/newtv-online-tutorials/2020-05-07/
CATEGORIES:Film and Media,Free Event
ATTACH;FMTTYPE=image/png:https://newtonculture.org/wp-content/uploads/2019/11/Logos-500px-4-newtv.png
ORGANIZER;CN="NewTV":MAILTO:newtv@newtv.org
END:VEVENT
END:VCALENDAR