BEGIN:VCALENDAR
VERSION:2.0
PRODID:-//Newton Cultural Alliance - ECPv6.13.2.1//NONSGML v1.0//EN
CALSCALE:GREGORIAN
METHOD:PUBLISH
X-ORIGINAL-URL:https://newtonculture.org
X-WR-CALDESC:Events for Newton Cultural Alliance
REFRESH-INTERVAL;VALUE=DURATION:PT1H
X-Robots-Tag:noindex
X-PUBLISHED-TTL:PT1H
BEGIN:VTIMEZONE
TZID:America/New_York
BEGIN:DAYLIGHT
TZOFFSETFROM:-0500
TZOFFSETTO:-0400
TZNAME:EDT
DTSTART:20210314T070000
END:DAYLIGHT
BEGIN:STANDARD
TZOFFSETFROM:-0400
TZOFFSETTO:-0500
TZNAME:EST
DTSTART:20211107T060000
END:STANDARD
END:VTIMEZONE
BEGIN:VEVENT
DTSTART;VALUE=DATE:20210901
DTEND;VALUE=DATE:20210902
DTSTAMP:20260422T171516
CREATED:20210819T172147Z
LAST-MODIFIED:20210819T172147Z
UID:10019888-1630454400-1630540799@newtonculture.org
SUMMARY:NewTV's Summer Photo Contest
DESCRIPTION:Join in on the fun by voting in NewTV’s Summer Photo Contest. Amazing entries from all over Newton have been submitted and are waiting for your verdict. Voting ends Friday\, September 3\, and winners will be announced on Tuesday\, September 7. Choose the best overall image and the “in and around Newton” favorite by casting your ballot here.
URL:https://newtonculture.org/event/newtvs-summer-photo-contest/2021-09-01/
LOCATION:ONLINE\, United Kingdom\, E16 2DQ
CATEGORIES:Community Event,Film and Media,Free Event
ATTACH;FMTTYPE=image/png:https://newtonculture.org/wp-content/uploads/2021/08/unnamed-1.png
ORGANIZER;CN="NewTV":MAILTO:newtv@newtv.org
END:VEVENT
BEGIN:VEVENT
DTSTART;VALUE=DATE:20210902
DTEND;VALUE=DATE:20210903
DTSTAMP:20260422T171516
CREATED:20210819T172147Z
LAST-MODIFIED:20210819T172147Z
UID:10019889-1630540800-1630627199@newtonculture.org
SUMMARY:NewTV's Summer Photo Contest
DESCRIPTION:Join in on the fun by voting in NewTV’s Summer Photo Contest. Amazing entries from all over Newton have been submitted and are waiting for your verdict. Voting ends Friday\, September 3\, and winners will be announced on Tuesday\, September 7. Choose the best overall image and the “in and around Newton” favorite by casting your ballot here.
URL:https://newtonculture.org/event/newtvs-summer-photo-contest/2021-09-02/
LOCATION:ONLINE\, United Kingdom\, E16 2DQ
CATEGORIES:Community Event,Film and Media,Free Event
ATTACH;FMTTYPE=image/png:https://newtonculture.org/wp-content/uploads/2021/08/unnamed-1.png
ORGANIZER;CN="NewTV":MAILTO:newtv@newtv.org
END:VEVENT
BEGIN:VEVENT
DTSTART;TZID=America/New_York:20210902T160000
DTEND;TZID=America/New_York:20210902T173000
DTSTAMP:20260422T171516
CREATED:20210816T160228Z
LAST-MODIFIED:20210816T160228Z
UID:10019872-1630598400-1630603800@newtonculture.org
SUMMARY:Outdoor Lawn Games at the Newton Free Library
DESCRIPTION:Put on your game face  for an afternoon of lawn games!  We have cornhole\, giant jenga\, throw throw burrito\, and croquet. Meet us in the Teen Area to venture outside. For rising 6th to 12th graders.
URL:https://newtonculture.org/event/outdoor-lawn-games-at-the-newton-free-library/
LOCATION:Newton Free Library\, 330 Homer St\, Newton\, MA\, 02459\, United States
CATEGORIES:Community Event,Family Friendly,Free Event
ATTACH;FMTTYPE=image/jpeg:https://newtonculture.org/wp-content/uploads/2021/08/1624459201.jpg
ORGANIZER;CN="Newton Free Library":MAILTO:admin@newtonfreelibrary.net
END:VEVENT
BEGIN:VEVENT
DTSTART;VALUE=DATE:20210903
DTEND;VALUE=DATE:20210904
DTSTAMP:20260422T171516
CREATED:20210819T172147Z
LAST-MODIFIED:20210819T172147Z
UID:10019890-1630627200-1630713599@newtonculture.org
SUMMARY:NewTV's Summer Photo Contest
DESCRIPTION:Join in on the fun by voting in NewTV’s Summer Photo Contest. Amazing entries from all over Newton have been submitted and are waiting for your verdict. Voting ends Friday\, September 3\, and winners will be announced on Tuesday\, September 7. Choose the best overall image and the “in and around Newton” favorite by casting your ballot here.
URL:https://newtonculture.org/event/newtvs-summer-photo-contest/2021-09-03/
LOCATION:ONLINE\, United Kingdom\, E16 2DQ
CATEGORIES:Community Event,Film and Media,Free Event
ATTACH;FMTTYPE=image/png:https://newtonculture.org/wp-content/uploads/2021/08/unnamed-1.png
ORGANIZER;CN="NewTV":MAILTO:newtv@newtv.org
END:VEVENT
BEGIN:VEVENT
DTSTART;TZID=America/New_York:20210912T160000
DTEND;TZID=America/New_York:20210912T180000
DTSTAMP:20260422T171516
CREATED:20210824T154401Z
LAST-MODIFIED:20210824T154401Z
UID:10018949-1631462400-1631469600@newtonculture.org
SUMMARY:Suzuki School of Newton presents: Back to School Block Party
DESCRIPTION:Dust off your instrument and get ready for the new school year with a celebration! The Back To School Block Party will consist of a play-in and a picnic on September 12th from 4:00-6:00pm at our school’s parking lot. We hope to see you then! (Rain date is Sep. 19th from 4:00-6:00).
URL:https://newtonculture.org/event/suzuki-school-of-newton-presents-back-to-school-block-party/
LOCATION:Suzuki School of Newton\, 1615 Beacon St\, Waban\, MA\, 02468\, United States
CATEGORIES:Community Event,Family Friendly,Free Event,Music
ATTACH;FMTTYPE=image/png:https://newtonculture.org/wp-content/uploads/2021/08/BlockPartyPromo.png
ORGANIZER;CN="Suzuki School of Newton":MAILTO:email@suzukinewton.org
END:VEVENT
END:VCALENDAR