BEGIN:VCALENDAR
VERSION:2.0
PRODID:-//Newton Cultural Alliance - ECPv6.13.2.1//NONSGML v1.0//EN
CALSCALE:GREGORIAN
METHOD:PUBLISH
X-ORIGINAL-URL:https://newtonculture.org
X-WR-CALDESC:Events for Newton Cultural Alliance
REFRESH-INTERVAL;VALUE=DURATION:PT1H
X-Robots-Tag:noindex
X-PUBLISHED-TTL:PT1H
BEGIN:VTIMEZONE
TZID:America/New_York
BEGIN:DAYLIGHT
TZOFFSETFROM:-0500
TZOFFSETTO:-0400
TZNAME:EDT
DTSTART:20240310T070000
END:DAYLIGHT
BEGIN:STANDARD
TZOFFSETFROM:-0400
TZOFFSETTO:-0500
TZNAME:EST
DTSTART:20241103T060000
END:STANDARD
END:VTIMEZONE
BEGIN:VEVENT
DTSTART;TZID=America/New_York:20240908T170000
DTEND;TZID=America/New_York:20240908T180000
DTSTAMP:20260419T134107
CREATED:20240812T193821Z
LAST-MODIFIED:20240812T194202Z
UID:10022242-1725814800-1725818400@newtonculture.org
SUMMARY:2024 Fall Village Concert Series
DESCRIPTION:Newton Community Pride is pleased to announce our 2024 Fall Village Concert Series in Newtonville\, Waban\, and West Newton! The concerts will take place on three Sundays in September: September 8th\, 15th\, and 22nd.\nAll performances are free and accessible to all.\n\n\n\nSunday\, September 8\n5:00 PM – 6:00 PM\nNewtonville\nTrio Courtyard\, 845 Washington Street\nTRIOLOGY\nMixing Jazz and Latin in eclectic arrangements of old and new\, famous and obscure\, hot and cool\,  Triolgy plays a wide variety of material with international influences. Bassist Tal Shalom-Kobi\, drummer Itai Meshorer\, and singer/pianist Reed Cournoyer originate from different continents and each brings their own unique experience to the group. Experience and enjoy straight-ahead swing\, explorations of Latin rhythms\, odd-time signatures on Jazz tunes\, standards\, original compositions\, folk melodies\, and the occasional pop hit.\nRegister here
URL:https://newtonculture.org/event/2024-fall-village-concert-series/
LOCATION:Trio Newton\, 243 Walnut Street\, Unit 213\, Newton\, MA\, 02460\, United States
CATEGORIES:Community Event,Free Event,Music
ATTACH;FMTTYPE=image/png:https://newtonculture.org/wp-content/uploads/2024/08/2024-Fall-Concert-Series-Flyer-FINAL.png
END:VEVENT
BEGIN:VEVENT
DTSTART;TZID=America/New_York:20240915T150000
DTEND;TZID=America/New_York:20240915T160000
DTSTAMP:20260419T134107
CREATED:20240812T194048Z
LAST-MODIFIED:20240812T194048Z
UID:10022243-1726412400-1726416000@newtonculture.org
SUMMARY:2024 Fall Village Concert Series
DESCRIPTION:2024 Fall Village Concert Series\n\n\n\n\n\n\n\n\nSunday\, September 15\n3:00 PM – 4:00 PM\nWaban\nSuzuki School of Newton\n1615 Beacon Street\nCROWES PASTURE\nJoin Monique Byrne and Andy Rogovin for a night of moving and inspirational songs. The duo\, Crowes Pasture\, intimately blends vocal harmonies with a unique instrumental style that is best described as “a banjo-guitar romance.” The soulful folk duo has released two EPs and three full-length albums in just six-years\, and they are presently recording their third full length album. The origin of the group’s name\, Crowes Pasture\, comes from the salt marsh and tidal flats on the north side of Cape Cod. Register here
URL:https://newtonculture.org/event/2024-fall-village-concert-series-2/
LOCATION:Suzuki School of Newton\, 1615 Beacon St\, Waban\, MA\, 02468\, United States
CATEGORIES:Community Event,Free Event,Music
ATTACH;FMTTYPE=image/png:https://newtonculture.org/wp-content/uploads/2024/08/2024-Fall-Concert-Series-Flyer-FINAL.png
END:VEVENT
END:VCALENDAR